Workbook

Sheet CT
I1: Progression du cycle
I2: =IF(MATCH([1]Progression_Cycle4!I4,[1]Problématiques_compétences!$D$1:$D$118,0)>107,"P","") | J2: =IF(MATCH([1]Progression_Cycle4!J4,[1]Problématiques_compétences!$D$1:$D$118,0)>107,"P","") | K2: =IF(MATCH([1]Progression_Cycle4!K4,[1]Problématiques_compétences!$D$1:$D$118,0)>107,"P","") | L2: =IF(MATCH([1]Progression_Cycle4!L4,[1]Problématiques_compétences!$D$1:$D$118,0)>107,"P","") | M2: =IF(MATCH([1]Progression_Cycle4!M4,[1]Problématiques_compétences!$D$1:$D$118,0)>107,"P","") -> P | N2: =IF(MATCH([1]Progression_Cycle4!N4,[1]Problématiques_compétences!$D$1:$D$118,0)>107,"P","") -> P | O2: =IF(MATCH([1]Progression_Cycle4!O4,[1]Problématiques_compétences!$D$1:$D$118,0)>107,"P","") | P2: =IF(MATCH([1]Progression_Cycle4!P4,[1]Problématiques_compétences!$D$1:$D$118,0)>107,"P","") | ... AL2: =IF(MATCH([1]Progression_Cycle4!AL4,[1]Problématiques_compétences!$D$1:$D$118,0)>107,"P","")
A3: Progression pédagogique technologie cycle 4 BENMRAD | D3: Design, innovation et créativité | E3: Les objets et systèmes techniques et les changements induits dans la société | F3: La modélisation et la simulation des objets et systèmes techniques | G3: L’informatique et la programmation | H3: Nombre d'itérations de la compétence | I3: Comment était créée une ouverture dans une habitation ? | J3: Quelles sont les propriétes du mortier ? Quelles solutions apportées pour renforcer la structure ? | K3: Quel est le profil adéquat d’un toit d’une cabane pour résister au vent ? | L3: Quelles sont les nouvelles structures utilisées ? (CAO simulation) | M3: Quelles sont les contraintes liées à la sécurité ? | N3: Comment aménager l'espace dans le collège ? (3D) | O3: Comment détecter une personne et allumer les éclairages dans le couloir sans utiliser un interrupteur ? (Arduino) | P3: Comment assurer la régulation de température ? | S3: Quelles sont les principes physiques et techniques nous permettant de nous chauffer ? | T3: Quelles sont les solutions permettant de nous chauffer à partir de source d'energie inépuisable ? | U3: Comment réguler la température ? (Arduino) | V3: Comment programmer de manière à déclencher l'éclairage dès que la pièce devient sombre ? (anti-intrusion) (arduino) | W3: Comment piloter et paramétrer un objet communiquant ? | X3: Quels sont les matériaux qui permettent d'emmagasiner la chaleur ? Inertie thermique | Y3: Quels sont les objets qui restituent la lumière ? (Sources secondaires, objets diffusants) | Z3: Comment se propage le son ? (Echo) Reflexion des ondes sonores. | AA3: Analyse du besoin | AB3: Elaboration du cahier des charges fonctionelles | AC3: Recherche des solutions électroniques . (Big CI) | AD3: Recherche des solutions mécaniques. (SolidWorks) | AE3: Validation du prototype. Eco conception | AF3: Production | AG3: Programmation | AH3: Communication
A4: Repère séquence | I4: S1 | J4: S2 | K4: S3 | L4: S4 | M4: S5 | N4: S6 | O4: S7 | P4: S8 | Q4: S9 | R4: S10 | S4: S11 | T4: S12 | U4: S13 | V4: S14 | W4: S15 | X4: S16 | Y4: S17 | Z4: S18 | AA4: S19 | AB4: S20 | AC4: S21 | AD4: S22 | AE4: S23 | AF4: S24 | AG4: S25 | AH4: S26 | AI4: S27 | AJ4: S28 | AK4: S29 | AL4: S30
A5: Répartition sur le cycle | I5: 5ème | S5: 4ème | AA5: 3ème
A6: Lien avec les enseignements pratiques interdisciplinaires (EPI)
A7: Domaines du socle | B7: Compétences travaillées | D7: Compétences du programme par thématique
A8: 4 - les systèmes naturels et les systèmes techniques | B8: 1 | C8: Pratiquer des démarches scientifiques et technologiques
B9: CT 1.1 | C9: Imaginer, synthétiser, formaliser et respecter une procédure, un protocole. | D9: DIC.1.3 | F9: MSOST.1.1 | H9: =COUNTIF(I9:AL9,"x") -> 6 | I9: =INDEX([1]Problématiques_compétences!$D$3:$BA$118,MATCH([1]Progression_Cycle4!I$4,[1]Problématiques_compétences!$D$3:$D$118,0),3) -> 0 | J9: x | L9: =INDEX([1]Problématiques_compétences!$D$3:$BA$118,MATCH([1]Progression_Cycle4!L$4,[1]Problématiques_compétences!$D$3:$D$118,0),3) -> 0 | M9: =INDEX([1]Problématiques_compétences!$D$3:$BA$118,MATCH([1]Progression_Cycle4!M$4,[1]Problématiques_compétences!$D$3:$D$118,0),3) -> 0 | N9: =INDEX([1]Problématiques_compétences!$D$3:$BA$118,MATCH([1]Progression_Cycle4!N$4,[1]Problématiques_compétences!$D$3:$D$118,0),3) -> 0 | O9: =INDEX([1]Problématiques_compétences!$D$3:$BA$118,MATCH([1]Progression_Cycle4!O$4,[1]Problématiques_compétences!$D$3:$D$118,0),3) -> 0 | P9: =INDEX([1]Problématiques_compétences!$D$3:$BA$118,MATCH([1]Progression_Cycle4!P$4,[1]Problématiques_compétences!$D$3:$D$118,0),3) -> 0 | Q9: =INDEX([1]Problématiques_compétences!$D$3:$BA$118,MATCH([1]Progression_Cycle4!Q$4,[1]Problématiques_compétences!$D$3:$D$118,0),3) -> 0 | R9: =INDEX([1]Problématiques_compétences!$D$3:$BA$118,MATCH([1]Progression_Cycle4!R$4,[1]Problématiques_compétences!$D$3:$D$118,0),3) -> 0 | S9: =INDEX([1]Problématiques_compétences!$D$3:$BA$118,MATCH([1]Progression_Cycle4!S$4,[1]Problématiques_compétences!$D$3:$D$118,0),3) -> x | ... W9: =INDEX([1]Problématiques_compétences!$D$3:$BA$118,MATCH([1]Progression_Cycle4!W$4,[1]Problématiques_compétences!$D$3:$D$118,0),3) -> 0 | X9: x | Y9: =INDEX([1]Problématiques_compétences!$D$3:$BA$118,MATCH([1]Progression_Cycle4!Y$4,[1]Problématiques_compétences!$D$3:$D$118,0),3) -> 0 | Z9: =INDEX([1]Problématiques_compétences!$D$3:$BA$118,MATCH([1]Progression_Cycle4!Z$4,[1]Problématiques_compétences!$D$3:$D$118,0),3) -> 0 | AA9: x | AB9: =INDEX([1]Problématiques_compétences!$D$3:$BA$118,MATCH([1]Progression_Cycle4!AB$4,[1]Problématiques_compétences!$D$3:$D$118,0),3) -> 0 | AC9: x | AD9: x | AE9: =INDEX([1]Problématiques_compétences!$D$3:$BA$118,MATCH([1]Progression_Cycle4!AE$4,[1]Problématiques_compétences!$D$3:$D$118,0),3) -> 0 | AF9: =INDEX([1]Problématiques_compétences!$D$3:$BA$118,MATCH([1]Progression_Cycle4!AF$4,[1]Problématiques_compétences!$D$3:$D$118,0),3) -> 0 | AG9: =INDEX([1]Problématiques_compétences!$D$3:$BA$118,MATCH([1]Progression_Cycle4!AG$4,[1]Problématiques_compétences!$D$3:$D$118,0),3) -> 0 | AH9: =INDEX([1]Problématiques_compétences!$D$3:$BA$118,MATCH([1]Progression_Cycle4!AH$4,[1]Problématiques_compétences!$D$3:$D$118,0),3) -> 0 | AI9: =INDEX([1]Problématiques_compétences!$D$3:$BA$118,MATCH([1]Progression_Cycle4!AI$4,[1]Problématiques_compétences!$D$3:$D$118,0),3) -> 0 | AJ9: =INDEX([1]Problématiques_compétences!$D$3:$BA$118,MATCH([1]Progression_Cycle4!AJ$4,[1]Problématiques_compétences!$D$3:$D$118,0),3) -> 0 | AK9: =INDEX([1]Problématiques_compétences!$D$3:$BA$118,MATCH([1]Progression_Cycle4!AK$4,[1]Problématiques_compétences!$D$3:$D$118,0),3) -> 0 | AL9: =INDEX([1]Problématiques_compétences!$D$3:$BA$118,MATCH([1]Progression_Cycle4!AL$4,[1]Problématiques_compétences!$D$3:$D$118,0),3) -> 0
B10: CT 1.2 | C10: Mesurer des grandeurs de manière directe ou indirecte. | F10: MSOST.1.6 | H10: =COUNTIF(I10:AL10,"x") -> 4 | I10: =INDEX([1]Problématiques_compétences!$D$3:$BA$118,MATCH([1]Progression_Cycle4!I$4,[1]Problématiques_compétences!$D$3:$D$118,0),4) -> 0 | J10: =INDEX([1]Problématiques_compétences!$D$3:$BA$118,MATCH([1]Progression_Cycle4!J$4,[1]Problématiques_compétences!$D$3:$D$118,0),4) -> 0 | K10: =INDEX([1]Problématiques_compétences!$D$3:$BA$118,MATCH([1]Progression_Cycle4!K$4,[1]Problématiques_compétences!$D$3:$D$118,0),4) -> 0 | L10: =INDEX([1]Problématiques_compétences!$D$3:$BA$118,MATCH([1]Progression_Cycle4!L$4,[1]Problématiques_compétences!$D$3:$D$118,0),4) -> 0 | M10: =INDEX([1]Problématiques_compétences!$D$3:$BA$118,MATCH([1]Progression_Cycle4!M$4,[1]Problématiques_compétences!$D$3:$D$118,0),4) -> 0 | N10: =INDEX([1]Problématiques_compétences!$D$3:$BA$118,MATCH([1]Progression_Cycle4!N$4,[1]Problématiques_compétences!$D$3:$D$118,0),4) -> 0 | O10: =INDEX([1]Problématiques_compétences!$D$3:$BA$118,MATCH([1]Progression_Cycle4!O$4,[1]Problématiques_compétences!$D$3:$D$118,0),4) -> 0 | P10: =INDEX([1]Problématiques_compétences!$D$3:$BA$118,MATCH([1]Progression_Cycle4!P$4,[1]Problématiques_compétences!$D$3:$D$118,0),4) -> 0 | ... T10: =INDEX([1]Problématiques_compétences!$D$3:$BA$118,MATCH([1]Progression_Cycle4!T$4,[1]Problématiques_compétences!$D$3:$D$118,0),4) -> 0 | U10: x | V10: x | W10: =INDEX([1]Problématiques_compétences!$D$3:$BA$118,MATCH([1]Progression_Cycle4!W$4,[1]Problématiques_compétences!$D$3:$D$118,0),4) -> 0 | X10: x | Y10: =INDEX([1]Problématiques_compétences!$D$3:$BA$118,MATCH([1]Progression_Cycle4!Y$4,[1]Problématiques_compétences!$D$3:$D$118,0),4) -> 0 | Z10: =INDEX([1]Problématiques_compétences!$D$3:$BA$118,MATCH([1]Progression_Cycle4!Z$4,[1]Problématiques_compétences!$D$3:$D$118,0),4) -> 0 | AA10: =INDEX([1]Problématiques_compétences!$D$3:$BA$118,MATCH([1]Progression_Cycle4!AA$4,[1]Problématiques_compétences!$D$3:$D$118,0),4) -> 0 | AC10: =INDEX([1]Problématiques_compétences!$D$3:$BA$118,MATCH([1]Progression_Cycle4!AC$4,[1]Problématiques_compétences!$D$3:$D$118,0),4) -> 0 | AD10: =INDEX([1]Problématiques_compétences!$D$3:$BA$118,MATCH([1]Progression_Cycle4!AD$4,[1]Problématiques_compétences!$D$3:$D$118,0),4) -> x | AE10: =INDEX([1]Problématiques_compétences!$D$3:$BA$118,MATCH([1]Progression_Cycle4!AE$4,[1]Problématiques_compétences!$D$3:$D$118,0),4) -> 0 | AF10: =INDEX([1]Problématiques_compétences!$D$3:$BA$118,MATCH([1]Progression_Cycle4!AF$4,[1]Problématiques_compétences!$D$3:$D$118,0),4) -> 0 | AG10: =INDEX([1]Problématiques_compétences!$D$3:$BA$118,MATCH([1]Progression_Cycle4!AG$4,[1]Problématiques_compétences!$D$3:$D$118,0),4) -> 0 | AH10: =INDEX([1]Problématiques_compétences!$D$3:$BA$118,MATCH([1]Progression_Cycle4!AH$4,[1]Problématiques_compétences!$D$3:$D$118,0),4) -> 0 | AI10: =INDEX([1]Problématiques_compétences!$D$3:$BA$118,MATCH([1]Progression_Cycle4!AI$4,[1]Problématiques_compétences!$D$3:$D$118,0),4) -> 0 | AK10: =INDEX([1]Problématiques_compétences!$D$3:$BA$118,MATCH([1]Progression_Cycle4!AK$4,[1]Problématiques_compétences!$D$3:$D$118,0),4) -> 0 | AL10: =INDEX([1]Problématiques_compétences!$D$3:$BA$118,MATCH([1]Progression_Cycle4!AL$4,[1]Problématiques_compétences!$D$3:$D$118,0),4) -> 0
B11: CT 1.3 | C11: Rechercher des solutions techniques à un problème posé, expliciter ses choix et les communiquer en argumentant. | D11: DIC.1.5 | H11: =COUNTIF(I11:AL11,"x") -> 4 | I11: =INDEX([1]Problématiques_compétences!$D$3:$BA$118,MATCH([1]Progression_Cycle4!I$4,[1]Problématiques_compétences!$D$3:$D$118,0),5) -> 0 | J11: =INDEX([1]Problématiques_compétences!$D$3:$BA$118,MATCH([1]Progression_Cycle4!J$4,[1]Problématiques_compétences!$D$3:$D$118,0),5) -> 0 | K11: =INDEX([1]Problématiques_compétences!$D$3:$BA$118,MATCH([1]Progression_Cycle4!K$4,[1]Problématiques_compétences!$D$3:$D$118,0),5) -> 0 | L11: =INDEX([1]Problématiques_compétences!$D$3:$BA$118,MATCH([1]Progression_Cycle4!L$4,[1]Problématiques_compétences!$D$3:$D$118,0),5) -> 0 | M11: X | N11: =INDEX([1]Problématiques_compétences!$D$3:$BA$118,MATCH([1]Progression_Cycle4!N$4,[1]Problématiques_compétences!$D$3:$D$118,0),5) -> 0 | O11: =INDEX([1]Problématiques_compétences!$D$3:$BA$118,MATCH([1]Progression_Cycle4!O$4,[1]Problématiques_compétences!$D$3:$D$118,0),5) -> 0 | P11: =INDEX([1]Problématiques_compétences!$D$3:$BA$118,MATCH([1]Progression_Cycle4!P$4,[1]Problématiques_compétences!$D$3:$D$118,0),5) -> 0 | Q11: =INDEX([1]Problématiques_compétences!$D$3:$BA$118,MATCH([1]Progression_Cycle4!Q$4,[1]Problématiques_compétences!$D$3:$D$118,0),5) -> 0 | R11: =INDEX([1]Problématiques_compétences!$D$3:$BA$118,MATCH([1]Progression_Cycle4!R$4,[1]Problématiques_compétences!$D$3:$D$118,0),5) -> 0 | S11: =INDEX([1]Problématiques_compétences!$D$3:$BA$118,MATCH([1]Progression_Cycle4!S$4,[1]Problématiques_compétences!$D$3:$D$118,0),5) -> 0 | T11: =INDEX([1]Problématiques_compétences!$D$3:$BA$118,MATCH([1]Progression_Cycle4!T$4,[1]Problématiques_compétences!$D$3:$D$118,0),5) -> 0 | V11: =INDEX([1]Problématiques_compétences!$D$3:$BA$118,MATCH([1]Progression_Cycle4!V$4,[1]Problématiques_compétences!$D$3:$D$118,0),5) -> 0 | W11: =INDEX([1]Problématiques_compétences!$D$3:$BA$118,MATCH([1]Progression_Cycle4!W$4,[1]Problématiques_compétences!$D$3:$D$118,0),5) -> 0 | X11: x | Y11: =INDEX([1]Problématiques_compétences!$D$3:$BA$118,MATCH([1]Progression_Cycle4!Y$4,[1]Problématiques_compétences!$D$3:$D$118,0),5) -> 0 | AA11: =INDEX([1]Problématiques_compétences!$D$3:$BA$118,MATCH([1]Progression_Cycle4!AA$4,[1]Problématiques_compétences!$D$3:$D$118,0),5) -> 0 | AB11: =INDEX([1]Problématiques_compétences!$D$3:$BA$118,MATCH([1]Progression_Cycle4!AB$4,[1]Problématiques_compétences!$D$3:$D$118,0),5) -> 0 | AC11: x | AD11: x | AE11: =INDEX([1]Problématiques_compétences!$D$3:$BA$118,MATCH([1]Progression_Cycle4!AE$4,[1]Problématiques_compétences!$D$3:$D$118,0),5) -> 0 | AF11: =INDEX([1]Problématiques_compétences!$D$3:$BA$118,MATCH([1]Progression_Cycle4!AF$4,[1]Problématiques_compétences!$D$3:$D$118,0),5) -> 0 | AG11: =INDEX([1]Problématiques_compétences!$D$3:$BA$118,MATCH([1]Progression_Cycle4!AG$4,[1]Problématiques_compétences!$D$3:$D$118,0),5) -> 0 | AI11: =INDEX([1]Problématiques_compétences!$D$3:$BA$118,MATCH([1]Progression_Cycle4!AI$4,[1]Problématiques_compétences!$D$3:$D$118,0),5) -> 0 | AJ11: =INDEX([1]Problématiques_compétences!$D$3:$BA$118,MATCH([1]Progression_Cycle4!AJ$4,[1]Problématiques_compétences!$D$3:$D$118,0),5) -> 0 | AK11: =INDEX([1]Problématiques_compétences!$D$3:$BA$118,MATCH([1]Progression_Cycle4!AK$4,[1]Problématiques_compétences!$D$3:$D$118,0),5) -> 0 | AL11: =INDEX([1]Problématiques_compétences!$D$3:$BA$118,MATCH([1]Progression_Cycle4!AL$4,[1]Problématiques_compétences!$D$3:$D$118,0),5) -> 0
B12: CT 1.4 | C12: Participer à l’organisation et au déroulement de projets. | D12: DIC.1.4 | H12: =COUNTIF(I12:AL12,"x") -> 7 | I12: =INDEX([1]Problématiques_compétences!$D$3:$BA$118,MATCH([1]Progression_Cycle4!I$4,[1]Problématiques_compétences!$D$3:$D$118,0),6) -> 0 | J12: =INDEX([1]Problématiques_compétences!$D$3:$BA$118,MATCH([1]Progression_Cycle4!J$4,[1]Problématiques_compétences!$D$3:$D$118,0),6) -> 0 | K12: =INDEX([1]Problématiques_compétences!$D$3:$BA$118,MATCH([1]Progression_Cycle4!K$4,[1]Problématiques_compétences!$D$3:$D$118,0),6) -> 0 | L12: =INDEX([1]Problématiques_compétences!$D$3:$BA$118,MATCH([1]Progression_Cycle4!L$4,[1]Problématiques_compétences!$D$3:$D$118,0),6) -> 0 | N12: =INDEX([1]Problématiques_compétences!$D$3:$BA$118,MATCH([1]Progression_Cycle4!N$4,[1]Problématiques_compétences!$D$3:$D$118,0),6) -> 0 | O12: =INDEX([1]Problématiques_compétences!$D$3:$BA$118,MATCH([1]Progression_Cycle4!O$4,[1]Problématiques_compétences!$D$3:$D$118,0),6) -> 0 | P12: =INDEX([1]Problématiques_compétences!$D$3:$BA$118,MATCH([1]Progression_Cycle4!P$4,[1]Problématiques_compétences!$D$3:$D$118,0),6) -> 0 | Q12: =INDEX([1]Problématiques_compétences!$D$3:$BA$118,MATCH([1]Progression_Cycle4!Q$4,[1]Problématiques_compétences!$D$3:$D$118,0),6) -> 0 | R12: =INDEX([1]Problématiques_compétences!$D$3:$BA$118,MATCH([1]Progression_Cycle4!R$4,[1]Problématiques_compétences!$D$3:$D$118,0),6) -> 0 | S12: =INDEX([1]Problématiques_compétences!$D$3:$BA$118,MATCH([1]Progression_Cycle4!S$4,[1]Problématiques_compétences!$D$3:$D$118,0),6) -> 0 | T12: =INDEX([1]Problématiques_compétences!$D$3:$BA$118,MATCH([1]Progression_Cycle4!T$4,[1]Problématiques_compétences!$D$3:$D$118,0),6) -> 0 | V12: =INDEX([1]Problématiques_compétences!$D$3:$BA$118,MATCH([1]Progression_Cycle4!V$4,[1]Problématiques_compétences!$D$3:$D$118,0),6) -> 0 | W12: =INDEX([1]Problématiques_compétences!$D$3:$BA$118,MATCH([1]Progression_Cycle4!W$4,[1]Problématiques_compétences!$D$3:$D$118,0),6) -> 0 | X12: x | Y12: x | Z12: =INDEX([1]Problématiques_compétences!$D$3:$BA$118,MATCH([1]Progression_Cycle4!Z$4,[1]Problématiques_compétences!$D$3:$D$118,0),6) -> 0 | AB12: =INDEX([1]Problématiques_compétences!$D$3:$BA$118,MATCH([1]Progression_Cycle4!AB$4,[1]Problématiques_compétences!$D$3:$D$118,0),6) -> 0 | AC12: x | AD12: x | AE12: x | AF12: x | AG12: =INDEX([1]Problématiques_compétences!$D$3:$BA$118,MATCH([1]Progression_Cycle4!AG$4,[1]Problématiques_compétences!$D$3:$D$118,0),6) -> 0 | AH12: x | AJ12: =INDEX([1]Problématiques_compétences!$D$3:$BA$118,MATCH([1]Progression_Cycle4!AJ$4,[1]Problématiques_compétences!$D$3:$D$118,0),6) -> 0 | AK12: =INDEX([1]Problématiques_compétences!$D$3:$BA$118,MATCH([1]Progression_Cycle4!AK$4,[1]Problématiques_compétences!$D$3:$D$118,0),6) -> 0 | AL12: =INDEX([1]Problématiques_compétences!$D$3:$BA$118,MATCH([1]Progression_Cycle4!AL$4,[1]Problématiques_compétences!$D$3:$D$118,0),6) -> 0
A13: 4 - les systèmes naturels et les systèmes techniques | B13: 2 | C13: Concevoir, créer, réaliser
B14: CT 2.1 | C14: Identifier un besoin et énoncer un problème technique, identifier les conditions, contraintes (normes et règlements) et ressources correspondantes. | D14: DIC.1.1 DIC.1.2 | H14: =COUNTIF(I14:AL14,"x") -> 5 | I14: x | K14: =INDEX([1]Problématiques_compétences!$D$3:$BA$118,MATCH([1]Progression_Cycle4!K$4,[1]Problématiques_compétences!$D$3:$D$118,0),11) -> 0 | L14: =INDEX([1]Problématiques_compétences!$D$3:$BA$118,MATCH([1]Progression_Cycle4!L$4,[1]Problématiques_compétences!$D$3:$D$118,0),11) -> 0 | M14: =INDEX([1]Problématiques_compétences!$D$3:$BA$118,MATCH([1]Progression_Cycle4!M$4,[1]Problématiques_compétences!$D$3:$D$118,0),11) -> x | N14: =INDEX([1]Problématiques_compétences!$D$3:$BA$118,MATCH([1]Progression_Cycle4!N$4,[1]Problématiques_compétences!$D$3:$D$118,0),11) -> 0 | O14: x | P14: =INDEX([1]Problématiques_compétences!$D$3:$BA$118,MATCH([1]Progression_Cycle4!P$4,[1]Problématiques_compétences!$D$3:$D$118,0),11) -> 0 | R14: =INDEX([1]Problématiques_compétences!$D$3:$BA$118,MATCH([1]Progression_Cycle4!R$4,[1]Problématiques_compétences!$D$3:$D$118,0),11) -> 0 | S14: =INDEX([1]Problématiques_compétences!$D$3:$BA$118,MATCH([1]Progression_Cycle4!S$4,[1]Problématiques_compétences!$D$3:$D$118,0),11) -> 0 | T14: =INDEX([1]Problématiques_compétences!$D$3:$BA$118,MATCH([1]Progression_Cycle4!T$4,[1]Problématiques_compétences!$D$3:$D$118,0),11) -> 0 | V14: =INDEX([1]Problématiques_compétences!$D$3:$BA$118,MATCH([1]Progression_Cycle4!V$4,[1]Problématiques_compétences!$D$3:$D$118,0),11) -> 0 | W14: =INDEX([1]Problématiques_compétences!$D$3:$BA$118,MATCH([1]Progression_Cycle4!W$4,[1]Problématiques_compétences!$D$3:$D$118,0),11) -> 0 | X14: =INDEX([1]Problématiques_compétences!$D$3:$BA$118,MATCH([1]Progression_Cycle4!X$4,[1]Problématiques_compétences!$D$3:$D$118,0),11) -> 0 | Y14: =INDEX([1]Problématiques_compétences!$D$3:$BA$118,MATCH([1]Progression_Cycle4!Y$4,[1]Problématiques_compétences!$D$3:$D$118,0),11) -> 0 | Z14: x | AA14: =INDEX([1]Problématiques_compétences!$D$3:$BA$118,MATCH([1]Progression_Cycle4!AA$4,[1]Problématiques_compétences!$D$3:$D$118,0),11) -> 0 | AB14: x | AC14: =INDEX([1]Problématiques_compétences!$D$3:$BA$118,MATCH([1]Progression_Cycle4!AC$4,[1]Problématiques_compétences!$D$3:$D$118,0),11) -> 0 | AD14: =INDEX([1]Problématiques_compétences!$D$3:$BA$118,MATCH([1]Progression_Cycle4!AD$4,[1]Problématiques_compétences!$D$3:$D$118,0),11) -> 0 | AE14: =INDEX([1]Problématiques_compétences!$D$3:$BA$118,MATCH([1]Progression_Cycle4!AE$4,[1]Problématiques_compétences!$D$3:$D$118,0),11) -> 0 | AF14: =INDEX([1]Problématiques_compétences!$D$3:$BA$118,MATCH([1]Progression_Cycle4!AF$4,[1]Problématiques_compétences!$D$3:$D$118,0),11) -> 0 | AG14: =INDEX([1]Problématiques_compétences!$D$3:$BA$118,MATCH([1]Progression_Cycle4!AG$4,[1]Problématiques_compétences!$D$3:$D$118,0),11) -> 0 | AI14: =INDEX([1]Problématiques_compétences!$D$3:$BA$118,MATCH([1]Progression_Cycle4!AI$4,[1]Problématiques_compétences!$D$3:$D$118,0),11) -> 0 | AJ14: =INDEX([1]Problématiques_compétences!$D$3:$BA$118,MATCH([1]Progression_Cycle4!AJ$4,[1]Problématiques_compétences!$D$3:$D$118,0),11) -> 0 | AK14: =INDEX([1]Problématiques_compétences!$D$3:$BA$118,MATCH([1]Progression_Cycle4!AK$4,[1]Problématiques_compétences!$D$3:$D$118,0),11) -> 0 | AL14: =INDEX([1]Problématiques_compétences!$D$3:$BA$118,MATCH([1]Progression_Cycle4!AL$4,[1]Problématiques_compétences!$D$3:$D$118,0),11) -> 0
B15: CT 2.2 | C15: Identifier le(s) matériau(x), les flux d’énergie et d’information dans le cadre d’une production technique sur un objet et décrire les transformations qui s’opèrent. | F15: MSOST.1.4 | H15: =COUNTIF(I15:AL15,"x") -> 4 | I15: =INDEX([1]Problématiques_compétences!$D$3:$BA$118,MATCH([1]Progression_Cycle4!I$4,[1]Problématiques_compétences!$D$3:$D$118,0),12) -> 0 | J15: =INDEX([1]Problématiques_compétences!$D$3:$BA$118,MATCH([1]Progression_Cycle4!J$4,[1]Problématiques_compétences!$D$3:$D$118,0),12) -> 0 | K15: =INDEX([1]Problématiques_compétences!$D$3:$BA$118,MATCH([1]Progression_Cycle4!K$4,[1]Problématiques_compétences!$D$3:$D$118,0),12) -> 0 | L15: =INDEX([1]Problématiques_compétences!$D$3:$BA$118,MATCH([1]Progression_Cycle4!L$4,[1]Problématiques_compétences!$D$3:$D$118,0),12) -> 0 | M15: =INDEX([1]Problématiques_compétences!$D$3:$BA$118,MATCH([1]Progression_Cycle4!M$4,[1]Problématiques_compétences!$D$3:$D$118,0),12) -> 0 | N15: =INDEX([1]Problématiques_compétences!$D$3:$BA$118,MATCH([1]Progression_Cycle4!N$4,[1]Problématiques_compétences!$D$3:$D$118,0),12) -> 0 | P15: =INDEX([1]Problématiques_compétences!$D$3:$BA$118,MATCH([1]Progression_Cycle4!P$4,[1]Problématiques_compétences!$D$3:$D$118,0),12) -> 0 | Q15: =INDEX([1]Problématiques_compétences!$D$3:$BA$118,MATCH([1]Progression_Cycle4!Q$4,[1]Problématiques_compétences!$D$3:$D$118,0),12) -> 0 | R15: =INDEX([1]Problématiques_compétences!$D$3:$BA$118,MATCH([1]Progression_Cycle4!R$4,[1]Problématiques_compétences!$D$3:$D$118,0),12) -> 0 | S15: x | T15: =INDEX([1]Problématiques_compétences!$D$3:$BA$118,MATCH([1]Progression_Cycle4!T$4,[1]Problématiques_compétences!$D$3:$D$118,0),12) -> x | U15: =INDEX([1]Problématiques_compétences!$D$3:$BA$118,MATCH([1]Progression_Cycle4!U$4,[1]Problématiques_compétences!$D$3:$D$118,0),12) -> 0 | V15: =INDEX([1]Problématiques_compétences!$D$3:$BA$118,MATCH([1]Progression_Cycle4!V$4,[1]Problématiques_compétences!$D$3:$D$118,0),12) -> 0 | W15: =INDEX([1]Problématiques_compétences!$D$3:$BA$118,MATCH([1]Progression_Cycle4!W$4,[1]Problématiques_compétences!$D$3:$D$118,0),12) -> 0 | X15: =INDEX([1]Problématiques_compétences!$D$3:$BA$118,MATCH([1]Progression_Cycle4!X$4,[1]Problématiques_compétences!$D$3:$D$118,0),12) -> 0 | Y15: =INDEX([1]Problématiques_compétences!$D$3:$BA$118,MATCH([1]Progression_Cycle4!Y$4,[1]Problématiques_compétences!$D$3:$D$118,0),12) -> 0 | Z15: x | AA15: =INDEX([1]Problématiques_compétences!$D$3:$BA$118,MATCH([1]Progression_Cycle4!AA$4,[1]Problématiques_compétences!$D$3:$D$118,0),12) -> 0 | AB15: =INDEX([1]Problématiques_compétences!$D$3:$BA$118,MATCH([1]Progression_Cycle4!AB$4,[1]Problématiques_compétences!$D$3:$D$118,0),12) -> 0 | AC15: x | AD15: =INDEX([1]Problématiques_compétences!$D$3:$BA$118,MATCH([1]Progression_Cycle4!AD$4,[1]Problématiques_compétences!$D$3:$D$118,0),12) -> 0 | AE15: =INDEX([1]Problématiques_compétences!$D$3:$BA$118,MATCH([1]Progression_Cycle4!AE$4,[1]Problématiques_compétences!$D$3:$D$118,0),12) -> 0 | AF15: =INDEX([1]Problématiques_compétences!$D$3:$BA$118,MATCH([1]Progression_Cycle4!AF$4,[1]Problématiques_compétences!$D$3:$D$118,0),12) -> 0 | AG15: =INDEX([1]Problématiques_compétences!$D$3:$BA$118,MATCH([1]Progression_Cycle4!AG$4,[1]Problématiques_compétences!$D$3:$D$118,0),12) -> 0 | AH15: =INDEX([1]Problématiques_compétences!$D$3:$BA$118,MATCH([1]Progression_Cycle4!AH$4,[1]Problématiques_compétences!$D$3:$D$118,0),12) -> 0 | AI15: =INDEX([1]Problématiques_compétences!$D$3:$BA$118,MATCH([1]Progression_Cycle4!AI$4,[1]Problématiques_compétences!$D$3:$D$118,0),12) -> 0 | AJ15: =INDEX([1]Problématiques_compétences!$D$3:$BA$118,MATCH([1]Progression_Cycle4!AJ$4,[1]Problématiques_compétences!$D$3:$D$118,0),12) -> 0 | AK15: =INDEX([1]Problématiques_compétences!$D$3:$BA$118,MATCH([1]Progression_Cycle4!AK$4,[1]Problématiques_compétences!$D$3:$D$118,0),12) -> 0 | AL15: =INDEX([1]Problématiques_compétences!$D$3:$BA$118,MATCH([1]Progression_Cycle4!AL$4,[1]Problématiques_compétences!$D$3:$D$118,0),12) -> 0
B16: CT 2.3 | C16: S’approprier un cahier des charges. | D16: DIC.1.2 | H16: =COUNTIF(I16:AL16,"x") -> 5 | I16: =INDEX([1]Problématiques_compétences!$D$3:$BA$118,MATCH([1]Progression_Cycle4!I$4,[1]Problématiques_compétences!$D$3:$D$118,0),13) -> 0 | K16: =INDEX([1]Problématiques_compétences!$D$3:$BA$118,MATCH([1]Progression_Cycle4!K$4,[1]Problématiques_compétences!$D$3:$D$118,0),13) -> 0 | L16: =INDEX([1]Problématiques_compétences!$D$3:$BA$118,MATCH([1]Progression_Cycle4!L$4,[1]Problématiques_compétences!$D$3:$D$118,0),13) -> 0 | M16: =INDEX([1]Problématiques_compétences!$D$3:$BA$118,MATCH([1]Progression_Cycle4!M$4,[1]Problématiques_compétences!$D$3:$D$118,0),13) -> x | N16: =INDEX([1]Problématiques_compétences!$D$3:$BA$118,MATCH([1]Progression_Cycle4!N$4,[1]Problématiques_compétences!$D$3:$D$118,0),13) -> 0 | O16: =INDEX([1]Problématiques_compétences!$D$3:$BA$118,MATCH([1]Progression_Cycle4!O$4,[1]Problématiques_compétences!$D$3:$D$118,0),13) -> 0 | P16: =INDEX([1]Problématiques_compétences!$D$3:$BA$118,MATCH([1]Progression_Cycle4!P$4,[1]Problématiques_compétences!$D$3:$D$118,0),13) -> 0 | R16: =INDEX([1]Problématiques_compétences!$D$3:$BA$118,MATCH([1]Progression_Cycle4!R$4,[1]Problématiques_compétences!$D$3:$D$118,0),13) -> 0 | S16: =INDEX([1]Problématiques_compétences!$D$3:$BA$118,MATCH([1]Progression_Cycle4!S$4,[1]Problématiques_compétences!$D$3:$D$118,0),13) -> 0 | T16: x | U16: =INDEX([1]Problématiques_compétences!$D$3:$BA$118,MATCH([1]Progression_Cycle4!U$4,[1]Problématiques_compétences!$D$3:$D$118,0),13) -> 0 | V16: =INDEX([1]Problématiques_compétences!$D$3:$BA$118,MATCH([1]Progression_Cycle4!V$4,[1]Problématiques_compétences!$D$3:$D$118,0),13) -> 0 | W16: =INDEX([1]Problématiques_compétences!$D$3:$BA$118,MATCH([1]Progression_Cycle4!W$4,[1]Problématiques_compétences!$D$3:$D$118,0),13) -> 0 | X16: =INDEX([1]Problématiques_compétences!$D$3:$BA$118,MATCH([1]Progression_Cycle4!X$4,[1]Problématiques_compétences!$D$3:$D$118,0),13) -> 0 | Y16: =INDEX([1]Problématiques_compétences!$D$3:$BA$118,MATCH([1]Progression_Cycle4!Y$4,[1]Problématiques_compétences!$D$3:$D$118,0),13) -> 0 | AA16: =INDEX([1]Problématiques_compétences!$D$3:$BA$118,MATCH([1]Progression_Cycle4!AA$4,[1]Problématiques_compétences!$D$3:$D$118,0),13) -> 0 | AB16: x | AC16: x | AD16: =INDEX([1]Problématiques_compétences!$D$3:$BA$118,MATCH([1]Progression_Cycle4!AD$4,[1]Problématiques_compétences!$D$3:$D$118,0),13) -> 0 | AE16: =INDEX([1]Problématiques_compétences!$D$3:$BA$118,MATCH([1]Progression_Cycle4!AE$4,[1]Problématiques_compétences!$D$3:$D$118,0),13) -> 0 | AF16: x | AG16: =INDEX([1]Problématiques_compétences!$D$3:$BA$118,MATCH([1]Progression_Cycle4!AG$4,[1]Problématiques_compétences!$D$3:$D$118,0),13) -> 0 | AI16: =INDEX([1]Problématiques_compétences!$D$3:$BA$118,MATCH([1]Progression_Cycle4!AI$4,[1]Problématiques_compétences!$D$3:$D$118,0),13) -> 0 | AJ16: =INDEX([1]Problématiques_compétences!$D$3:$BA$118,MATCH([1]Progression_Cycle4!AJ$4,[1]Problématiques_compétences!$D$3:$D$118,0),13) -> 0 | AK16: =INDEX([1]Problématiques_compétences!$D$3:$BA$118,MATCH([1]Progression_Cycle4!AK$4,[1]Problématiques_compétences!$D$3:$D$118,0),13) -> 0 | AL16: =INDEX([1]Problématiques_compétences!$D$3:$BA$118,MATCH([1]Progression_Cycle4!AL$4,[1]Problématiques_compétences!$D$3:$D$118,0),13) -> 0
B17: CT 2.4 | C17: Associer des solutions techniques à des fonctions. | F17: MSOST.1.2 | H17: =COUNTIF(I17:AL17,"x") -> 3 | I17: =INDEX([1]Problématiques_compétences!$D$3:$BA$118,MATCH([1]Progression_Cycle4!I$4,[1]Problématiques_compétences!$D$3:$D$118,0),14) -> 0 | J17: =INDEX([1]Problématiques_compétences!$D$3:$BA$118,MATCH([1]Progression_Cycle4!J$4,[1]Problématiques_compétences!$D$3:$D$118,0),14) -> 0 | K17: =INDEX([1]Problématiques_compétences!$D$3:$BA$118,MATCH([1]Progression_Cycle4!K$4,[1]Problématiques_compétences!$D$3:$D$118,0),14) -> 0 | L17: =INDEX([1]Problématiques_compétences!$D$3:$BA$118,MATCH([1]Progression_Cycle4!L$4,[1]Problématiques_compétences!$D$3:$D$118,0),14) -> 0 | M17: =INDEX([1]Problématiques_compétences!$D$3:$BA$118,MATCH([1]Progression_Cycle4!M$4,[1]Problématiques_compétences!$D$3:$D$118,0),14) -> 0 | N17: x | O17: =INDEX([1]Problématiques_compétences!$D$3:$BA$118,MATCH([1]Progression_Cycle4!O$4,[1]Problématiques_compétences!$D$3:$D$118,0),14) -> 0 | P17: =INDEX([1]Problématiques_compétences!$D$3:$BA$118,MATCH([1]Progression_Cycle4!P$4,[1]Problématiques_compétences!$D$3:$D$118,0),14) -> 0 | Q17: =INDEX([1]Problématiques_compétences!$D$3:$BA$118,MATCH([1]Progression_Cycle4!Q$4,[1]Problématiques_compétences!$D$3:$D$118,0),14) -> 0 | R17: =INDEX([1]Problématiques_compétences!$D$3:$BA$118,MATCH([1]Progression_Cycle4!R$4,[1]Problématiques_compétences!$D$3:$D$118,0),14) -> 0 | S17: x | T17: =INDEX([1]Problématiques_compétences!$D$3:$BA$118,MATCH([1]Progression_Cycle4!T$4,[1]Problématiques_compétences!$D$3:$D$118,0),14) -> x | U17: =INDEX([1]Problématiques_compétences!$D$3:$BA$118,MATCH([1]Progression_Cycle4!U$4,[1]Problématiques_compétences!$D$3:$D$118,0),14) -> 0 | W17: =INDEX([1]Problématiques_compétences!$D$3:$BA$118,MATCH([1]Progression_Cycle4!W$4,[1]Problématiques_compétences!$D$3:$D$118,0),14) -> 0 | X17: =INDEX([1]Problématiques_compétences!$D$3:$BA$118,MATCH([1]Progression_Cycle4!X$4,[1]Problématiques_compétences!$D$3:$D$118,0),14) -> 0 | Y17: =INDEX([1]Problématiques_compétences!$D$3:$BA$118,MATCH([1]Progression_Cycle4!Y$4,[1]Problématiques_compétences!$D$3:$D$118,0),14) -> 0 | Z17: =INDEX([1]Problématiques_compétences!$D$3:$BA$118,MATCH([1]Progression_Cycle4!Z$4,[1]Problématiques_compétences!$D$3:$D$118,0),14) -> 0 | AA17: =INDEX([1]Problématiques_compétences!$D$3:$BA$118,MATCH([1]Progression_Cycle4!AA$4,[1]Problématiques_compétences!$D$3:$D$118,0),14) -> 0 | AB17: =INDEX([1]Problématiques_compétences!$D$3:$BA$118,MATCH([1]Progression_Cycle4!AB$4,[1]Problématiques_compétences!$D$3:$D$118,0),14) -> 0 | AC17: =INDEX([1]Problématiques_compétences!$D$3:$BA$118,MATCH([1]Progression_Cycle4!AC$4,[1]Problématiques_compétences!$D$3:$D$118,0),14) -> 0 | AD17: =INDEX([1]Problématiques_compétences!$D$3:$BA$118,MATCH([1]Progression_Cycle4!AD$4,[1]Problématiques_compétences!$D$3:$D$118,0),14) -> 0 | ... AL17: =INDEX([1]Problématiques_compétences!$D$3:$BA$118,MATCH([1]Progression_Cycle4!AL$4,[1]Problématiques_compétences!$D$3:$D$118,0),14) -> 0
B18: CT 2.5 | C18: Imaginer des solutions en réponse au besoin. | D18: DIC.1.5 | H18: =COUNTIF(I18:AL18,"x") -> 3 | I18: =INDEX([1]Problématiques_compétences!$D$3:$BA$118,MATCH([1]Progression_Cycle4!I$4,[1]Problématiques_compétences!$D$3:$D$118,0),15) -> 0 | K18: =INDEX([1]Problématiques_compétences!$D$3:$BA$118,MATCH([1]Progression_Cycle4!K$4,[1]Problématiques_compétences!$D$3:$D$118,0),15) -> 0 | L18: =INDEX([1]Problématiques_compétences!$D$3:$BA$118,MATCH([1]Progression_Cycle4!L$4,[1]Problématiques_compétences!$D$3:$D$118,0),15) -> 0 | N18: x | O18: =INDEX([1]Problématiques_compétences!$D$3:$BA$118,MATCH([1]Progression_Cycle4!O$4,[1]Problématiques_compétences!$D$3:$D$118,0),15) -> 0 | P18: x | Q18: =INDEX([1]Problématiques_compétences!$D$3:$BA$118,MATCH([1]Progression_Cycle4!Q$4,[1]Problématiques_compétences!$D$3:$D$118,0),15) -> 0 | R18: =INDEX([1]Problématiques_compétences!$D$3:$BA$118,MATCH([1]Progression_Cycle4!R$4,[1]Problématiques_compétences!$D$3:$D$118,0),15) -> 0 | S18: =INDEX([1]Problématiques_compétences!$D$3:$BA$118,MATCH([1]Progression_Cycle4!S$4,[1]Problématiques_compétences!$D$3:$D$118,0),15) -> 0 | T18: x | V18: =INDEX([1]Problématiques_compétences!$D$3:$BA$118,MATCH([1]Progression_Cycle4!V$4,[1]Problématiques_compétences!$D$3:$D$118,0),15) -> 0 | W18: =INDEX([1]Problématiques_compétences!$D$3:$BA$118,MATCH([1]Progression_Cycle4!W$4,[1]Problématiques_compétences!$D$3:$D$118,0),15) -> 0 | X18: =INDEX([1]Problématiques_compétences!$D$3:$BA$118,MATCH([1]Progression_Cycle4!X$4,[1]Problématiques_compétences!$D$3:$D$118,0),15) -> 0 | Y18: =INDEX([1]Problématiques_compétences!$D$3:$BA$118,MATCH([1]Progression_Cycle4!Y$4,[1]Problématiques_compétences!$D$3:$D$118,0),15) -> 0 | AA18: =INDEX([1]Problématiques_compétences!$D$3:$BA$118,MATCH([1]Progression_Cycle4!AA$4,[1]Problématiques_compétences!$D$3:$D$118,0),15) -> 0 | AB18: =INDEX([1]Problématiques_compétences!$D$3:$BA$118,MATCH([1]Progression_Cycle4!AB$4,[1]Problématiques_compétences!$D$3:$D$118,0),15) -> 0 | AC18: =INDEX([1]Problématiques_compétences!$D$3:$BA$118,MATCH([1]Progression_Cycle4!AC$4,[1]Problématiques_compétences!$D$3:$D$118,0),15) -> 0 | AD18: =INDEX([1]Problématiques_compétences!$D$3:$BA$118,MATCH([1]Progression_Cycle4!AD$4,[1]Problématiques_compétences!$D$3:$D$118,0),15) -> 0 | AE18: =INDEX([1]Problématiques_compétences!$D$3:$BA$118,MATCH([1]Progression_Cycle4!AE$4,[1]Problématiques_compétences!$D$3:$D$118,0),15) -> 0 | AF18: =INDEX([1]Problématiques_compétences!$D$3:$BA$118,MATCH([1]Progression_Cycle4!AF$4,[1]Problématiques_compétences!$D$3:$D$118,0),15) -> 0 | AG18: =INDEX([1]Problématiques_compétences!$D$3:$BA$118,MATCH([1]Progression_Cycle4!AG$4,[1]Problématiques_compétences!$D$3:$D$118,0),15) -> 0 | AI18: =INDEX([1]Problématiques_compétences!$D$3:$BA$118,MATCH([1]Progression_Cycle4!AI$4,[1]Problématiques_compétences!$D$3:$D$118,0),15) -> 0 | AJ18: =INDEX([1]Problématiques_compétences!$D$3:$BA$118,MATCH([1]Progression_Cycle4!AJ$4,[1]Problématiques_compétences!$D$3:$D$118,0),15) -> 0 | AK18: =INDEX([1]Problématiques_compétences!$D$3:$BA$118,MATCH([1]Progression_Cycle4!AK$4,[1]Problématiques_compétences!$D$3:$D$118,0),15) -> 0 | AL18: =INDEX([1]Problématiques_compétences!$D$3:$BA$118,MATCH([1]Progression_Cycle4!AL$4,[1]Problématiques_compétences!$D$3:$D$118,0),15) -> 0
B19: CT 2.6 | C19: Réaliser, de manière collaborative, le prototype de tout ou partie d’un objet pour valider une solution. | D19: DIC.2.1 | F19: MSOST.1.1 | H19: =COUNTIF(I19:AL19,"x") -> 5 | I19: =INDEX([1]Problématiques_compétences!$D$3:$BA$118,MATCH([1]Progression_Cycle4!I$4,[1]Problématiques_compétences!$D$3:$D$118,0),16) -> 0 | J19: x | K19: =INDEX([1]Problématiques_compétences!$D$3:$BA$118,MATCH([1]Progression_Cycle4!K$4,[1]Problématiques_compétences!$D$3:$D$118,0),16) -> 0 | L19: =INDEX([1]Problématiques_compétences!$D$3:$BA$118,MATCH([1]Progression_Cycle4!L$4,[1]Problématiques_compétences!$D$3:$D$118,0),16) -> 0 | M19: =INDEX([1]Problématiques_compétences!$D$3:$BA$118,MATCH([1]Progression_Cycle4!M$4,[1]Problématiques_compétences!$D$3:$D$118,0),16) -> 0 | O19: =INDEX([1]Problématiques_compétences!$D$3:$BA$118,MATCH([1]Progression_Cycle4!O$4,[1]Problématiques_compétences!$D$3:$D$118,0),16) -> 0 | P19: =INDEX([1]Problématiques_compétences!$D$3:$BA$118,MATCH([1]Progression_Cycle4!P$4,[1]Problématiques_compétences!$D$3:$D$118,0),16) -> 0 | Q19: =INDEX([1]Problématiques_compétences!$D$3:$BA$118,MATCH([1]Progression_Cycle4!Q$4,[1]Problématiques_compétences!$D$3:$D$118,0),16) -> 0 | R19: =INDEX([1]Problématiques_compétences!$D$3:$BA$118,MATCH([1]Progression_Cycle4!R$4,[1]Problématiques_compétences!$D$3:$D$118,0),16) -> 0 | S19: =INDEX([1]Problématiques_compétences!$D$3:$BA$118,MATCH([1]Progression_Cycle4!S$4,[1]Problématiques_compétences!$D$3:$D$118,0),16) -> 0 | T19: x | U19: =INDEX([1]Problématiques_compétences!$D$3:$BA$118,MATCH([1]Progression_Cycle4!U$4,[1]Problématiques_compétences!$D$3:$D$118,0),16) -> 0 | W19: =INDEX([1]Problématiques_compétences!$D$3:$BA$118,MATCH([1]Progression_Cycle4!W$4,[1]Problématiques_compétences!$D$3:$D$118,0),16) -> 0 | X19: =INDEX([1]Problématiques_compétences!$D$3:$BA$118,MATCH([1]Progression_Cycle4!X$4,[1]Problématiques_compétences!$D$3:$D$118,0),16) -> 0 | Y19: x | Z19: =INDEX([1]Problématiques_compétences!$D$3:$BA$118,MATCH([1]Progression_Cycle4!Z$4,[1]Problématiques_compétences!$D$3:$D$118,0),16) -> 0 | AB19: x | AC19: =INDEX([1]Problématiques_compétences!$D$3:$BA$118,MATCH([1]Progression_Cycle4!AC$4,[1]Problématiques_compétences!$D$3:$D$118,0),16) -> 0 | AD19: =INDEX([1]Problématiques_compétences!$D$3:$BA$118,MATCH([1]Progression_Cycle4!AD$4,[1]Problématiques_compétences!$D$3:$D$118,0),16) -> 0 | AE19: =INDEX([1]Problématiques_compétences!$D$3:$BA$118,MATCH([1]Progression_Cycle4!AE$4,[1]Problématiques_compétences!$D$3:$D$118,0),16) -> 0 | AF19: x | AG19: =INDEX([1]Problématiques_compétences!$D$3:$BA$118,MATCH([1]Progression_Cycle4!AG$4,[1]Problématiques_compétences!$D$3:$D$118,0),16) -> 0 | AH19: =INDEX([1]Problématiques_compétences!$D$3:$BA$118,MATCH([1]Progression_Cycle4!AH$4,[1]Problématiques_compétences!$D$3:$D$118,0),16) -> 0 | AJ19: =INDEX([1]Problématiques_compétences!$D$3:$BA$118,MATCH([1]Progression_Cycle4!AJ$4,[1]Problématiques_compétences!$D$3:$D$118,0),16) -> 0 | AK19: =INDEX([1]Problématiques_compétences!$D$3:$BA$118,MATCH([1]Progression_Cycle4!AK$4,[1]Problématiques_compétences!$D$3:$D$118,0),16) -> 0 | AL19: =INDEX([1]Problématiques_compétences!$D$3:$BA$118,MATCH([1]Progression_Cycle4!AL$4,[1]Problématiques_compétences!$D$3:$D$118,0),16) -> 0
B20: CT 2.7 | C20: Imaginer, concevoir et programmer des applications informatiques nomades. | D20: DIC.1.5 | G20: IP.2.2 | H20: =COUNTIF(I20:AL20,"x") -> 2 | I20: =INDEX([1]Problématiques_compétences!$D$3:$BA$118,MATCH([1]Progression_Cycle4!I$4,[1]Problématiques_compétences!$D$3:$D$118,0),17) -> 0 | J20: =INDEX([1]Problématiques_compétences!$D$3:$BA$118,MATCH([1]Progression_Cycle4!J$4,[1]Problématiques_compétences!$D$3:$D$118,0),17) -> 0 | K20: =INDEX([1]Problématiques_compétences!$D$3:$BA$118,MATCH([1]Progression_Cycle4!K$4,[1]Problématiques_compétences!$D$3:$D$118,0),17) -> 0 | L20: =INDEX([1]Problématiques_compétences!$D$3:$BA$118,MATCH([1]Progression_Cycle4!L$4,[1]Problématiques_compétences!$D$3:$D$118,0),17) -> 0 | M20: =INDEX([1]Problématiques_compétences!$D$3:$BA$118,MATCH([1]Progression_Cycle4!M$4,[1]Problématiques_compétences!$D$3:$D$118,0),17) -> 0 | N20: =INDEX([1]Problématiques_compétences!$D$3:$BA$118,MATCH([1]Progression_Cycle4!N$4,[1]Problématiques_compétences!$D$3:$D$118,0),17) -> 0 | O20: =INDEX([1]Problématiques_compétences!$D$3:$BA$118,MATCH([1]Progression_Cycle4!O$4,[1]Problématiques_compétences!$D$3:$D$118,0),17) -> 0 | P20: =INDEX([1]Problématiques_compétences!$D$3:$BA$118,MATCH([1]Progression_Cycle4!P$4,[1]Problématiques_compétences!$D$3:$D$118,0),17) -> 0 | ... V20: =INDEX([1]Problématiques_compétences!$D$3:$BA$118,MATCH([1]Progression_Cycle4!V$4,[1]Problématiques_compétences!$D$3:$D$118,0),17) -> 0 | W20: x | X20: =INDEX([1]Problématiques_compétences!$D$3:$BA$118,MATCH([1]Progression_Cycle4!X$4,[1]Problématiques_compétences!$D$3:$D$118,0),17) -> 0 | Z20: =INDEX([1]Problématiques_compétences!$D$3:$BA$118,MATCH([1]Progression_Cycle4!Z$4,[1]Problématiques_compétences!$D$3:$D$118,0),17) -> 0 | AA20: =INDEX([1]Problématiques_compétences!$D$3:$BA$118,MATCH([1]Progression_Cycle4!AA$4,[1]Problématiques_compétences!$D$3:$D$118,0),17) -> 0 | AB20: =INDEX([1]Problématiques_compétences!$D$3:$BA$118,MATCH([1]Progression_Cycle4!AB$4,[1]Problématiques_compétences!$D$3:$D$118,0),17) -> 0 | AC20: =INDEX([1]Problématiques_compétences!$D$3:$BA$118,MATCH([1]Progression_Cycle4!AC$4,[1]Problématiques_compétences!$D$3:$D$118,0),17) -> 0 | AD20: =INDEX([1]Problématiques_compétences!$D$3:$BA$118,MATCH([1]Progression_Cycle4!AD$4,[1]Problématiques_compétences!$D$3:$D$118,0),17) -> 0 | AE20: =INDEX([1]Problématiques_compétences!$D$3:$BA$118,MATCH([1]Progression_Cycle4!AE$4,[1]Problématiques_compétences!$D$3:$D$118,0),17) -> 0 | AF20: =INDEX([1]Problématiques_compétences!$D$3:$BA$118,MATCH([1]Progression_Cycle4!AF$4,[1]Problématiques_compétences!$D$3:$D$118,0),17) -> 0 | AG20: x | AH20: =INDEX([1]Problématiques_compétences!$D$3:$BA$118,MATCH([1]Progression_Cycle4!AH$4,[1]Problématiques_compétences!$D$3:$D$118,0),17) -> 0 | AI20: =INDEX([1]Problématiques_compétences!$D$3:$BA$118,MATCH([1]Progression_Cycle4!AI$4,[1]Problématiques_compétences!$D$3:$D$118,0),17) -> 0 | AJ20: =INDEX([1]Problématiques_compétences!$D$3:$BA$118,MATCH([1]Progression_Cycle4!AJ$4,[1]Problématiques_compétences!$D$3:$D$118,0),17) -> 0 | AK20: =INDEX([1]Problématiques_compétences!$D$3:$BA$118,MATCH([1]Progression_Cycle4!AK$4,[1]Problématiques_compétences!$D$3:$D$118,0),17) -> 0
A21: 2 - les méthodes et outils pour apprendre | B21: 3 | C21: S’approprier des outils et des méthodes
B22: CT 3.1 | C22: Exprimer sa pensée à l’aide d’outils de description adaptés : croquis, schémas, graphes, diagrammes, tableaux (représentations non normées). | E22: OTSCIS.2.1 | H22: =COUNTIF(I22:AL22,"x") -> 3 | I22: =INDEX([1]Problématiques_compétences!$D$3:$BA$118,MATCH([1]Progression_Cycle4!I$4,[1]Problématiques_compétences!$D$3:$D$118,0),18) -> 0 | K22: =INDEX([1]Problématiques_compétences!$D$3:$BA$118,MATCH([1]Progression_Cycle4!K$4,[1]Problématiques_compétences!$D$3:$D$118,0),18) -> 0 | L22: =INDEX([1]Problématiques_compétences!$D$3:$BA$118,MATCH([1]Progression_Cycle4!L$4,[1]Problématiques_compétences!$D$3:$D$118,0),18) -> 0 | M22: =INDEX([1]Problématiques_compétences!$D$3:$BA$118,MATCH([1]Progression_Cycle4!M$4,[1]Problématiques_compétences!$D$3:$D$118,0),18) -> 0 | N22: =INDEX([1]Problématiques_compétences!$D$3:$BA$118,MATCH([1]Progression_Cycle4!N$4,[1]Problématiques_compétences!$D$3:$D$118,0),18) -> 0 | O22: =INDEX([1]Problématiques_compétences!$D$3:$BA$118,MATCH([1]Progression_Cycle4!O$4,[1]Problématiques_compétences!$D$3:$D$118,0),18) -> 0 | P22: =INDEX([1]Problématiques_compétences!$D$3:$BA$118,MATCH([1]Progression_Cycle4!P$4,[1]Problématiques_compétences!$D$3:$D$118,0),18) -> 0 | Q22: =INDEX([1]Problématiques_compétences!$D$3:$BA$118,MATCH([1]Progression_Cycle4!Q$4,[1]Problématiques_compétences!$D$3:$D$118,0),18) -> 0 | R22: =INDEX([1]Problématiques_compétences!$D$3:$BA$118,MATCH([1]Progression_Cycle4!R$4,[1]Problématiques_compétences!$D$3:$D$118,0),18) -> 0 | ... V22: =INDEX([1]Problématiques_compétences!$D$3:$BA$118,MATCH([1]Progression_Cycle4!V$4,[1]Problématiques_compétences!$D$3:$D$118,0),18) -> 0 | W22: x | Y22: =INDEX([1]Problématiques_compétences!$D$3:$BA$118,MATCH([1]Progression_Cycle4!Y$4,[1]Problématiques_compétences!$D$3:$D$118,0),18) -> 0 | Z22: =INDEX([1]Problématiques_compétences!$D$3:$BA$118,MATCH([1]Progression_Cycle4!Z$4,[1]Problématiques_compétences!$D$3:$D$118,0),18) -> 0 | AA22: =INDEX([1]Problématiques_compétences!$D$3:$BA$118,MATCH([1]Progression_Cycle4!AA$4,[1]Problématiques_compétences!$D$3:$D$118,0),18) -> 0 | AB22: x | AC22: =INDEX([1]Problématiques_compétences!$D$3:$BA$118,MATCH([1]Progression_Cycle4!AC$4,[1]Problématiques_compétences!$D$3:$D$118,0),18) -> 0 | AD22: =INDEX([1]Problématiques_compétences!$D$3:$BA$118,MATCH([1]Progression_Cycle4!AD$4,[1]Problématiques_compétences!$D$3:$D$118,0),18) -> 0 | AE22: =INDEX([1]Problématiques_compétences!$D$3:$BA$118,MATCH([1]Progression_Cycle4!AE$4,[1]Problématiques_compétences!$D$3:$D$118,0),18) -> 0 | AF22: =INDEX([1]Problématiques_compétences!$D$3:$BA$118,MATCH([1]Progression_Cycle4!AF$4,[1]Problématiques_compétences!$D$3:$D$118,0),18) -> 0 | AG22: =INDEX([1]Problématiques_compétences!$D$3:$BA$118,MATCH([1]Progression_Cycle4!AG$4,[1]Problématiques_compétences!$D$3:$D$118,0),18) -> 0 | AH22: x | AI22: =INDEX([1]Problématiques_compétences!$D$3:$BA$118,MATCH([1]Progression_Cycle4!AI$4,[1]Problématiques_compétences!$D$3:$D$118,0),18) -> 0 | AJ22: =INDEX([1]Problématiques_compétences!$D$3:$BA$118,MATCH([1]Progression_Cycle4!AJ$4,[1]Problématiques_compétences!$D$3:$D$118,0),18) -> 0 | AK22: =INDEX([1]Problématiques_compétences!$D$3:$BA$118,MATCH([1]Progression_Cycle4!AK$4,[1]Problématiques_compétences!$D$3:$D$118,0),18) -> 0 | AL22: =INDEX([1]Problématiques_compétences!$D$3:$BA$118,MATCH([1]Progression_Cycle4!AL$4,[1]Problématiques_compétences!$D$3:$D$118,0),18) -> 0
B23: CT 3.2 | C23: Traduire, à l’aide d’outils de représentation numérique, des choix de solutions sous forme de croquis, de dessins ou de schémas. | D23: DIC.1.5 | E23: OTSCIS.2.2 | H23: =COUNTIF(I23:AL23,"x") -> 6 | I23: x | J23: =INDEX([1]Problématiques_compétences!$D$3:$BA$118,MATCH([1]Progression_Cycle4!J$4,[1]Problématiques_compétences!$D$3:$D$118,0),19) -> 0 | K23: =INDEX([1]Problématiques_compétences!$D$3:$BA$118,MATCH([1]Progression_Cycle4!K$4,[1]Problématiques_compétences!$D$3:$D$118,0),19) -> 0 | L23: =INDEX([1]Problématiques_compétences!$D$3:$BA$118,MATCH([1]Progression_Cycle4!L$4,[1]Problématiques_compétences!$D$3:$D$118,0),19) -> 0 | M23: =INDEX([1]Problématiques_compétences!$D$3:$BA$118,MATCH([1]Progression_Cycle4!M$4,[1]Problématiques_compétences!$D$3:$D$118,0),19) -> 0 | N23: x | O23: =INDEX([1]Problématiques_compétences!$D$3:$BA$118,MATCH([1]Progression_Cycle4!O$4,[1]Problématiques_compétences!$D$3:$D$118,0),19) -> 0 | P23: =INDEX([1]Problématiques_compétences!$D$3:$BA$118,MATCH([1]Progression_Cycle4!P$4,[1]Problématiques_compétences!$D$3:$D$118,0),19) -> 0 | S23: =INDEX([1]Problématiques_compétences!$D$3:$BA$118,MATCH([1]Progression_Cycle4!S$4,[1]Problématiques_compétences!$D$3:$D$118,0),19) -> 0 | T23: =INDEX([1]Problématiques_compétences!$D$3:$BA$118,MATCH([1]Progression_Cycle4!T$4,[1]Problématiques_compétences!$D$3:$D$118,0),19) -> 0 | U23: =INDEX([1]Problématiques_compétences!$D$3:$BA$118,MATCH([1]Progression_Cycle4!U$4,[1]Problématiques_compétences!$D$3:$D$118,0),19) -> 0 | V23: =INDEX([1]Problématiques_compétences!$D$3:$BA$118,MATCH([1]Progression_Cycle4!V$4,[1]Problématiques_compétences!$D$3:$D$118,0),19) -> 0 | W23: x | Y23: x | Z23: =INDEX([1]Problématiques_compétences!$D$3:$BA$118,MATCH([1]Progression_Cycle4!Z$4,[1]Problématiques_compétences!$D$3:$D$118,0),19) -> 0 | AA23: =INDEX([1]Problématiques_compétences!$D$3:$BA$118,MATCH([1]Progression_Cycle4!AA$4,[1]Problématiques_compétences!$D$3:$D$118,0),19) -> 0 | AB23: x | AC23: =INDEX([1]Problématiques_compétences!$D$3:$BA$118,MATCH([1]Progression_Cycle4!AC$4,[1]Problématiques_compétences!$D$3:$D$118,0),19) -> 0 | AD23: =INDEX([1]Problématiques_compétences!$D$3:$BA$118,MATCH([1]Progression_Cycle4!AD$4,[1]Problématiques_compétences!$D$3:$D$118,0),19) -> 0 | AE23: =INDEX([1]Problématiques_compétences!$D$3:$BA$118,MATCH([1]Progression_Cycle4!AE$4,[1]Problématiques_compétences!$D$3:$D$118,0),19) -> 0 | AF23: =INDEX([1]Problématiques_compétences!$D$3:$BA$118,MATCH([1]Progression_Cycle4!AF$4,[1]Problématiques_compétences!$D$3:$D$118,0),19) -> 0 | AG23: =INDEX([1]Problématiques_compétences!$D$3:$BA$118,MATCH([1]Progression_Cycle4!AG$4,[1]Problématiques_compétences!$D$3:$D$118,0),19) -> 0 | AH23: x | AI23: =INDEX([1]Problématiques_compétences!$D$3:$BA$118,MATCH([1]Progression_Cycle4!AI$4,[1]Problématiques_compétences!$D$3:$D$118,0),19) -> 0 | AJ23: =INDEX([1]Problématiques_compétences!$D$3:$BA$118,MATCH([1]Progression_Cycle4!AJ$4,[1]Problématiques_compétences!$D$3:$D$118,0),19) -> 0 | AK23: =INDEX([1]Problématiques_compétences!$D$3:$BA$118,MATCH([1]Progression_Cycle4!AK$4,[1]Problématiques_compétences!$D$3:$D$118,0),19) -> 0 | AL23: =INDEX([1]Problématiques_compétences!$D$3:$BA$118,MATCH([1]Progression_Cycle4!AL$4,[1]Problématiques_compétences!$D$3:$D$118,0),19) -> 0
B24: CT 3.3 | C24: Présenter à l’oral et à l’aide de supports numériques multimédia des solutions techniques au moment des revues de projet. | D24: DIC.1.7 | H24: =COUNTIF(I24:AL24,"x") -> 9 | I24: =INDEX([1]Problématiques_compétences!$D$3:$BA$118,MATCH([1]Progression_Cycle4!I$4,[1]Problématiques_compétences!$D$3:$D$118,0),20) -> 0 | J24: x | K24: =INDEX([1]Problématiques_compétences!$D$3:$BA$118,MATCH([1]Progression_Cycle4!K$4,[1]Problématiques_compétences!$D$3:$D$118,0),20) -> 0 | L24: =INDEX([1]Problématiques_compétences!$D$3:$BA$118,MATCH([1]Progression_Cycle4!L$4,[1]Problématiques_compétences!$D$3:$D$118,0),20) -> 0 | M24: =INDEX([1]Problématiques_compétences!$D$3:$BA$118,MATCH([1]Progression_Cycle4!M$4,[1]Problématiques_compétences!$D$3:$D$118,0),20) -> 0 | N24: =INDEX([1]Problématiques_compétences!$D$3:$BA$118,MATCH([1]Progression_Cycle4!N$4,[1]Problématiques_compétences!$D$3:$D$118,0),20) -> 0 | O24: =INDEX([1]Problématiques_compétences!$D$3:$BA$118,MATCH([1]Progression_Cycle4!O$4,[1]Problématiques_compétences!$D$3:$D$118,0),20) -> 0 | P24: x | R24: =INDEX([1]Problématiques_compétences!$D$3:$BA$118,MATCH([1]Progression_Cycle4!R$4,[1]Problématiques_compétences!$D$3:$D$118,0),20) -> 0 | S24: =INDEX([1]Problématiques_compétences!$D$3:$BA$118,MATCH([1]Progression_Cycle4!S$4,[1]Problématiques_compétences!$D$3:$D$118,0),20) -> 0 | T24: =INDEX([1]Problématiques_compétences!$D$3:$BA$118,MATCH([1]Progression_Cycle4!T$4,[1]Problématiques_compétences!$D$3:$D$118,0),20) -> x | U24: =INDEX([1]Problématiques_compétences!$D$3:$BA$118,MATCH([1]Progression_Cycle4!U$4,[1]Problématiques_compétences!$D$3:$D$118,0),20) -> 0 | V24: =INDEX([1]Problématiques_compétences!$D$3:$BA$118,MATCH([1]Progression_Cycle4!V$4,[1]Problématiques_compétences!$D$3:$D$118,0),20) -> 0 | W24: =INDEX([1]Problématiques_compétences!$D$3:$BA$118,MATCH([1]Progression_Cycle4!W$4,[1]Problématiques_compétences!$D$3:$D$118,0),20) -> 0 | X24: =INDEX([1]Problématiques_compétences!$D$3:$BA$118,MATCH([1]Progression_Cycle4!X$4,[1]Problématiques_compétences!$D$3:$D$118,0),20) -> 0 | Y24: x | Z24: =INDEX([1]Problématiques_compétences!$D$3:$BA$118,MATCH([1]Progression_Cycle4!Z$4,[1]Problématiques_compétences!$D$3:$D$118,0),20) -> 0 | AA24: =INDEX([1]Problématiques_compétences!$D$3:$BA$118,MATCH([1]Progression_Cycle4!AA$4,[1]Problématiques_compétences!$D$3:$D$118,0),20) -> 0 | AB24: x | AC24: x | AD24: x | AE24: =INDEX([1]Problématiques_compétences!$D$3:$BA$118,MATCH([1]Progression_Cycle4!AE$4,[1]Problématiques_compétences!$D$3:$D$118,0),20) -> 0 | AF24: x | AG24: =INDEX([1]Problématiques_compétences!$D$3:$BA$118,MATCH([1]Progression_Cycle4!AG$4,[1]Problématiques_compétences!$D$3:$D$118,0),20) -> 0 | AH24: x | AI24: =INDEX([1]Problématiques_compétences!$D$3:$BA$118,MATCH([1]Progression_Cycle4!AI$4,[1]Problématiques_compétences!$D$3:$D$118,0),20) -> 0 | AJ24: =INDEX([1]Problématiques_compétences!$D$3:$BA$118,MATCH([1]Progression_Cycle4!AJ$4,[1]Problématiques_compétences!$D$3:$D$118,0),20) -> 0 | AK24: =INDEX([1]Problématiques_compétences!$D$3:$BA$118,MATCH([1]Progression_Cycle4!AK$4,[1]Problématiques_compétences!$D$3:$D$118,0),20) -> 0 | AL24: =INDEX([1]Problématiques_compétences!$D$3:$BA$118,MATCH([1]Progression_Cycle4!AL$4,[1]Problématiques_compétences!$D$3:$D$118,0),20) -> 0
A25: 1 - les langages pour penser et communiquer | B25: 4 | C25: Pratiquer des langages
B26: CT 4.1 | C26: Décrire, en utilisant les outils et langages de descriptions adaptés, la structure et le comportement des objets. | E26: OTSCIS.1.4 | F26: MSOST.1.5 | H26: =COUNTIF(I26:AL26,"x") -> 2 | I26: =INDEX([1]Problématiques_compétences!$D$3:$BA$118,MATCH([1]Progression_Cycle4!I$4,[1]Problématiques_compétences!$D$3:$D$118,0),21) -> 0 | J26: =INDEX([1]Problématiques_compétences!$D$3:$BA$118,MATCH([1]Progression_Cycle4!J$4,[1]Problématiques_compétences!$D$3:$D$118,0),21) -> 0 | K26: =INDEX([1]Problématiques_compétences!$D$3:$BA$118,MATCH([1]Progression_Cycle4!K$4,[1]Problématiques_compétences!$D$3:$D$118,0),21) -> 0 | L26: =INDEX([1]Problématiques_compétences!$D$3:$BA$118,MATCH([1]Progression_Cycle4!L$4,[1]Problématiques_compétences!$D$3:$D$118,0),21) -> 0 | M26: =INDEX([1]Problématiques_compétences!$D$3:$BA$118,MATCH([1]Progression_Cycle4!M$4,[1]Problématiques_compétences!$D$3:$D$118,0),21) -> 0 | N26: =INDEX([1]Problématiques_compétences!$D$3:$BA$118,MATCH([1]Progression_Cycle4!N$4,[1]Problématiques_compétences!$D$3:$D$118,0),21) -> 0 | O26: =INDEX([1]Problématiques_compétences!$D$3:$BA$118,MATCH([1]Progression_Cycle4!O$4,[1]Problématiques_compétences!$D$3:$D$118,0),21) -> 0 | Q26: =INDEX([1]Problématiques_compétences!$D$3:$BA$118,MATCH([1]Progression_Cycle4!Q$4,[1]Problématiques_compétences!$D$3:$D$118,0),21) -> 0 | R26: =INDEX([1]Problématiques_compétences!$D$3:$BA$118,MATCH([1]Progression_Cycle4!R$4,[1]Problématiques_compétences!$D$3:$D$118,0),21) -> 0 | U26: =INDEX([1]Problématiques_compétences!$D$3:$BA$118,MATCH([1]Progression_Cycle4!U$4,[1]Problématiques_compétences!$D$3:$D$118,0),21) -> 0 | V26: =INDEX([1]Problématiques_compétences!$D$3:$BA$118,MATCH([1]Progression_Cycle4!V$4,[1]Problématiques_compétences!$D$3:$D$118,0),21) -> 0 | X26: =INDEX([1]Problématiques_compétences!$D$3:$BA$118,MATCH([1]Progression_Cycle4!X$4,[1]Problématiques_compétences!$D$3:$D$118,0),21) -> 0 | Y26: =INDEX([1]Problématiques_compétences!$D$3:$BA$118,MATCH([1]Progression_Cycle4!Y$4,[1]Problématiques_compétences!$D$3:$D$118,0),21) -> 0 | Z26: =INDEX([1]Problématiques_compétences!$D$3:$BA$118,MATCH([1]Progression_Cycle4!Z$4,[1]Problématiques_compétences!$D$3:$D$118,0),21) -> 0 | AA26: x | AB26: =INDEX([1]Problématiques_compétences!$D$3:$BA$118,MATCH([1]Progression_Cycle4!AB$4,[1]Problématiques_compétences!$D$3:$D$118,0),21) -> 0 | AD26: =INDEX([1]Problématiques_compétences!$D$3:$BA$118,MATCH([1]Progression_Cycle4!AD$4,[1]Problématiques_compétences!$D$3:$D$118,0),21) -> 0 | AE26: =INDEX([1]Problématiques_compétences!$D$3:$BA$118,MATCH([1]Progression_Cycle4!AE$4,[1]Problématiques_compétences!$D$3:$D$118,0),21) -> 0 | AF26: =INDEX([1]Problématiques_compétences!$D$3:$BA$118,MATCH([1]Progression_Cycle4!AF$4,[1]Problématiques_compétences!$D$3:$D$118,0),21) -> 0 | AH26: x | AI26: =INDEX([1]Problématiques_compétences!$D$3:$BA$118,MATCH([1]Progression_Cycle4!AI$4,[1]Problématiques_compétences!$D$3:$D$118,0),21) -> 0 | AJ26: =INDEX([1]Problématiques_compétences!$D$3:$BA$118,MATCH([1]Progression_Cycle4!AJ$4,[1]Problématiques_compétences!$D$3:$D$118,0),21) -> 0 | AK26: =INDEX([1]Problématiques_compétences!$D$3:$BA$118,MATCH([1]Progression_Cycle4!AK$4,[1]Problématiques_compétences!$D$3:$D$118,0),21) -> 0 | AL26: =INDEX([1]Problématiques_compétences!$D$3:$BA$118,MATCH([1]Progression_Cycle4!AL$4,[1]Problématiques_compétences!$D$3:$D$118,0),21) -> 0
B27: CT 4.2 | C27: Appliquer les principes élémentaires de l’algorithmique et du codage à la résolution d’un problème simple. | G27: IP.2.3 | H27: =COUNTIF(I27:AL27,"x") -> 2 | I27: =INDEX([1]Problématiques_compétences!$D$3:$BA$118,MATCH([1]Progression_Cycle4!I$4,[1]Problématiques_compétences!$D$3:$D$118,0),22) -> 0 | J27: =INDEX([1]Problématiques_compétences!$D$3:$BA$118,MATCH([1]Progression_Cycle4!J$4,[1]Problématiques_compétences!$D$3:$D$118,0),22) -> 0 | L27: =INDEX([1]Problématiques_compétences!$D$3:$BA$118,MATCH([1]Progression_Cycle4!L$4,[1]Problématiques_compétences!$D$3:$D$118,0),22) -> 0 | M27: =INDEX([1]Problématiques_compétences!$D$3:$BA$118,MATCH([1]Progression_Cycle4!M$4,[1]Problématiques_compétences!$D$3:$D$118,0),22) -> 0 | N27: =INDEX([1]Problématiques_compétences!$D$3:$BA$118,MATCH([1]Progression_Cycle4!N$4,[1]Problématiques_compétences!$D$3:$D$118,0),22) -> 0 | O27: =INDEX([1]Problématiques_compétences!$D$3:$BA$118,MATCH([1]Progression_Cycle4!O$4,[1]Problématiques_compétences!$D$3:$D$118,0),22) -> 0 | Q27: =INDEX([1]Problématiques_compétences!$D$3:$BA$118,MATCH([1]Progression_Cycle4!Q$4,[1]Problématiques_compétences!$D$3:$D$118,0),22) -> 0 | R27: =INDEX([1]Problématiques_compétences!$D$3:$BA$118,MATCH([1]Progression_Cycle4!R$4,[1]Problématiques_compétences!$D$3:$D$118,0),22) -> 0 | T27: =INDEX([1]Problématiques_compétences!$D$3:$BA$118,MATCH([1]Progression_Cycle4!T$4,[1]Problématiques_compétences!$D$3:$D$118,0),22) -> 0 | U27: =INDEX([1]Problématiques_compétences!$D$3:$BA$118,MATCH([1]Progression_Cycle4!U$4,[1]Problématiques_compétences!$D$3:$D$118,0),22) -> 0 | V27: x | W27: =INDEX([1]Problématiques_compétences!$D$3:$BA$118,MATCH([1]Progression_Cycle4!W$4,[1]Problématiques_compétences!$D$3:$D$118,0),22) -> 0 | X27: =INDEX([1]Problématiques_compétences!$D$3:$BA$118,MATCH([1]Progression_Cycle4!X$4,[1]Problématiques_compétences!$D$3:$D$118,0),22) -> 0 | Y27: =INDEX([1]Problématiques_compétences!$D$3:$BA$118,MATCH([1]Progression_Cycle4!Y$4,[1]Problématiques_compétences!$D$3:$D$118,0),22) -> 0 | Z27: =INDEX([1]Problématiques_compétences!$D$3:$BA$118,MATCH([1]Progression_Cycle4!Z$4,[1]Problématiques_compétences!$D$3:$D$118,0),22) -> 0 | AA27: =INDEX([1]Problématiques_compétences!$D$3:$BA$118,MATCH([1]Progression_Cycle4!AA$4,[1]Problématiques_compétences!$D$3:$D$118,0),22) -> 0 | AB27: =INDEX([1]Problématiques_compétences!$D$3:$BA$118,MATCH([1]Progression_Cycle4!AB$4,[1]Problématiques_compétences!$D$3:$D$118,0),22) -> 0 | AC27: =INDEX([1]Problématiques_compétences!$D$3:$BA$118,MATCH([1]Progression_Cycle4!AC$4,[1]Problématiques_compétences!$D$3:$D$118,0),22) -> 0 | AD27: =INDEX([1]Problématiques_compétences!$D$3:$BA$118,MATCH([1]Progression_Cycle4!AD$4,[1]Problématiques_compétences!$D$3:$D$118,0),22) -> 0 | ... AJ27: =INDEX([1]Problématiques_compétences!$D$3:$BA$118,MATCH([1]Progression_Cycle4!AJ$4,[1]Problématiques_compétences!$D$3:$D$118,0),22) -> 0 | AL27: =INDEX([1]Problématiques_compétences!$D$3:$BA$118,MATCH([1]Progression_Cycle4!AL$4,[1]Problématiques_compétences!$D$3:$D$118,0),22) -> 0
A28: 2 - les méthodes et outils pour apprendre | B28: 5 | C28: Mobiliser des outils numériques
B29: CT 5.1 | C29: Simuler numériquement la structure et/ou le comportement d’un objet. | F29: MSOST.2.2 | H29: =COUNTIF(I29:AL29,"x") -> 2 | I29: =INDEX([1]Problématiques_compétences!$D$3:$BA$118,MATCH([1]Progression_Cycle4!I$4,[1]Problématiques_compétences!$D$3:$D$118,0),23) -> 0 | J29: =INDEX([1]Problématiques_compétences!$D$3:$BA$118,MATCH([1]Progression_Cycle4!J$4,[1]Problématiques_compétences!$D$3:$D$118,0),23) -> 0 | K29: =INDEX([1]Problématiques_compétences!$D$3:$BA$118,MATCH([1]Progression_Cycle4!K$4,[1]Problématiques_compétences!$D$3:$D$118,0),23) -> 0 | L29: =INDEX([1]Problématiques_compétences!$D$3:$BA$118,MATCH([1]Progression_Cycle4!L$4,[1]Problématiques_compétences!$D$3:$D$118,0),23) -> 0 | M29: =INDEX([1]Problématiques_compétences!$D$3:$BA$118,MATCH([1]Progression_Cycle4!M$4,[1]Problématiques_compétences!$D$3:$D$118,0),23) -> 0 | N29: =INDEX([1]Problématiques_compétences!$D$3:$BA$118,MATCH([1]Progression_Cycle4!N$4,[1]Problématiques_compétences!$D$3:$D$118,0),23) -> 0 | O29: =INDEX([1]Problématiques_compétences!$D$3:$BA$118,MATCH([1]Progression_Cycle4!O$4,[1]Problématiques_compétences!$D$3:$D$118,0),23) -> 0 | P29: =INDEX([1]Problématiques_compétences!$D$3:$BA$118,MATCH([1]Progression_Cycle4!P$4,[1]Problématiques_compétences!$D$3:$D$118,0),23) -> 0 | Q29: =INDEX([1]Problématiques_compétences!$D$3:$BA$118,MATCH([1]Progression_Cycle4!Q$4,[1]Problématiques_compétences!$D$3:$D$118,0),23) -> 0 | S29: =INDEX([1]Problématiques_compétences!$D$3:$BA$118,MATCH([1]Progression_Cycle4!S$4,[1]Problématiques_compétences!$D$3:$D$118,0),23) -> 0 | T29: x | U29: =INDEX([1]Problématiques_compétences!$D$3:$BA$118,MATCH([1]Progression_Cycle4!U$4,[1]Problématiques_compétences!$D$3:$D$118,0),23) -> 0 | V29: =INDEX([1]Problématiques_compétences!$D$3:$BA$118,MATCH([1]Progression_Cycle4!V$4,[1]Problématiques_compétences!$D$3:$D$118,0),23) -> 0 | W29: =INDEX([1]Problématiques_compétences!$D$3:$BA$118,MATCH([1]Progression_Cycle4!W$4,[1]Problématiques_compétences!$D$3:$D$118,0),23) -> 0 | X29: =INDEX([1]Problématiques_compétences!$D$3:$BA$118,MATCH([1]Progression_Cycle4!X$4,[1]Problématiques_compétences!$D$3:$D$118,0),23) -> 0 | Z29: =INDEX([1]Problématiques_compétences!$D$3:$BA$118,MATCH([1]Progression_Cycle4!Z$4,[1]Problématiques_compétences!$D$3:$D$118,0),23) -> 0 | AA29: =INDEX([1]Problématiques_compétences!$D$3:$BA$118,MATCH([1]Progression_Cycle4!AA$4,[1]Problématiques_compétences!$D$3:$D$118,0),23) -> 0 | AB29: =INDEX([1]Problématiques_compétences!$D$3:$BA$118,MATCH([1]Progression_Cycle4!AB$4,[1]Problématiques_compétences!$D$3:$D$118,0),23) -> 0 | AC29: =INDEX([1]Problématiques_compétences!$D$3:$BA$118,MATCH([1]Progression_Cycle4!AC$4,[1]Problématiques_compétences!$D$3:$D$118,0),23) -> 0 | AD29: x | AE29: =INDEX([1]Problématiques_compétences!$D$3:$BA$118,MATCH([1]Progression_Cycle4!AE$4,[1]Problématiques_compétences!$D$3:$D$118,0),23) -> 0 | AF29: =INDEX([1]Problématiques_compétences!$D$3:$BA$118,MATCH([1]Progression_Cycle4!AF$4,[1]Problématiques_compétences!$D$3:$D$118,0),23) -> 0 | AG29: =INDEX([1]Problématiques_compétences!$D$3:$BA$118,MATCH([1]Progression_Cycle4!AG$4,[1]Problématiques_compétences!$D$3:$D$118,0),23) -> 0 | AH29: =INDEX([1]Problématiques_compétences!$D$3:$BA$118,MATCH([1]Progression_Cycle4!AH$4,[1]Problématiques_compétences!$D$3:$D$118,0),23) -> 0 | AI29: =INDEX([1]Problématiques_compétences!$D$3:$BA$118,MATCH([1]Progression_Cycle4!AI$4,[1]Problématiques_compétences!$D$3:$D$118,0),23) -> 0 | AJ29: =INDEX([1]Problématiques_compétences!$D$3:$BA$118,MATCH([1]Progression_Cycle4!AJ$4,[1]Problématiques_compétences!$D$3:$D$118,0),23) -> 0 | AK29: =INDEX([1]Problématiques_compétences!$D$3:$BA$118,MATCH([1]Progression_Cycle4!AK$4,[1]Problématiques_compétences!$D$3:$D$118,0),23) -> 0 | AL29: =INDEX([1]Problématiques_compétences!$D$3:$BA$118,MATCH([1]Progression_Cycle4!AL$4,[1]Problématiques_compétences!$D$3:$D$118,0),23) -> 0
B30: CT 5.2 | C30: Organiser, structurer et stocker des ressources numériques. | D30: DIC.1.6 | H30: =COUNTIF(I30:AL30,"x") -> 2 | I30: =INDEX([1]Problématiques_compétences!$D$3:$BA$118,MATCH([1]Progression_Cycle4!I$4,[1]Problématiques_compétences!$D$3:$D$118,0),24) -> 0 | J30: =INDEX([1]Problématiques_compétences!$D$3:$BA$118,MATCH([1]Progression_Cycle4!J$4,[1]Problématiques_compétences!$D$3:$D$118,0),24) -> 0 | K30: =INDEX([1]Problématiques_compétences!$D$3:$BA$118,MATCH([1]Progression_Cycle4!K$4,[1]Problématiques_compétences!$D$3:$D$118,0),24) -> 0 | L30: =INDEX([1]Problématiques_compétences!$D$3:$BA$118,MATCH([1]Progression_Cycle4!L$4,[1]Problématiques_compétences!$D$3:$D$118,0),24) -> 0 | M30: =INDEX([1]Problématiques_compétences!$D$3:$BA$118,MATCH([1]Progression_Cycle4!M$4,[1]Problématiques_compétences!$D$3:$D$118,0),24) -> 0 | N30: =INDEX([1]Problématiques_compétences!$D$3:$BA$118,MATCH([1]Progression_Cycle4!N$4,[1]Problématiques_compétences!$D$3:$D$118,0),24) -> 0 | O30: =INDEX([1]Problématiques_compétences!$D$3:$BA$118,MATCH([1]Progression_Cycle4!O$4,[1]Problématiques_compétences!$D$3:$D$118,0),24) -> 0 | P30: =INDEX([1]Problématiques_compétences!$D$3:$BA$118,MATCH([1]Progression_Cycle4!P$4,[1]Problématiques_compétences!$D$3:$D$118,0),24) -> 0 | Q30: =INDEX([1]Problématiques_compétences!$D$3:$BA$118,MATCH([1]Progression_Cycle4!Q$4,[1]Problématiques_compétences!$D$3:$D$118,0),24) -> 0 | S30: =INDEX([1]Problématiques_compétences!$D$3:$BA$118,MATCH([1]Progression_Cycle4!S$4,[1]Problématiques_compétences!$D$3:$D$118,0),24) -> 0 | T30: =INDEX([1]Problématiques_compétences!$D$3:$BA$118,MATCH([1]Progression_Cycle4!T$4,[1]Problématiques_compétences!$D$3:$D$118,0),24) -> 0 | U30: =INDEX([1]Problématiques_compétences!$D$3:$BA$118,MATCH([1]Progression_Cycle4!U$4,[1]Problématiques_compétences!$D$3:$D$118,0),24) -> 0 | V30: =INDEX([1]Problématiques_compétences!$D$3:$BA$118,MATCH([1]Progression_Cycle4!V$4,[1]Problématiques_compétences!$D$3:$D$118,0),24) -> 0 | W30: =INDEX([1]Problématiques_compétences!$D$3:$BA$118,MATCH([1]Progression_Cycle4!W$4,[1]Problématiques_compétences!$D$3:$D$118,0),24) -> 0 | X30: =INDEX([1]Problématiques_compétences!$D$3:$BA$118,MATCH([1]Progression_Cycle4!X$4,[1]Problématiques_compétences!$D$3:$D$118,0),24) -> 0 | Y30: =INDEX([1]Problématiques_compétences!$D$3:$BA$118,MATCH([1]Progression_Cycle4!Y$4,[1]Problématiques_compétences!$D$3:$D$118,0),24) -> 0 | Z30: =INDEX([1]Problématiques_compétences!$D$3:$BA$118,MATCH([1]Progression_Cycle4!Z$4,[1]Problématiques_compétences!$D$3:$D$118,0),24) -> 0 | ... AC30: =INDEX([1]Problématiques_compétences!$D$3:$BA$118,MATCH([1]Progression_Cycle4!AC$4,[1]Problématiques_compétences!$D$3:$D$118,0),24) -> 0 | AD30: x | AE30: =INDEX([1]Problématiques_compétences!$D$3:$BA$118,MATCH([1]Progression_Cycle4!AE$4,[1]Problématiques_compétences!$D$3:$D$118,0),24) -> 0 | AG30: =INDEX([1]Problématiques_compétences!$D$3:$BA$118,MATCH([1]Progression_Cycle4!AG$4,[1]Problématiques_compétences!$D$3:$D$118,0),24) -> 0 | AH30: x | AI30: =INDEX([1]Problématiques_compétences!$D$3:$BA$118,MATCH([1]Progression_Cycle4!AI$4,[1]Problématiques_compétences!$D$3:$D$118,0),24) -> 0 | AJ30: =INDEX([1]Problématiques_compétences!$D$3:$BA$118,MATCH([1]Progression_Cycle4!AJ$4,[1]Problématiques_compétences!$D$3:$D$118,0),24) -> 0 | AK30: =INDEX([1]Problématiques_compétences!$D$3:$BA$118,MATCH([1]Progression_Cycle4!AK$4,[1]Problématiques_compétences!$D$3:$D$118,0),24) -> 0 | AL30: =INDEX([1]Problématiques_compétences!$D$3:$BA$118,MATCH([1]Progression_Cycle4!AL$4,[1]Problématiques_compétences!$D$3:$D$118,0),24) -> 0
B31: CT 5.3 | C31: Lire, utiliser et produire des représentations numériques d’objets. | E31: OTSCIS.2.2 | H31: =COUNTIF(I31:AL31,"x") -> 1 | I31: =INDEX([1]Problématiques_compétences!$D$3:$BA$118,MATCH([1]Progression_Cycle4!I$4,[1]Problématiques_compétences!$D$3:$D$118,0),25) -> 0 | J31: =INDEX([1]Problématiques_compétences!$D$3:$BA$118,MATCH([1]Progression_Cycle4!J$4,[1]Problématiques_compétences!$D$3:$D$118,0),25) -> 0 | K31: =INDEX([1]Problématiques_compétences!$D$3:$BA$118,MATCH([1]Progression_Cycle4!K$4,[1]Problématiques_compétences!$D$3:$D$118,0),25) -> 0 | L31: =INDEX([1]Problématiques_compétences!$D$3:$BA$118,MATCH([1]Progression_Cycle4!L$4,[1]Problématiques_compétences!$D$3:$D$118,0),25) -> 0 | M31: =INDEX([1]Problématiques_compétences!$D$3:$BA$118,MATCH([1]Progression_Cycle4!M$4,[1]Problématiques_compétences!$D$3:$D$118,0),25) -> 0 | N31: =INDEX([1]Problématiques_compétences!$D$3:$BA$118,MATCH([1]Progression_Cycle4!N$4,[1]Problématiques_compétences!$D$3:$D$118,0),25) -> 0 | O31: =INDEX([1]Problématiques_compétences!$D$3:$BA$118,MATCH([1]Progression_Cycle4!O$4,[1]Problématiques_compétences!$D$3:$D$118,0),25) -> 0 | P31: =INDEX([1]Problématiques_compétences!$D$3:$BA$118,MATCH([1]Progression_Cycle4!P$4,[1]Problématiques_compétences!$D$3:$D$118,0),25) -> 0 | Q31: =INDEX([1]Problématiques_compétences!$D$3:$BA$118,MATCH([1]Progression_Cycle4!Q$4,[1]Problématiques_compétences!$D$3:$D$118,0),25) -> 0 | S31: =INDEX([1]Problématiques_compétences!$D$3:$BA$118,MATCH([1]Progression_Cycle4!S$4,[1]Problématiques_compétences!$D$3:$D$118,0),25) -> 0 | T31: =INDEX([1]Problématiques_compétences!$D$3:$BA$118,MATCH([1]Progression_Cycle4!T$4,[1]Problématiques_compétences!$D$3:$D$118,0),25) -> 0 | U31: =INDEX([1]Problématiques_compétences!$D$3:$BA$118,MATCH([1]Progression_Cycle4!U$4,[1]Problématiques_compétences!$D$3:$D$118,0),25) -> 0 | V31: =INDEX([1]Problématiques_compétences!$D$3:$BA$118,MATCH([1]Progression_Cycle4!V$4,[1]Problématiques_compétences!$D$3:$D$118,0),25) -> 0 | W31: =INDEX([1]Problématiques_compétences!$D$3:$BA$118,MATCH([1]Progression_Cycle4!W$4,[1]Problématiques_compétences!$D$3:$D$118,0),25) -> 0 | X31: =INDEX([1]Problématiques_compétences!$D$3:$BA$118,MATCH([1]Progression_Cycle4!X$4,[1]Problématiques_compétences!$D$3:$D$118,0),25) -> 0 | Y31: =INDEX([1]Problématiques_compétences!$D$3:$BA$118,MATCH([1]Progression_Cycle4!Y$4,[1]Problématiques_compétences!$D$3:$D$118,0),25) -> 0 | Z31: =INDEX([1]Problématiques_compétences!$D$3:$BA$118,MATCH([1]Progression_Cycle4!Z$4,[1]Problématiques_compétences!$D$3:$D$118,0),25) -> 0 | ... AB31: =INDEX([1]Problématiques_compétences!$D$3:$BA$118,MATCH([1]Progression_Cycle4!AB$4,[1]Problématiques_compétences!$D$3:$D$118,0),25) -> 0 | AD31: =INDEX([1]Problématiques_compétences!$D$3:$BA$118,MATCH([1]Progression_Cycle4!AD$4,[1]Problématiques_compétences!$D$3:$D$118,0),25) -> 0 | AE31: =INDEX([1]Problématiques_compétences!$D$3:$BA$118,MATCH([1]Progression_Cycle4!AE$4,[1]Problématiques_compétences!$D$3:$D$118,0),25) -> 0 | AF31: =INDEX([1]Problématiques_compétences!$D$3:$BA$118,MATCH([1]Progression_Cycle4!AF$4,[1]Problématiques_compétences!$D$3:$D$118,0),25) -> 0 | AG31: =INDEX([1]Problématiques_compétences!$D$3:$BA$118,MATCH([1]Progression_Cycle4!AG$4,[1]Problématiques_compétences!$D$3:$D$118,0),25) -> 0 | AH31: x | AI31: =INDEX([1]Problématiques_compétences!$D$3:$BA$118,MATCH([1]Progression_Cycle4!AI$4,[1]Problématiques_compétences!$D$3:$D$118,0),25) -> 0 | AJ31: =INDEX([1]Problématiques_compétences!$D$3:$BA$118,MATCH([1]Progression_Cycle4!AJ$4,[1]Problématiques_compétences!$D$3:$D$118,0),25) -> 0 | AK31: =INDEX([1]Problématiques_compétences!$D$3:$BA$118,MATCH([1]Progression_Cycle4!AK$4,[1]Problématiques_compétences!$D$3:$D$118,0),25) -> 0 | AL31: =INDEX([1]Problématiques_compétences!$D$3:$BA$118,MATCH([1]Progression_Cycle4!AL$4,[1]Problématiques_compétences!$D$3:$D$118,0),25) -> 0
B32: CT 5.4 | C32: Piloter un système connecté localement ou à distance. | G32: IP.2.2 | H32: =COUNTIF(I32:AL32,"x") -> 1 | I32: =INDEX([1]Problématiques_compétences!$D$3:$BA$118,MATCH([1]Progression_Cycle4!I$4,[1]Problématiques_compétences!$D$3:$D$118,0),26) -> 0 | J32: =INDEX([1]Problématiques_compétences!$D$3:$BA$118,MATCH([1]Progression_Cycle4!J$4,[1]Problématiques_compétences!$D$3:$D$118,0),26) -> 0 | K32: =INDEX([1]Problématiques_compétences!$D$3:$BA$118,MATCH([1]Progression_Cycle4!K$4,[1]Problématiques_compétences!$D$3:$D$118,0),26) -> 0 | L32: =INDEX([1]Problématiques_compétences!$D$3:$BA$118,MATCH([1]Progression_Cycle4!L$4,[1]Problématiques_compétences!$D$3:$D$118,0),26) -> 0 | M32: =INDEX([1]Problématiques_compétences!$D$3:$BA$118,MATCH([1]Progression_Cycle4!M$4,[1]Problématiques_compétences!$D$3:$D$118,0),26) -> 0 | N32: =INDEX([1]Problématiques_compétences!$D$3:$BA$118,MATCH([1]Progression_Cycle4!N$4,[1]Problématiques_compétences!$D$3:$D$118,0),26) -> 0 | O32: =INDEX([1]Problématiques_compétences!$D$3:$BA$118,MATCH([1]Progression_Cycle4!O$4,[1]Problématiques_compétences!$D$3:$D$118,0),26) -> 0 | P32: =INDEX([1]Problématiques_compétences!$D$3:$BA$118,MATCH([1]Progression_Cycle4!P$4,[1]Problématiques_compétences!$D$3:$D$118,0),26) -> 0 | ... V32: =INDEX([1]Problématiques_compétences!$D$3:$BA$118,MATCH([1]Progression_Cycle4!V$4,[1]Problématiques_compétences!$D$3:$D$118,0),26) -> 0 | W32: x | X32: =INDEX([1]Problématiques_compétences!$D$3:$BA$118,MATCH([1]Progression_Cycle4!X$4,[1]Problématiques_compétences!$D$3:$D$118,0),26) -> 0 | Z32: =INDEX([1]Problématiques_compétences!$D$3:$BA$118,MATCH([1]Progression_Cycle4!Z$4,[1]Problématiques_compétences!$D$3:$D$118,0),26) -> 0 | AA32: =INDEX([1]Problématiques_compétences!$D$3:$BA$118,MATCH([1]Progression_Cycle4!AA$4,[1]Problématiques_compétences!$D$3:$D$118,0),26) -> 0 | AB32: =INDEX([1]Problématiques_compétences!$D$3:$BA$118,MATCH([1]Progression_Cycle4!AB$4,[1]Problématiques_compétences!$D$3:$D$118,0),26) -> 0 | AC32: =INDEX([1]Problématiques_compétences!$D$3:$BA$118,MATCH([1]Progression_Cycle4!AC$4,[1]Problématiques_compétences!$D$3:$D$118,0),26) -> 0 | AD32: =INDEX([1]Problématiques_compétences!$D$3:$BA$118,MATCH([1]Progression_Cycle4!AD$4,[1]Problématiques_compétences!$D$3:$D$118,0),26) -> 0 | AE32: =INDEX([1]Problématiques_compétences!$D$3:$BA$118,MATCH([1]Progression_Cycle4!AE$4,[1]Problématiques_compétences!$D$3:$D$118,0),26) -> 0 | AF32: =INDEX([1]Problématiques_compétences!$D$3:$BA$118,MATCH([1]Progression_Cycle4!AF$4,[1]Problématiques_compétences!$D$3:$D$118,0),26) -> 0 | AH32: =INDEX([1]Problématiques_compétences!$D$3:$BA$118,MATCH([1]Progression_Cycle4!AH$4,[1]Problématiques_compétences!$D$3:$D$118,0),26) -> 0 | AI32: =INDEX([1]Problématiques_compétences!$D$3:$BA$118,MATCH([1]Progression_Cycle4!AI$4,[1]Problématiques_compétences!$D$3:$D$118,0),26) -> 0 | AJ32: =INDEX([1]Problématiques_compétences!$D$3:$BA$118,MATCH([1]Progression_Cycle4!AJ$4,[1]Problématiques_compétences!$D$3:$D$118,0),26) -> 0 | AK32: =INDEX([1]Problématiques_compétences!$D$3:$BA$118,MATCH([1]Progression_Cycle4!AK$4,[1]Problématiques_compétences!$D$3:$D$118,0),26) -> 0
B33: CT 5.5 | C33: Modifier ou paramétrer le fonctionnement d’un objet communicant. | G33: IP.2.3 | H33: =COUNTIF(I33:AL33,"x") -> 3 | I33: =INDEX([1]Problématiques_compétences!$D$3:$BA$118,MATCH([1]Progression_Cycle4!I$4,[1]Problématiques_compétences!$D$3:$D$118,0),27) -> 0 | J33: =INDEX([1]Problématiques_compétences!$D$3:$BA$118,MATCH([1]Progression_Cycle4!J$4,[1]Problématiques_compétences!$D$3:$D$118,0),27) -> 0 | K33: =INDEX([1]Problématiques_compétences!$D$3:$BA$118,MATCH([1]Progression_Cycle4!K$4,[1]Problématiques_compétences!$D$3:$D$118,0),27) -> 0 | L33: =INDEX([1]Problématiques_compétences!$D$3:$BA$118,MATCH([1]Progression_Cycle4!L$4,[1]Problématiques_compétences!$D$3:$D$118,0),27) -> 0 | M33: =INDEX([1]Problématiques_compétences!$D$3:$BA$118,MATCH([1]Progression_Cycle4!M$4,[1]Problématiques_compétences!$D$3:$D$118,0),27) -> 0 | N33: =INDEX([1]Problématiques_compétences!$D$3:$BA$118,MATCH([1]Progression_Cycle4!N$4,[1]Problématiques_compétences!$D$3:$D$118,0),27) -> 0 | O33: x | Q33: =INDEX([1]Problématiques_compétences!$D$3:$BA$118,MATCH([1]Progression_Cycle4!Q$4,[1]Problématiques_compétences!$D$3:$D$118,0),27) -> 0 | R33: =INDEX([1]Problématiques_compétences!$D$3:$BA$118,MATCH([1]Progression_Cycle4!R$4,[1]Problématiques_compétences!$D$3:$D$118,0),27) -> 0 | S33: =INDEX([1]Problématiques_compétences!$D$3:$BA$118,MATCH([1]Progression_Cycle4!S$4,[1]Problématiques_compétences!$D$3:$D$118,0),27) -> 0 | T33: =INDEX([1]Problématiques_compétences!$D$3:$BA$118,MATCH([1]Progression_Cycle4!T$4,[1]Problématiques_compétences!$D$3:$D$118,0),27) -> 0 | U33: =INDEX([1]Problématiques_compétences!$D$3:$BA$118,MATCH([1]Progression_Cycle4!U$4,[1]Problématiques_compétences!$D$3:$D$118,0),27) -> 0 | V33: x | W33: x | X33: =INDEX([1]Problématiques_compétences!$D$3:$BA$118,MATCH([1]Progression_Cycle4!X$4,[1]Problématiques_compétences!$D$3:$D$118,0),27) -> 0 | Y33: =INDEX([1]Problématiques_compétences!$D$3:$BA$118,MATCH([1]Progression_Cycle4!Y$4,[1]Problématiques_compétences!$D$3:$D$118,0),27) -> 0 | Z33: =INDEX([1]Problématiques_compétences!$D$3:$BA$118,MATCH([1]Progression_Cycle4!Z$4,[1]Problématiques_compétences!$D$3:$D$118,0),27) -> 0 | AA33: =INDEX([1]Problématiques_compétences!$D$3:$BA$118,MATCH([1]Progression_Cycle4!AA$4,[1]Problématiques_compétences!$D$3:$D$118,0),27) -> 0 | AB33: =INDEX([1]Problématiques_compétences!$D$3:$BA$118,MATCH([1]Progression_Cycle4!AB$4,[1]Problématiques_compétences!$D$3:$D$118,0),27) -> 0 | AC33: =INDEX([1]Problématiques_compétences!$D$3:$BA$118,MATCH([1]Progression_Cycle4!AC$4,[1]Problématiques_compétences!$D$3:$D$118,0),27) -> 0 | AD33: =INDEX([1]Problématiques_compétences!$D$3:$BA$118,MATCH([1]Progression_Cycle4!AD$4,[1]Problématiques_compétences!$D$3:$D$118,0),27) -> 0 | AE33: =INDEX([1]Problématiques_compétences!$D$3:$BA$118,MATCH([1]Progression_Cycle4!AE$4,[1]Problématiques_compétences!$D$3:$D$118,0),27) -> 0 | ... AJ33: =INDEX([1]Problématiques_compétences!$D$3:$BA$118,MATCH([1]Progression_Cycle4!AJ$4,[1]Problématiques_compétences!$D$3:$D$118,0),27) -> 0 | AL33: =INDEX([1]Problématiques_compétences!$D$3:$BA$118,MATCH([1]Progression_Cycle4!AL$4,[1]Problématiques_compétences!$D$3:$D$118,0),27) -> 0
A34: 3 - la formation de la personne et du citoyen | B34: 6 | C34: Adopter un comportement éthique et responsable
A35: 5 - les représentations du monde et l'activité humaine | B35: CT 6.1 | C35: Développer les bonnes pratiques de l’usage des objets communicants. | E35: OTSCIS.1.3 | H35: =COUNTIF(I35:AL35,"x") -> 1 | I35: =INDEX([1]Problématiques_compétences!$D$3:$BA$118,MATCH([1]Progression_Cycle4!I$4,[1]Problématiques_compétences!$D$3:$D$118,0),30) -> 0 | J35: =INDEX([1]Problématiques_compétences!$D$3:$BA$118,MATCH([1]Progression_Cycle4!J$4,[1]Problématiques_compétences!$D$3:$D$118,0),30) -> 0 | K35: =INDEX([1]Problématiques_compétences!$D$3:$BA$118,MATCH([1]Progression_Cycle4!K$4,[1]Problématiques_compétences!$D$3:$D$118,0),30) -> 0 | M35: =INDEX([1]Problématiques_compétences!$D$3:$BA$118,MATCH([1]Progression_Cycle4!M$4,[1]Problématiques_compétences!$D$3:$D$118,0),30) -> 0 | N35: =INDEX([1]Problématiques_compétences!$D$3:$BA$118,MATCH([1]Progression_Cycle4!N$4,[1]Problématiques_compétences!$D$3:$D$118,0),30) -> 0 | O35: =INDEX([1]Problématiques_compétences!$D$3:$BA$118,MATCH([1]Progression_Cycle4!O$4,[1]Problématiques_compétences!$D$3:$D$118,0),30) -> 0 | P35: x | Q35: =INDEX([1]Problématiques_compétences!$D$3:$BA$118,MATCH([1]Progression_Cycle4!Q$4,[1]Problématiques_compétences!$D$3:$D$118,0),30) -> 0 | R35: =INDEX([1]Problématiques_compétences!$D$3:$BA$118,MATCH([1]Progression_Cycle4!R$4,[1]Problématiques_compétences!$D$3:$D$118,0),30) -> 0 | S35: =INDEX([1]Problématiques_compétences!$D$3:$BA$118,MATCH([1]Progression_Cycle4!S$4,[1]Problématiques_compétences!$D$3:$D$118,0),30) -> 0 | T35: =INDEX([1]Problématiques_compétences!$D$3:$BA$118,MATCH([1]Progression_Cycle4!T$4,[1]Problématiques_compétences!$D$3:$D$118,0),30) -> 0 | U35: =INDEX([1]Problématiques_compétences!$D$3:$BA$118,MATCH([1]Progression_Cycle4!U$4,[1]Problématiques_compétences!$D$3:$D$118,0),30) -> 0 | V35: =INDEX([1]Problématiques_compétences!$D$3:$BA$118,MATCH([1]Progression_Cycle4!V$4,[1]Problématiques_compétences!$D$3:$D$118,0),30) -> 0 | W35: =INDEX([1]Problématiques_compétences!$D$3:$BA$118,MATCH([1]Progression_Cycle4!W$4,[1]Problématiques_compétences!$D$3:$D$118,0),30) -> 0 | X35: =INDEX([1]Problématiques_compétences!$D$3:$BA$118,MATCH([1]Progression_Cycle4!X$4,[1]Problématiques_compétences!$D$3:$D$118,0),30) -> 0 | ... AE35: =INDEX([1]Problématiques_compétences!$D$3:$BA$118,MATCH([1]Progression_Cycle4!AE$4,[1]Problématiques_compétences!$D$3:$D$118,0),30) -> 0 | AG35: =INDEX([1]Problématiques_compétences!$D$3:$BA$118,MATCH([1]Progression_Cycle4!AG$4,[1]Problématiques_compétences!$D$3:$D$118,0),30) -> 0 | AH35: =INDEX([1]Problématiques_compétences!$D$3:$BA$118,MATCH([1]Progression_Cycle4!AH$4,[1]Problématiques_compétences!$D$3:$D$118,0),30) -> 0 | AI35: =INDEX([1]Problématiques_compétences!$D$3:$BA$118,MATCH([1]Progression_Cycle4!AI$4,[1]Problématiques_compétences!$D$3:$D$118,0),30) -> 0 | AJ35: =INDEX([1]Problématiques_compétences!$D$3:$BA$118,MATCH([1]Progression_Cycle4!AJ$4,[1]Problématiques_compétences!$D$3:$D$118,0),30) -> 0 | AK35: =INDEX([1]Problématiques_compétences!$D$3:$BA$118,MATCH([1]Progression_Cycle4!AK$4,[1]Problématiques_compétences!$D$3:$D$118,0),30) -> 0 | AL35: =INDEX([1]Problématiques_compétences!$D$3:$BA$118,MATCH([1]Progression_Cycle4!AL$4,[1]Problématiques_compétences!$D$3:$D$118,0),30) -> 0
B36: CT 6.2 | C36: Analyser l’impact environnemental d’un objet et de ses constituants. | E36: OTSCIS.1 | H36: =COUNTIF(I36:AL36,"x") -> 3 | I36: =INDEX([1]Problématiques_compétences!$D$3:$BA$118,MATCH([1]Progression_Cycle4!I$4,[1]Problématiques_compétences!$D$3:$D$118,0),31) -> 0 | J36: =INDEX([1]Problématiques_compétences!$D$3:$BA$118,MATCH([1]Progression_Cycle4!J$4,[1]Problématiques_compétences!$D$3:$D$118,0),31) -> 0 | K36: =INDEX([1]Problématiques_compétences!$D$3:$BA$118,MATCH([1]Progression_Cycle4!K$4,[1]Problématiques_compétences!$D$3:$D$118,0),31) -> 0 | L36: x | M36: =INDEX([1]Problématiques_compétences!$D$3:$BA$118,MATCH([1]Progression_Cycle4!M$4,[1]Problématiques_compétences!$D$3:$D$118,0),31) -> 0 | N36: =INDEX([1]Problématiques_compétences!$D$3:$BA$118,MATCH([1]Progression_Cycle4!N$4,[1]Problématiques_compétences!$D$3:$D$118,0),31) -> 0 | P36: x | Q36: =INDEX([1]Problématiques_compétences!$D$3:$BA$118,MATCH([1]Progression_Cycle4!Q$4,[1]Problématiques_compétences!$D$3:$D$118,0),31) -> 0 | R36: =INDEX([1]Problématiques_compétences!$D$3:$BA$118,MATCH([1]Progression_Cycle4!R$4,[1]Problématiques_compétences!$D$3:$D$118,0),31) -> 0 | S36: =INDEX([1]Problématiques_compétences!$D$3:$BA$118,MATCH([1]Progression_Cycle4!S$4,[1]Problématiques_compétences!$D$3:$D$118,0),31) -> 0 | T36: =INDEX([1]Problématiques_compétences!$D$3:$BA$118,MATCH([1]Progression_Cycle4!T$4,[1]Problématiques_compétences!$D$3:$D$118,0),31) -> 0 | U36: =INDEX([1]Problématiques_compétences!$D$3:$BA$118,MATCH([1]Progression_Cycle4!U$4,[1]Problématiques_compétences!$D$3:$D$118,0),31) -> 0 | V36: =INDEX([1]Problématiques_compétences!$D$3:$BA$118,MATCH([1]Progression_Cycle4!V$4,[1]Problématiques_compétences!$D$3:$D$118,0),31) -> 0 | X36: =INDEX([1]Problématiques_compétences!$D$3:$BA$118,MATCH([1]Progression_Cycle4!X$4,[1]Problématiques_compétences!$D$3:$D$118,0),31) -> 0 | Y36: =INDEX([1]Problématiques_compétences!$D$3:$BA$118,MATCH([1]Progression_Cycle4!Y$4,[1]Problématiques_compétences!$D$3:$D$118,0),31) -> 0 | Z36: =INDEX([1]Problématiques_compétences!$D$3:$BA$118,MATCH([1]Progression_Cycle4!Z$4,[1]Problématiques_compétences!$D$3:$D$118,0),31) -> 0 | AA36: =INDEX([1]Problématiques_compétences!$D$3:$BA$118,MATCH([1]Progression_Cycle4!AA$4,[1]Problématiques_compétences!$D$3:$D$118,0),31) -> 0 | AB36: =INDEX([1]Problématiques_compétences!$D$3:$BA$118,MATCH([1]Progression_Cycle4!AB$4,[1]Problématiques_compétences!$D$3:$D$118,0),31) -> 0 | AC36: =INDEX([1]Problématiques_compétences!$D$3:$BA$118,MATCH([1]Progression_Cycle4!AC$4,[1]Problématiques_compétences!$D$3:$D$118,0),31) -> 0 | AD36: =INDEX([1]Problématiques_compétences!$D$3:$BA$118,MATCH([1]Progression_Cycle4!AD$4,[1]Problématiques_compétences!$D$3:$D$118,0),31) -> 0 | AE36: x | AF36: =INDEX([1]Problématiques_compétences!$D$3:$BA$118,MATCH([1]Progression_Cycle4!AF$4,[1]Problématiques_compétences!$D$3:$D$118,0),31) -> 0 | AG36: =INDEX([1]Problématiques_compétences!$D$3:$BA$118,MATCH([1]Progression_Cycle4!AG$4,[1]Problématiques_compétences!$D$3:$D$118,0),31) -> 0 | AH36: =INDEX([1]Problématiques_compétences!$D$3:$BA$118,MATCH([1]Progression_Cycle4!AH$4,[1]Problématiques_compétences!$D$3:$D$118,0),31) -> 0 | AI36: =INDEX([1]Problématiques_compétences!$D$3:$BA$118,MATCH([1]Progression_Cycle4!AI$4,[1]Problématiques_compétences!$D$3:$D$118,0),31) -> 0 | AJ36: =INDEX([1]Problématiques_compétences!$D$3:$BA$118,MATCH([1]Progression_Cycle4!AJ$4,[1]Problématiques_compétences!$D$3:$D$118,0),31) -> 0 | AK36: =INDEX([1]Problématiques_compétences!$D$3:$BA$118,MATCH([1]Progression_Cycle4!AK$4,[1]Problématiques_compétences!$D$3:$D$118,0),31) -> 0 | AL36: =INDEX([1]Problématiques_compétences!$D$3:$BA$118,MATCH([1]Progression_Cycle4!AL$4,[1]Problématiques_compétences!$D$3:$D$118,0),31) -> 0
B37: CT 6.3 | C37: Analyser le cycle de vie d’un objet. | E37: OTSCIS.1.1 | H37: =COUNTIF(I37:AL37,"x") -> 1 | I37: =INDEX([1]Problématiques_compétences!$D$3:$BA$118,MATCH([1]Progression_Cycle4!I$4,[1]Problématiques_compétences!$D$3:$D$118,0),32) -> 0 | J37: =INDEX([1]Problématiques_compétences!$D$3:$BA$118,MATCH([1]Progression_Cycle4!J$4,[1]Problématiques_compétences!$D$3:$D$118,0),32) -> 0 | K37: =INDEX([1]Problématiques_compétences!$D$3:$BA$118,MATCH([1]Progression_Cycle4!K$4,[1]Problématiques_compétences!$D$3:$D$118,0),32) -> 0 | L37: =INDEX([1]Problématiques_compétences!$D$3:$BA$118,MATCH([1]Progression_Cycle4!L$4,[1]Problématiques_compétences!$D$3:$D$118,0),32) -> 0 | M37: =INDEX([1]Problématiques_compétences!$D$3:$BA$118,MATCH([1]Progression_Cycle4!M$4,[1]Problématiques_compétences!$D$3:$D$118,0),32) -> 0 | N37: =INDEX([1]Problématiques_compétences!$D$3:$BA$118,MATCH([1]Progression_Cycle4!N$4,[1]Problématiques_compétences!$D$3:$D$118,0),32) -> 0 | P37: =INDEX([1]Problématiques_compétences!$D$3:$BA$118,MATCH([1]Progression_Cycle4!P$4,[1]Problématiques_compétences!$D$3:$D$118,0),32) -> 0 | Q37: =INDEX([1]Problématiques_compétences!$D$3:$BA$118,MATCH([1]Progression_Cycle4!Q$4,[1]Problématiques_compétences!$D$3:$D$118,0),32) -> 0 | R37: =INDEX([1]Problématiques_compétences!$D$3:$BA$118,MATCH([1]Progression_Cycle4!R$4,[1]Problématiques_compétences!$D$3:$D$118,0),32) -> 0 | S37: =INDEX([1]Problématiques_compétences!$D$3:$BA$118,MATCH([1]Progression_Cycle4!S$4,[1]Problématiques_compétences!$D$3:$D$118,0),32) -> 0 | T37: =INDEX([1]Problématiques_compétences!$D$3:$BA$118,MATCH([1]Progression_Cycle4!T$4,[1]Problématiques_compétences!$D$3:$D$118,0),32) -> 0 | U37: =INDEX([1]Problématiques_compétences!$D$3:$BA$118,MATCH([1]Progression_Cycle4!U$4,[1]Problématiques_compétences!$D$3:$D$118,0),32) -> 0 | V37: =INDEX([1]Problématiques_compétences!$D$3:$BA$118,MATCH([1]Progression_Cycle4!V$4,[1]Problématiques_compétences!$D$3:$D$118,0),32) -> 0 | W37: =INDEX([1]Problématiques_compétences!$D$3:$BA$118,MATCH([1]Progression_Cycle4!W$4,[1]Problématiques_compétences!$D$3:$D$118,0),32) -> 0 | ... AL37: =INDEX([1]Problématiques_compétences!$D$3:$BA$118,MATCH([1]Progression_Cycle4!AL$4,[1]Problématiques_compétences!$D$3:$D$118,0),32) -> 0
A38: 5 - les représentations du monde et l'activité humaine | B38: 7 | C38: Se situer dans l’espace et dans le temps
B39: CT 7.1 | C39: Regrouper des objets en familles et lignées. | E39: OTSCIS.1.1 | H39: =COUNTIF(I39:AL39,"x") -> 2 | I39: =INDEX([1]Problématiques_compétences!$D$3:$BA$118,MATCH([1]Progression_Cycle4!I$4,[1]Problématiques_compétences!$D$3:$D$118,0),33) -> x | J39: =INDEX([1]Problématiques_compétences!$D$3:$BA$118,MATCH([1]Progression_Cycle4!J$4,[1]Problématiques_compétences!$D$3:$D$118,0),33) -> 0 | K39: =INDEX([1]Problématiques_compétences!$D$3:$BA$118,MATCH([1]Progression_Cycle4!K$4,[1]Problématiques_compétences!$D$3:$D$118,0),33) -> 0 | L39: =INDEX([1]Problématiques_compétences!$D$3:$BA$118,MATCH([1]Progression_Cycle4!L$4,[1]Problématiques_compétences!$D$3:$D$118,0),33) -> 0 | M39: =INDEX([1]Problématiques_compétences!$D$3:$BA$118,MATCH([1]Progression_Cycle4!M$4,[1]Problématiques_compétences!$D$3:$D$118,0),33) -> 0 | N39: =INDEX([1]Problématiques_compétences!$D$3:$BA$118,MATCH([1]Progression_Cycle4!N$4,[1]Problématiques_compétences!$D$3:$D$118,0),33) -> 0 | O39: =INDEX([1]Problématiques_compétences!$D$3:$BA$118,MATCH([1]Progression_Cycle4!O$4,[1]Problématiques_compétences!$D$3:$D$118,0),33) -> 0 | P39: =INDEX([1]Problématiques_compétences!$D$3:$BA$118,MATCH([1]Progression_Cycle4!P$4,[1]Problématiques_compétences!$D$3:$D$118,0),33) -> 0 | ... Z39: =INDEX([1]Problématiques_compétences!$D$3:$BA$118,MATCH([1]Progression_Cycle4!Z$4,[1]Problématiques_compétences!$D$3:$D$118,0),33) -> 0 | AA39: x | AB39: =INDEX([1]Problématiques_compétences!$D$3:$BA$118,MATCH([1]Progression_Cycle4!AB$4,[1]Problématiques_compétences!$D$3:$D$118,0),33) -> 0 | AC39: =INDEX([1]Problématiques_compétences!$D$3:$BA$118,MATCH([1]Progression_Cycle4!AC$4,[1]Problématiques_compétences!$D$3:$D$118,0),33) -> 0 | AD39: =INDEX([1]Problématiques_compétences!$D$3:$BA$118,MATCH([1]Progression_Cycle4!AD$4,[1]Problématiques_compétences!$D$3:$D$118,0),33) -> 0 | AF39: =INDEX([1]Problématiques_compétences!$D$3:$BA$118,MATCH([1]Progression_Cycle4!AF$4,[1]Problématiques_compétences!$D$3:$D$118,0),33) -> 0 | AG39: =INDEX([1]Problématiques_compétences!$D$3:$BA$118,MATCH([1]Progression_Cycle4!AG$4,[1]Problématiques_compétences!$D$3:$D$118,0),33) -> 0 | AH39: =INDEX([1]Problématiques_compétences!$D$3:$BA$118,MATCH([1]Progression_Cycle4!AH$4,[1]Problématiques_compétences!$D$3:$D$118,0),33) -> 0 | AI39: =INDEX([1]Problématiques_compétences!$D$3:$BA$118,MATCH([1]Progression_Cycle4!AI$4,[1]Problématiques_compétences!$D$3:$D$118,0),33) -> 0 | AJ39: =INDEX([1]Problématiques_compétences!$D$3:$BA$118,MATCH([1]Progression_Cycle4!AJ$4,[1]Problématiques_compétences!$D$3:$D$118,0),33) -> 0 | AK39: =INDEX([1]Problématiques_compétences!$D$3:$BA$118,MATCH([1]Progression_Cycle4!AK$4,[1]Problématiques_compétences!$D$3:$D$118,0),33) -> 0 | AL39: =INDEX([1]Problématiques_compétences!$D$3:$BA$118,MATCH([1]Progression_Cycle4!AL$4,[1]Problématiques_compétences!$D$3:$D$118,0),33) -> 0
B40: CT 7.2 | C40: Relier les évolutions technologiques aux inventions et innovations qui marquent des ruptures dans les solutions techniques. | E40: OTSCIS.1.2 | H40: =COUNTIF(I40:AL40,"x") -> 5 | I40: =INDEX([1]Problématiques_compétences!$D$3:$BA$118,MATCH([1]Progression_Cycle4!I$4,[1]Problématiques_compétences!$D$3:$D$118,0),34) -> x | J40: =INDEX([1]Problématiques_compétences!$D$3:$BA$118,MATCH([1]Progression_Cycle4!J$4,[1]Problématiques_compétences!$D$3:$D$118,0),34) -> 0 | K40: =INDEX([1]Problématiques_compétences!$D$3:$BA$118,MATCH([1]Progression_Cycle4!K$4,[1]Problématiques_compétences!$D$3:$D$118,0),34) -> 0 | L40: x | M40: =INDEX([1]Problématiques_compétences!$D$3:$BA$118,MATCH([1]Progression_Cycle4!M$4,[1]Problématiques_compétences!$D$3:$D$118,0),34) -> 0 | N40: =INDEX([1]Problématiques_compétences!$D$3:$BA$118,MATCH([1]Progression_Cycle4!N$4,[1]Problématiques_compétences!$D$3:$D$118,0),34) -> 0 | O40: =INDEX([1]Problématiques_compétences!$D$3:$BA$118,MATCH([1]Progression_Cycle4!O$4,[1]Problématiques_compétences!$D$3:$D$118,0),34) -> 0 | P40: =INDEX([1]Problématiques_compétences!$D$3:$BA$118,MATCH([1]Progression_Cycle4!P$4,[1]Problématiques_compétences!$D$3:$D$118,0),34) -> 0 | Q40: =INDEX([1]Problématiques_compétences!$D$3:$BA$118,MATCH([1]Progression_Cycle4!Q$4,[1]Problématiques_compétences!$D$3:$D$118,0),34) -> 0 | R40: =INDEX([1]Problématiques_compétences!$D$3:$BA$118,MATCH([1]Progression_Cycle4!R$4,[1]Problématiques_compétences!$D$3:$D$118,0),34) -> 0 | S40: x | T40: =INDEX([1]Problématiques_compétences!$D$3:$BA$118,MATCH([1]Progression_Cycle4!T$4,[1]Problématiques_compétences!$D$3:$D$118,0),34) -> 0 | U40: =INDEX([1]Problématiques_compétences!$D$3:$BA$118,MATCH([1]Progression_Cycle4!U$4,[1]Problématiques_compétences!$D$3:$D$118,0),34) -> 0 | V40: =INDEX([1]Problématiques_compétences!$D$3:$BA$118,MATCH([1]Progression_Cycle4!V$4,[1]Problématiques_compétences!$D$3:$D$118,0),34) -> 0 | X40: =INDEX([1]Problématiques_compétences!$D$3:$BA$118,MATCH([1]Progression_Cycle4!X$4,[1]Problématiques_compétences!$D$3:$D$118,0),34) -> 0 | Y40: =INDEX([1]Problématiques_compétences!$D$3:$BA$118,MATCH([1]Progression_Cycle4!Y$4,[1]Problématiques_compétences!$D$3:$D$118,0),34) -> 0 | Z40: x | AA40: x | AB40: =INDEX([1]Problématiques_compétences!$D$3:$BA$118,MATCH([1]Progression_Cycle4!AB$4,[1]Problématiques_compétences!$D$3:$D$118,0),34) -> 0 | AC40: =INDEX([1]Problématiques_compétences!$D$3:$BA$118,MATCH([1]Progression_Cycle4!AC$4,[1]Problématiques_compétences!$D$3:$D$118,0),34) -> 0 | AD40: =INDEX([1]Problématiques_compétences!$D$3:$BA$118,MATCH([1]Progression_Cycle4!AD$4,[1]Problématiques_compétences!$D$3:$D$118,0),34) -> 0 | AF40: =INDEX([1]Problématiques_compétences!$D$3:$BA$118,MATCH([1]Progression_Cycle4!AF$4,[1]Problématiques_compétences!$D$3:$D$118,0),34) -> 0 | AG40: =INDEX([1]Problématiques_compétences!$D$3:$BA$118,MATCH([1]Progression_Cycle4!AG$4,[1]Problématiques_compétences!$D$3:$D$118,0),34) -> 0 | AH40: =INDEX([1]Problématiques_compétences!$D$3:$BA$118,MATCH([1]Progression_Cycle4!AH$4,[1]Problématiques_compétences!$D$3:$D$118,0),34) -> 0 | AI40: =INDEX([1]Problématiques_compétences!$D$3:$BA$118,MATCH([1]Progression_Cycle4!AI$4,[1]Problématiques_compétences!$D$3:$D$118,0),34) -> 0 | AJ40: =INDEX([1]Problématiques_compétences!$D$3:$BA$118,MATCH([1]Progression_Cycle4!AJ$4,[1]Problématiques_compétences!$D$3:$D$118,0),34) -> 0 | AK40: =INDEX([1]Problématiques_compétences!$D$3:$BA$118,MATCH([1]Progression_Cycle4!AK$4,[1]Problématiques_compétences!$D$3:$D$118,0),34) -> 0 | AL40: =INDEX([1]Problématiques_compétences!$D$3:$BA$118,MATCH([1]Progression_Cycle4!AL$4,[1]Problématiques_compétences!$D$3:$D$118,0),34) -> 0
B42: CS 1.5 | C42: Respecter une procédure de travail garantissant un résultat en respectant les règles de sécurité et d’utilisation des outils mis à disposition. | F42: MSOST.1.1 | H42: =COUNTIF(I42:AL42,"x") -> 2 | I42: =INDEX([1]Problématiques_compétences!$D$3:$BA$118,MATCH([1]Progression_Cycle4!I$4,[1]Problématiques_compétences!$D$3:$D$118,0),7) -> 0 | J42: x | K42: =INDEX([1]Problématiques_compétences!$D$3:$BA$118,MATCH([1]Progression_Cycle4!K$4,[1]Problématiques_compétences!$D$3:$D$118,0),7) -> 0 | L42: =INDEX([1]Problématiques_compétences!$D$3:$BA$118,MATCH([1]Progression_Cycle4!L$4,[1]Problématiques_compétences!$D$3:$D$118,0),7) -> 0 | M42: =INDEX([1]Problématiques_compétences!$D$3:$BA$118,MATCH([1]Progression_Cycle4!M$4,[1]Problématiques_compétences!$D$3:$D$118,0),7) -> 0 | N42: =INDEX([1]Problématiques_compétences!$D$3:$BA$118,MATCH([1]Progression_Cycle4!N$4,[1]Problématiques_compétences!$D$3:$D$118,0),7) -> 0 | O42: =INDEX([1]Problématiques_compétences!$D$3:$BA$118,MATCH([1]Progression_Cycle4!O$4,[1]Problématiques_compétences!$D$3:$D$118,0),7) -> 0 | P42: =INDEX([1]Problématiques_compétences!$D$3:$BA$118,MATCH([1]Progression_Cycle4!P$4,[1]Problématiques_compétences!$D$3:$D$118,0),7) -> 0 | Q42: =INDEX([1]Problématiques_compétences!$D$3:$BA$118,MATCH([1]Progression_Cycle4!Q$4,[1]Problématiques_compétences!$D$3:$D$118,0),7) -> 0 | R42: =INDEX([1]Problématiques_compétences!$D$3:$BA$118,MATCH([1]Progression_Cycle4!R$4,[1]Problématiques_compétences!$D$3:$D$118,0),7) -> 0 | ... U42: =INDEX([1]Problématiques_compétences!$D$3:$BA$118,MATCH([1]Progression_Cycle4!U$4,[1]Problématiques_compétences!$D$3:$D$118,0),7) -> 0 | W42: =INDEX([1]Problématiques_compétences!$D$3:$BA$118,MATCH([1]Progression_Cycle4!W$4,[1]Problématiques_compétences!$D$3:$D$118,0),7) -> 0 | X42: =INDEX([1]Problématiques_compétences!$D$3:$BA$118,MATCH([1]Progression_Cycle4!X$4,[1]Problématiques_compétences!$D$3:$D$118,0),7) -> 0 | Y42: =INDEX([1]Problématiques_compétences!$D$3:$BA$118,MATCH([1]Progression_Cycle4!Y$4,[1]Problématiques_compétences!$D$3:$D$118,0),7) -> 0 | Z42: =INDEX([1]Problématiques_compétences!$D$3:$BA$118,MATCH([1]Progression_Cycle4!Z$4,[1]Problématiques_compétences!$D$3:$D$118,0),7) -> 0 | AA42: =INDEX([1]Problématiques_compétences!$D$3:$BA$118,MATCH([1]Progression_Cycle4!AA$4,[1]Problématiques_compétences!$D$3:$D$118,0),7) -> 0 | AC42: =INDEX([1]Problématiques_compétences!$D$3:$BA$118,MATCH([1]Progression_Cycle4!AC$4,[1]Problématiques_compétences!$D$3:$D$118,0),7) -> 0 | AE42: =INDEX([1]Problématiques_compétences!$D$3:$BA$118,MATCH([1]Progression_Cycle4!AE$4,[1]Problématiques_compétences!$D$3:$D$118,0),7) -> 0 | AF42: x | AG42: =INDEX([1]Problématiques_compétences!$D$3:$BA$118,MATCH([1]Progression_Cycle4!AG$4,[1]Problématiques_compétences!$D$3:$D$118,0),7) -> 0 | AH42: =INDEX([1]Problématiques_compétences!$D$3:$BA$118,MATCH([1]Progression_Cycle4!AH$4,[1]Problématiques_compétences!$D$3:$D$118,0),7) -> 0 | AI42: =INDEX([1]Problématiques_compétences!$D$3:$BA$118,MATCH([1]Progression_Cycle4!AI$4,[1]Problématiques_compétences!$D$3:$D$118,0),7) -> 0 | AK42: =INDEX([1]Problématiques_compétences!$D$3:$BA$118,MATCH([1]Progression_Cycle4!AK$4,[1]Problématiques_compétences!$D$3:$D$118,0),7) -> 0 | AL42: =INDEX([1]Problématiques_compétences!$D$3:$BA$118,MATCH([1]Progression_Cycle4!AL$4,[1]Problématiques_compétences!$D$3:$D$118,0),7) -> 0
B43: CS 1.6 | C43: Analyser le fonctionnement et la structure d’un objet, identifier les entrées et sorties. | F43: MSOST.1.3 | H43: =COUNTIF(I43:AL43,"x") -> 2 | I43: =INDEX([1]Problématiques_compétences!$D$3:$BA$118,MATCH([1]Progression_Cycle4!I$4,[1]Problématiques_compétences!$D$3:$D$118,0),8) -> 0 | J43: =INDEX([1]Problématiques_compétences!$D$3:$BA$118,MATCH([1]Progression_Cycle4!J$4,[1]Problématiques_compétences!$D$3:$D$118,0),8) -> 0 | L43: =INDEX([1]Problématiques_compétences!$D$3:$BA$118,MATCH([1]Progression_Cycle4!L$4,[1]Problématiques_compétences!$D$3:$D$118,0),8) -> 0 | M43: =INDEX([1]Problématiques_compétences!$D$3:$BA$118,MATCH([1]Progression_Cycle4!M$4,[1]Problématiques_compétences!$D$3:$D$118,0),8) -> 0 | N43: =INDEX([1]Problématiques_compétences!$D$3:$BA$118,MATCH([1]Progression_Cycle4!N$4,[1]Problématiques_compétences!$D$3:$D$118,0),8) -> 0 | O43: =INDEX([1]Problématiques_compétences!$D$3:$BA$118,MATCH([1]Progression_Cycle4!O$4,[1]Problématiques_compétences!$D$3:$D$118,0),8) -> 0 | P43: =INDEX([1]Problématiques_compétences!$D$3:$BA$118,MATCH([1]Progression_Cycle4!P$4,[1]Problématiques_compétences!$D$3:$D$118,0),8) -> 0 | Q43: =INDEX([1]Problématiques_compétences!$D$3:$BA$118,MATCH([1]Progression_Cycle4!Q$4,[1]Problématiques_compétences!$D$3:$D$118,0),8) -> 0 | R43: =INDEX([1]Problématiques_compétences!$D$3:$BA$118,MATCH([1]Progression_Cycle4!R$4,[1]Problématiques_compétences!$D$3:$D$118,0),8) -> 0 | S43: =INDEX([1]Problématiques_compétences!$D$3:$BA$118,MATCH([1]Progression_Cycle4!S$4,[1]Problématiques_compétences!$D$3:$D$118,0),8) -> 0 | T43: =INDEX([1]Problématiques_compétences!$D$3:$BA$118,MATCH([1]Progression_Cycle4!T$4,[1]Problématiques_compétences!$D$3:$D$118,0),8) -> 0 | U43: x | V43: x | W43: =INDEX([1]Problématiques_compétences!$D$3:$BA$118,MATCH([1]Progression_Cycle4!W$4,[1]Problématiques_compétences!$D$3:$D$118,0),8) -> 0 | X43: =INDEX([1]Problématiques_compétences!$D$3:$BA$118,MATCH([1]Progression_Cycle4!X$4,[1]Problématiques_compétences!$D$3:$D$118,0),8) -> 0 | Y43: =INDEX([1]Problématiques_compétences!$D$3:$BA$118,MATCH([1]Progression_Cycle4!Y$4,[1]Problématiques_compétences!$D$3:$D$118,0),8) -> 0 | Z43: =INDEX([1]Problématiques_compétences!$D$3:$BA$118,MATCH([1]Progression_Cycle4!Z$4,[1]Problématiques_compétences!$D$3:$D$118,0),8) -> 0 | AA43: =INDEX([1]Problématiques_compétences!$D$3:$BA$118,MATCH([1]Progression_Cycle4!AA$4,[1]Problématiques_compétences!$D$3:$D$118,0),8) -> 0 | AB43: =INDEX([1]Problématiques_compétences!$D$3:$BA$118,MATCH([1]Progression_Cycle4!AB$4,[1]Problématiques_compétences!$D$3:$D$118,0),8) -> 0 | AC43: =INDEX([1]Problématiques_compétences!$D$3:$BA$118,MATCH([1]Progression_Cycle4!AC$4,[1]Problématiques_compétences!$D$3:$D$118,0),8) -> 0 | AD43: =INDEX([1]Problématiques_compétences!$D$3:$BA$118,MATCH([1]Progression_Cycle4!AD$4,[1]Problématiques_compétences!$D$3:$D$118,0),8) -> 0 | ... AJ43: =INDEX([1]Problématiques_compétences!$D$3:$BA$118,MATCH([1]Progression_Cycle4!AJ$4,[1]Problématiques_compétences!$D$3:$D$118,0),8) -> 0 | AL43: =INDEX([1]Problématiques_compétences!$D$3:$BA$118,MATCH([1]Progression_Cycle4!AL$4,[1]Problématiques_compétences!$D$3:$D$118,0),8) -> 0
B44: CS 1.7 | C44: Interpréter des résultats expérimentaux, en tirer une conclusion et la communiquer en argumentant. | F44: MSOST.1.7 | H44: =COUNTIF(I44:AL44,"x") -> 4 | I44: =INDEX([1]Problématiques_compétences!$D$3:$BA$118,MATCH([1]Progression_Cycle4!I$4,[1]Problématiques_compétences!$D$3:$D$118,0),9) -> 0 | J44: x | K44: =INDEX([1]Problématiques_compétences!$D$3:$BA$118,MATCH([1]Progression_Cycle4!K$4,[1]Problématiques_compétences!$D$3:$D$118,0),9) -> 0 | L44: =INDEX([1]Problématiques_compétences!$D$3:$BA$118,MATCH([1]Progression_Cycle4!L$4,[1]Problématiques_compétences!$D$3:$D$118,0),9) -> 0 | M44: =INDEX([1]Problématiques_compétences!$D$3:$BA$118,MATCH([1]Progression_Cycle4!M$4,[1]Problématiques_compétences!$D$3:$D$118,0),9) -> 0 | O44: =INDEX([1]Problématiques_compétences!$D$3:$BA$118,MATCH([1]Progression_Cycle4!O$4,[1]Problématiques_compétences!$D$3:$D$118,0),9) -> 0 | P44: =INDEX([1]Problématiques_compétences!$D$3:$BA$118,MATCH([1]Progression_Cycle4!P$4,[1]Problématiques_compétences!$D$3:$D$118,0),9) -> 0 | Q44: =INDEX([1]Problématiques_compétences!$D$3:$BA$118,MATCH([1]Progression_Cycle4!Q$4,[1]Problématiques_compétences!$D$3:$D$118,0),9) -> 0 | R44: =INDEX([1]Problématiques_compétences!$D$3:$BA$118,MATCH([1]Progression_Cycle4!R$4,[1]Problématiques_compétences!$D$3:$D$118,0),9) -> 0 | S44: =INDEX([1]Problématiques_compétences!$D$3:$BA$118,MATCH([1]Progression_Cycle4!S$4,[1]Problématiques_compétences!$D$3:$D$118,0),9) -> 0 | T44: =INDEX([1]Problématiques_compétences!$D$3:$BA$118,MATCH([1]Progression_Cycle4!T$4,[1]Problématiques_compétences!$D$3:$D$118,0),9) -> 0 | U44: =INDEX([1]Problématiques_compétences!$D$3:$BA$118,MATCH([1]Progression_Cycle4!U$4,[1]Problématiques_compétences!$D$3:$D$118,0),9) -> 0 | W44: =INDEX([1]Problématiques_compétences!$D$3:$BA$118,MATCH([1]Progression_Cycle4!W$4,[1]Problématiques_compétences!$D$3:$D$118,0),9) -> 0 | X44: =INDEX([1]Problématiques_compétences!$D$3:$BA$118,MATCH([1]Progression_Cycle4!X$4,[1]Problématiques_compétences!$D$3:$D$118,0),9) -> x | Y44: =INDEX([1]Problématiques_compétences!$D$3:$BA$118,MATCH([1]Progression_Cycle4!Y$4,[1]Problématiques_compétences!$D$3:$D$118,0),9) -> 0 | Z44: =INDEX([1]Problématiques_compétences!$D$3:$BA$118,MATCH([1]Progression_Cycle4!Z$4,[1]Problématiques_compétences!$D$3:$D$118,0),9) -> 0 | AA44: =INDEX([1]Problématiques_compétences!$D$3:$BA$118,MATCH([1]Progression_Cycle4!AA$4,[1]Problématiques_compétences!$D$3:$D$118,0),9) -> 0 | AC44: x | AD44: =INDEX([1]Problématiques_compétences!$D$3:$BA$118,MATCH([1]Progression_Cycle4!AD$4,[1]Problématiques_compétences!$D$3:$D$118,0),9) -> x | AE44: =INDEX([1]Problématiques_compétences!$D$3:$BA$118,MATCH([1]Progression_Cycle4!AE$4,[1]Problématiques_compétences!$D$3:$D$118,0),9) -> 0 | AF44: =INDEX([1]Problématiques_compétences!$D$3:$BA$118,MATCH([1]Progression_Cycle4!AF$4,[1]Problématiques_compétences!$D$3:$D$118,0),9) -> 0 | AG44: =INDEX([1]Problématiques_compétences!$D$3:$BA$118,MATCH([1]Progression_Cycle4!AG$4,[1]Problématiques_compétences!$D$3:$D$118,0),9) -> 0 | AH44: =INDEX([1]Problématiques_compétences!$D$3:$BA$118,MATCH([1]Progression_Cycle4!AH$4,[1]Problématiques_compétences!$D$3:$D$118,0),9) -> 0 | AI44: =INDEX([1]Problématiques_compétences!$D$3:$BA$118,MATCH([1]Progression_Cycle4!AI$4,[1]Problématiques_compétences!$D$3:$D$118,0),9) -> 0 | AK44: =INDEX([1]Problématiques_compétences!$D$3:$BA$118,MATCH([1]Progression_Cycle4!AK$4,[1]Problématiques_compétences!$D$3:$D$118,0),9) -> 0 | AL44: =INDEX([1]Problématiques_compétences!$D$3:$BA$118,MATCH([1]Progression_Cycle4!AL$4,[1]Problématiques_compétences!$D$3:$D$118,0),9) -> 0
B45: CS 1.8 | C45: Utiliser une modélisation pour comprendre, formaliser, partager, construire, investiguer, prouver. | F45: MSOST.2.1 | H45: =COUNTIF(I45:AL45,"x") -> 4 | I45: =INDEX([1]Problématiques_compétences!$D$3:$BA$118,MATCH([1]Progression_Cycle4!I$4,[1]Problématiques_compétences!$D$3:$D$118,0),10) -> 0 | J45: =INDEX([1]Problématiques_compétences!$D$3:$BA$118,MATCH([1]Progression_Cycle4!J$4,[1]Problématiques_compétences!$D$3:$D$118,0),10) -> 0 | K45: x | M45: =INDEX([1]Problématiques_compétences!$D$3:$BA$118,MATCH([1]Progression_Cycle4!M$4,[1]Problématiques_compétences!$D$3:$D$118,0),10) -> 0 | N45: x | O45: =INDEX([1]Problématiques_compétences!$D$3:$BA$118,MATCH([1]Progression_Cycle4!O$4,[1]Problématiques_compétences!$D$3:$D$118,0),10) -> 0 | P45: =INDEX([1]Problématiques_compétences!$D$3:$BA$118,MATCH([1]Progression_Cycle4!P$4,[1]Problématiques_compétences!$D$3:$D$118,0),10) -> 0 | Q45: =INDEX([1]Problématiques_compétences!$D$3:$BA$118,MATCH([1]Progression_Cycle4!Q$4,[1]Problématiques_compétences!$D$3:$D$118,0),10) -> 0 | R45: =INDEX([1]Problématiques_compétences!$D$3:$BA$118,MATCH([1]Progression_Cycle4!R$4,[1]Problématiques_compétences!$D$3:$D$118,0),10) -> 0 | S45: =INDEX([1]Problématiques_compétences!$D$3:$BA$118,MATCH([1]Progression_Cycle4!S$4,[1]Problématiques_compétences!$D$3:$D$118,0),10) -> 0 | T45: =INDEX([1]Problématiques_compétences!$D$3:$BA$118,MATCH([1]Progression_Cycle4!T$4,[1]Problématiques_compétences!$D$3:$D$118,0),10) -> 0 | U45: =INDEX([1]Problématiques_compétences!$D$3:$BA$118,MATCH([1]Progression_Cycle4!U$4,[1]Problématiques_compétences!$D$3:$D$118,0),10) -> 0 | V45: =INDEX([1]Problématiques_compétences!$D$3:$BA$118,MATCH([1]Progression_Cycle4!V$4,[1]Problématiques_compétences!$D$3:$D$118,0),10) -> 0 | W45: =INDEX([1]Problématiques_compétences!$D$3:$BA$118,MATCH([1]Progression_Cycle4!W$4,[1]Problématiques_compétences!$D$3:$D$118,0),10) -> 0 | Y45: =INDEX([1]Problématiques_compétences!$D$3:$BA$118,MATCH([1]Progression_Cycle4!Y$4,[1]Problématiques_compétences!$D$3:$D$118,0),10) -> 0 | Z45: =INDEX([1]Problématiques_compétences!$D$3:$BA$118,MATCH([1]Progression_Cycle4!Z$4,[1]Problématiques_compétences!$D$3:$D$118,0),10) -> 0 | AA45: =INDEX([1]Problématiques_compétences!$D$3:$BA$118,MATCH([1]Progression_Cycle4!AA$4,[1]Problématiques_compétences!$D$3:$D$118,0),10) -> 0 | AB45: =INDEX([1]Problématiques_compétences!$D$3:$BA$118,MATCH([1]Progression_Cycle4!AB$4,[1]Problématiques_compétences!$D$3:$D$118,0),10) -> 0 | AC45: x | AD45: x | AE45: =INDEX([1]Problématiques_compétences!$D$3:$BA$118,MATCH([1]Progression_Cycle4!AE$4,[1]Problématiques_compétences!$D$3:$D$118,0),10) -> 0 | AF45: =INDEX([1]Problématiques_compétences!$D$3:$BA$118,MATCH([1]Progression_Cycle4!AF$4,[1]Problématiques_compétences!$D$3:$D$118,0),10) -> 0 | AG45: =INDEX([1]Problématiques_compétences!$D$3:$BA$118,MATCH([1]Progression_Cycle4!AG$4,[1]Problématiques_compétences!$D$3:$D$118,0),10) -> 0 | AH45: =INDEX([1]Problématiques_compétences!$D$3:$BA$118,MATCH([1]Progression_Cycle4!AH$4,[1]Problématiques_compétences!$D$3:$D$118,0),10) -> 0 | AI45: =INDEX([1]Problématiques_compétences!$D$3:$BA$118,MATCH([1]Progression_Cycle4!AI$4,[1]Problématiques_compétences!$D$3:$D$118,0),10) -> 0 | AJ45: =INDEX([1]Problématiques_compétences!$D$3:$BA$118,MATCH([1]Progression_Cycle4!AJ$4,[1]Problématiques_compétences!$D$3:$D$118,0),10) -> 0 | AK45: =INDEX([1]Problématiques_compétences!$D$3:$BA$118,MATCH([1]Progression_Cycle4!AK$4,[1]Problématiques_compétences!$D$3:$D$118,0),10) -> 0 | AL45: =INDEX([1]Problématiques_compétences!$D$3:$BA$118,MATCH([1]Progression_Cycle4!AL$4,[1]Problématiques_compétences!$D$3:$D$118,0),10) -> 0
B46: CS 5.6 | C46: Comprendre le fonctionnement d’un réseau informatique. | G46: IP.1 | H46: =COUNTIF(I46:AL46,"x") -> 1 | I46: =INDEX([1]Problématiques_compétences!$D$3:$BA$118,MATCH([1]Progression_Cycle4!I$4,[1]Problématiques_compétences!$D$3:$D$118,0),28) -> 0 | J46: =INDEX([1]Problématiques_compétences!$D$3:$BA$118,MATCH([1]Progression_Cycle4!J$4,[1]Problématiques_compétences!$D$3:$D$118,0),28) -> 0 | K46: =INDEX([1]Problématiques_compétences!$D$3:$BA$118,MATCH([1]Progression_Cycle4!K$4,[1]Problématiques_compétences!$D$3:$D$118,0),28) -> 0 | L46: =INDEX([1]Problématiques_compétences!$D$3:$BA$118,MATCH([1]Progression_Cycle4!L$4,[1]Problématiques_compétences!$D$3:$D$118,0),28) -> 0 | M46: =INDEX([1]Problématiques_compétences!$D$3:$BA$118,MATCH([1]Progression_Cycle4!M$4,[1]Problématiques_compétences!$D$3:$D$118,0),28) -> 0 | N46: =INDEX([1]Problématiques_compétences!$D$3:$BA$118,MATCH([1]Progression_Cycle4!N$4,[1]Problématiques_compétences!$D$3:$D$118,0),28) -> 0 | O46: =INDEX([1]Problématiques_compétences!$D$3:$BA$118,MATCH([1]Progression_Cycle4!O$4,[1]Problématiques_compétences!$D$3:$D$118,0),28) -> 0 | P46: =INDEX([1]Problématiques_compétences!$D$3:$BA$118,MATCH([1]Progression_Cycle4!P$4,[1]Problématiques_compétences!$D$3:$D$118,0),28) -> 0 | ... AE46: =INDEX([1]Problématiques_compétences!$D$3:$BA$118,MATCH([1]Progression_Cycle4!AE$4,[1]Problématiques_compétences!$D$3:$D$118,0),28) -> 0 | AG46: =INDEX([1]Problématiques_compétences!$D$3:$BA$118,MATCH([1]Progression_Cycle4!AG$4,[1]Problématiques_compétences!$D$3:$D$118,0),28) -> 0 | AH46: x | AI46: =INDEX([1]Problématiques_compétences!$D$3:$BA$118,MATCH([1]Progression_Cycle4!AI$4,[1]Problématiques_compétences!$D$3:$D$118,0),28) -> 0 | AJ46: =INDEX([1]Problématiques_compétences!$D$3:$BA$118,MATCH([1]Progression_Cycle4!AJ$4,[1]Problématiques_compétences!$D$3:$D$118,0),28) -> 0 | AL46: =INDEX([1]Problématiques_compétences!$D$3:$BA$118,MATCH([1]Progression_Cycle4!AL$4,[1]Problématiques_compétences!$D$3:$D$118,0),28) -> 0
B47: CS 5.7 | C47: Analyser le comportement attendu d’un système réel et décomposer le problème posé en sous-problèmes afin de structurer un programme de commande. | G47: IP.2.1 | H47: =COUNTIF(I47:AL47,"x") -> 1 | I47: =INDEX([1]Problématiques_compétences!$D$3:$BA$118,MATCH([1]Progression_Cycle4!I$4,[1]Problématiques_compétences!$D$3:$D$118,0),29) -> 0 | J47: =INDEX([1]Problématiques_compétences!$D$3:$BA$118,MATCH([1]Progression_Cycle4!J$4,[1]Problématiques_compétences!$D$3:$D$118,0),29) -> 0 | K47: =INDEX([1]Problématiques_compétences!$D$3:$BA$118,MATCH([1]Progression_Cycle4!K$4,[1]Problématiques_compétences!$D$3:$D$118,0),29) -> 0 | L47: =INDEX([1]Problématiques_compétences!$D$3:$BA$118,MATCH([1]Progression_Cycle4!L$4,[1]Problématiques_compétences!$D$3:$D$118,0),29) -> 0 | M47: =INDEX([1]Problématiques_compétences!$D$3:$BA$118,MATCH([1]Progression_Cycle4!M$4,[1]Problématiques_compétences!$D$3:$D$118,0),29) -> 0 | N47: =INDEX([1]Problématiques_compétences!$D$3:$BA$118,MATCH([1]Progression_Cycle4!N$4,[1]Problématiques_compétences!$D$3:$D$118,0),29) -> 0 | O47: =INDEX([1]Problématiques_compétences!$D$3:$BA$118,MATCH([1]Progression_Cycle4!O$4,[1]Problématiques_compétences!$D$3:$D$118,0),29) -> 0 | Q47: =INDEX([1]Problématiques_compétences!$D$3:$BA$118,MATCH([1]Progression_Cycle4!Q$4,[1]Problématiques_compétences!$D$3:$D$118,0),29) -> 0 | R47: =INDEX([1]Problématiques_compétences!$D$3:$BA$118,MATCH([1]Progression_Cycle4!R$4,[1]Problématiques_compétences!$D$3:$D$118,0),29) -> 0 | S47: =INDEX([1]Problématiques_compétences!$D$3:$BA$118,MATCH([1]Progression_Cycle4!S$4,[1]Problématiques_compétences!$D$3:$D$118,0),29) -> 0 | T47: =INDEX([1]Problématiques_compétences!$D$3:$BA$118,MATCH([1]Progression_Cycle4!T$4,[1]Problématiques_compétences!$D$3:$D$118,0),29) -> 0 | U47: =INDEX([1]Problématiques_compétences!$D$3:$BA$118,MATCH([1]Progression_Cycle4!U$4,[1]Problématiques_compétences!$D$3:$D$118,0),29) -> 0 | V47: =INDEX([1]Problématiques_compétences!$D$3:$BA$118,MATCH([1]Progression_Cycle4!V$4,[1]Problématiques_compétences!$D$3:$D$118,0),29) -> 0 | W47: =INDEX([1]Problématiques_compétences!$D$3:$BA$118,MATCH([1]Progression_Cycle4!W$4,[1]Problématiques_compétences!$D$3:$D$118,0),29) -> 0 | X47: =INDEX([1]Problématiques_compétences!$D$3:$BA$118,MATCH([1]Progression_Cycle4!X$4,[1]Problématiques_compétences!$D$3:$D$118,0),29) -> 0 | ... AK47: =INDEX([1]Problématiques_compétences!$D$3:$BA$118,MATCH([1]Progression_Cycle4!AK$4,[1]Problématiques_compétences!$D$3:$D$118,0),29) -> 0 | AL47: =INDEX([1]Problématiques_compétences!$D$4:$BA$117,MATCH([1]Progression_Cycle4!AL$4,[1]Problématiques_compétences!$D$6:$D$116,0),29) -> 0
I48: =COUNTIF(I9:I47,"x") -> 4 | J48: =COUNTIF(J9:J47,"x") -> 5 | K48: =COUNTIF(K9:K47,"x") -> 1 | L48: =COUNTIF(L9:L47,"x") -> 2 | M48: =COUNTIF(M9:M47,"x") -> 3 | N48: =COUNTIF(N9:N47,"x") -> 4 | O48: =COUNTIF(O9:O47,"x") -> 2 | P48: =COUNTIF(P9:P47,"x") -> 4 | ... AL48: =COUNTIF(AL9:AL47,"x") -> 0

Sheet Thématique
A1: TECHNOLOGIE - programme 2016 - Cycle 4 | J1: Thématiques | K1: → | N1: DIC | O1: Design, innovation et créativité
A2: Domaines du socle | B2: Compétences travaillées | D2: Compétences du programme par thématique | H2: → | J2: Matière, mouvement, énergie, information | N2: OTSCIS | O2: Les objets techniques, les services et les changements induits dans la société
A3: 4 - les systèmes naturels et les systèmes techniques | B3: 1 | C3: Pratiquer des démarches scientifiques et technologiques | D3: Design | E3: Évolution-description | F3: Modélisation | G3: Info | J3: Attendus de fin de cycle | N3: MSOST | O3: La modélisation et la simulation des objets et systèmes techniques
B4: CT 1.1 | C4: ► Imaginer, synthétiser, formaliser et respecter une procédure, un protocole. | D4: DIC.1.3 | F4: MSOST.1.1 | J4: Décrire les états et la constitution de la matière à l'échelle macroscopique. | N4: IP | O4: L’informatique et la programmation
B5: CT 1.2 | C5: ► Mesurer des grandeurs de manière directe ou indirecte. | F5: MSOST.1.6 | J5: Réaliser, de manière collaborative, le prototype d’un objet communicant.
B6: CT 1.3 | C6: ► Rechercher des solutions techniques à un problème posé, expliciter ses choix et les communiquer en argumentant. | D6: DIC.1.5 | J6: Compétences | L6: Connaissances
B7: CT 1.4 | C7: ► Participer à l’organisation et au déroulement de projets. | D7: DIC.1.4 | I7: DIC.1 | J7: Imaginer des solutions en réponse aux besoins, matérialiser une idée en intégrant une dimension design
A8: 4 - les systèmes naturels et les systèmes techniques | B8: 2 | C8: Concevoir, créer, réaliser | I8: DIC.1.1 | J8: Identifier un besoin (biens matériels ou services) et énoncer un problème technique. | K8: DIC.1.1.1 | L8: Besoin, contraintes, normalisation. | M8: → | N8: Repères de progressivité
B9: CT 2.1 | C9: ► Identifier un besoin et énoncer un problème technique, identifier les conditions, contraintes (normes et règlements) et ressources correspondantes. | D9: DIC.1.1 | E9: DIC.1.2 | I9: DIC.1.2 | J9: Identifier les conditions, contraintes (normes et règlements) et ressources correspondantes, qualifier et quantifier simplement les performances d’un objet technique existant ou à créer. | K9: DIC.1.2.1 | L9: Principaux éléments d’un cahier des charges. | N9: S’agissant des activités de projet, la conception doit être introduite dès la classe de 5ème, mais de façon progressive et modeste sur des projets simples. Des projets complets (conception, réalisation, validation) sont attendus en classe de 3ème.
D10: DIC.1.2
B11: CT 2.2 | C11: ► Identifier le(s) matériau(x), les flux d’énergie et d’information dans le cadre d’une production technique sur un objet et décrire les transformations qui s’opèrent. | F11: MSOST.1.4 | I11: DIC.1.3 | J11: Imaginer, synthétiser et formaliser une procédure, un protocole. | K11: DIC.1.3.1 | L11: Outils numériques de présentation.
B12: CT 2.3 | C12: ► S’approprier un cahier des charges. | D12: DIC.1.2 | K12: DIC.1.3.2 | L12: Charte graphique.
B13: CT 2.4 | C13: ► Associer des solutions techniques à des fonctions. | F13: MSOST.1.2 | I13: DIC.1.4 | J13: Participer à l’organisation de projets, la définition des rôles, la planification (se projeter et anticiper) et aux revues de projet. | K13: DIC.1.4.1 | L13: Organisation d’un groupe de projet, rôle des participants, planning, revue de projets.
B14: CT 2.5 | C14: ► Imaginer des solutions en réponse au besoin. | D14: DIC.1.5 | I14: DIC.1.5 | J14: Imaginer des solutions pour produire des objets et des éléments de programmes informatiques en réponse au besoin. | K14: DIC.1.5.1 | L14: Design.
B15: CT 2.6 | C15: ► Réaliser, de manière collaborative, le prototype de tout ou partie d’un objet pour valider une solution. | D15: DIC.2.1 | F15: MSOST.1.1 | K15: DIC.1.5.2 | L15: Innovation et créativité.
B16: CT 2.7 | C16: ► Imaginer, concevoir et programmer des applications informatiques nomades. | D16: DIC.1.5 | G16: IP.2.2 | K16: DIC.1.5.3 | L16: Veille.
A17: 2 - les méthodes et outils pour apprendre | B17: 3 | C17: S’approprier des outils et des méthodes | K17: DIC.1.5.4 | L17: Représentation de solutions (croquis, schémas, algorithmes).
B18: CT 3.1 | C18: ► Exprimer sa pensée à l’aide d’outils de description adaptés : croquis, schémas, graphes, diagrammes, tableaux (représentations non normées). | E18: OTSCIS.2.1 | K18: DIC.1.5.5 | L18: Réalité augmentée.
B19: CT 3.2 | C19: ► Traduire, à l’aide d’outils de représentation numérique, des choix de solutions sous forme de croquis, de dessins ou de schémas. | D19: DIC.1.5 | E19: OTSCIS.2.2 | K19: DIC.1.5.6 | L19: Objets connectés.
B20: CT 3.3 | C20: ► Présenter à l’oral et à l’aide de supports numériques multimédia des solutions techniques au moment des revues de projet. | D20: DIC.1.7 | I20: DIC.1.6 | J20: Organiser, structurer et stocker des ressources numériques. | K20: DIC.1.6.1 | L20: Arborescence.
A21: 1 - les langages pour penser et communiquer | B21: 4 | C21: Pratiquer des langages | I21: DIC.1.7 | J21: Présenter à l’oral et à l’aide de supports numériques multimédia des solutions techniques au moment des revues de projet. | K21: DIC.1.7.1 | L21: Outils numériques de présentation.
B22: CT 4.1 | C22: ► Décrire, en utilisant les outils et langages de descriptions adaptés, la structure et le comportement des objets. | E22: OTSCIS.1.4 | F22: MSOST.1.5 | L22: Charte graphique.
B23: CT 4.2 | C23: ► Appliquer les principes élémentaires de l’algorithmique et du codage à la résolution d’un problème simple. | G23: IP.2.3 | I23: DIC.2 | J23: Réaliser, de manière collaborative, le prototype d’un objet communicant
A24: 2 - les méthodes et outils pour apprendre | B24: 5 | C24: Mobiliser des outils numériques | I24: DIC.2.1 | J24: Réaliser, de manière collaborative, le prototype d’un objet pour valider une solution. | K24: DIC.2.1.1 | L24: Prototypage rapide de structures et de circuits de commande à partir de cartes standard.
B25: CT 5.1 | C25: ► Simuler numériquement la structure et/ou le comportement d’un objet. | F25: MSOST.2.2
B26: CT 5.2 | C26: ► Organiser, structurer et stocker des ressources numériques. | D26: DIC.1.6
B27: CT 5.3 | C27: ► Lire, utiliser et produire des représentations numériques d’objets. | E27: OTSCIS.2.2 | J27: Les objets techniques, les services et les changements induits dans la société
B28: CT 5.4 | C28: ► Piloter un système connecté localement ou à distance. | G28: IP.2.2 | J28: Attendus de fin de cycle
B29: CT 5.5 | C29: ► Modifier ou paramétrer le fonctionnement d’un objet communicant. | G29: IP.2.3 | J29: Comparer et commenter les évolutions des objets et systèmes.
A30: 3 - la formation de la personne et du citoyen | B30: 6 | C30: Adopter un comportement éthique et responsable | J30: Exprimer sa pensée à l’aide d’outils de description adaptés.
A31: 5 - les représentations du monde et l'activité humaine | B31: CT 6.1 | C31: ► Développer les bonnes pratiques de l’usage des objets communicants. | E31: OTSCIS.1.3 | J31: Développer les bonnes pratiques de l’usage des objets communicants.
B32: CT 6.2 | C32: ► Analyser l’impact environnemental d’un objet et de ses constituants. | E32: OTSCIS.1.2 | J32: Compétences | L32: Connaissances
B33: CT 6.3 | C33: ► Analyser le cycle de vie d’un objet. | E33: OTSCIS.1.1 | I33: OTSCIS.1 | J33: Comparer et commenter les évolutions des objets et systèmes | M33: → | N33: Repères de progressivité
A34: 5 - les représentations du monde et l'activité humaine | B34: 7 | C34: Se situer dans l’espace et dans le temps | I34: OTSCIS.1.1 | J34: Regrouper des objets en familles et lignées. | K34: OTSCIS.1.1.1 | L34: L’évolution des objets. | N34: Cette thématique a vocation à conduire les élèves à comparer et analyser les objets et systèmes techniques. Considérant que la technologie n’est pas extérieure à la société, il s’agit de nouer des liens avec le monde social. C’est à l’occasion de croisements disciplinaires et en traitant de questions d’actualité que cette thématique devient « matière » à relier et à contextualiser. La notion de respect des usages des objets communicants inclut le respect de la propriété intellectuelle dans le cadre de productions originales et personnelles. Elle interroge les élèves sur le respect dû à chaque individu dans et en dehors de la classe.
B35: CT 7.1 | C35: ► Regrouper des objets en familles et lignées. | E35: OTSCIS.1.1 | K35: OTSCIS.1.1.2 | L35: Impacts sociétaux et environnementaux dus aux objets.
B36: CT 7.2 | C36: ► Relier les évolutions technologiques aux inventions et innovations qui marquent des ruptures dans les solutions techniques. | E36: OTSCIS.1.2 | K36: OTSCIS.1.1.3 | L36: Cycle de vie.
K37: OTSCIS.1.1.4 | L37: Les règles d’un usage raisonné des objets communicants respectant la propriété intellectuelle et l’intégrité d’autrui.
B38: Les compétences suivantes, spécifiques au programme de technologie, ne sont pas citées dans le tableau des compétences travaillées mais elles permettent néanmoins de travailler certaines compétences du socle commun. | I38: OTSCIS.1.2 | J38: Relier les évolutions technologiques aux inventions et innovations qui marquent des ruptures dans les solutions techniques.
B39: Compétences spécifiques au programme de technologie | I39: OTSCIS.1.3 | J39: Comparer et commenter les évolutions des objets en articulant différents points de vue : fonctionnel, structurel, environnemental, technique, scientifique, social, historique, économique.
B40: CS 1.5 | C40: ► Respecter une procédure de travail garantissant un résultat en respectant les règles de sécurité et d’utilisation des outils mis à disposition. | F40: MSOST.1.1 | I40: OTSCIS.1.4 | J40: Élaborer un document qui synthétise ces comparaisons et ces commentaires. | K40: OTSCIS.1.4.1 | L40: Outils numériques de présentation.
B41: CS 1.6 | C41: ► Analyser le fonctionnement et la structure d’un objet, identifier les entrées et sorties. | F41: MSOST.1.3 | K41: OTSCIS.1.4.2 | L41: Charte graphique.
B42: CS 1.7 | C42: ► Interpréter des résultats expérimentaux, en tirer une conclusion et la communiquer en argumentant. | F42: MSOST.1.7 | I42: OTSCIS.2 | J42: Exprimer sa pensée à l’aide d’outils de description adaptés
B43: CS 1.8 | C43: ► Utiliser une modélisation pour comprendre, formaliser, partager, construire, investiguer, prouver. | F43: MSOST.2.1 | I43: OTSCIS.2.1 | J43: Exprimer sa pensée à l’aide d’outils de description adaptés : croquis, schémas, graphes, diagrammes, tableaux. | K43: OTSCIS.2.1.1 | L43: Croquis à main levée.
K44: OTSCIS.2.1.2 | L44: Différents schémas.
B45: CS 5.6 | C45: ► Comprendre le fonctionnement d’un réseau informatique. | G45: IP.1.1 | K45: OTSCIS.2.1.3 | L45: Carte heuristique.
B46: CS 5.7 | C46: ► Analyser le comportement attendu d’un système réel et décomposer le problème posé en sous-problèmes afin de structurer un programme de commande. | G46: IP.2.1 | K46: OTSCIS.2.1.4 | L46: Notion d’algorithme.
I47: OTSCIS.2.2 | J47: Lire, utiliser et produire, à l’aide d’outils de représentation numérique, des choix de solutions sous forme de dessins ou de schémas. | K47: OTSCIS.2.2.1 | L47: Outils numériques de description des objets techniques.
B50: Compétences travaillées | J50: La modélisation et la simulation des objets et systèmes techniques
B51: 26 | C51: organisées en 7 parties, CT1.1 à CT7.2 (colonne B) | J51: Attendus de fin de cycle
J52: Analyser le fonctionnement et la structure d’un objet.
J53: Utiliser une modélisation et simuler le comportement d’un objet.
J54: Compétences | L54: Connaissances
I55: MSOST.1 | J55: Analyser le fonctionnement et la structure d’un objet | M55: → | N55: Repères de progressivité
B56: Programme | I56: MSOST.1.1 | J56: Respecter une procédure de travail garantissant un résultat en respectant les règles de sécurité et d’utilisation des outils mis à disposition. | K56: MSOST.1.1.1 | L56: Procédures, protocoles. | N56: Un modèle numérique est une représentation virtuelle d’un objet technique, réalisée en vue de valider des éléments de solutions préalablement imaginés ou d’en étudier certains aspects. Il ne s’agit pas « d’apprendre des modèles » mais d’apprendre à utiliser des modèles, voire à créer un modèle géométrique. Dans un premier temps, les activités de modélisation seront conduites sur des objets techniques connus des élèves. On privilégiera tout d’abord les modèles à valeur explicative puis les modèles pour construire. En fin de cycle, l’accent sera mis sur les hypothèses retenues pour utiliser une modélisation de comportement fournie et sur la nécessité de prendre en compte ces hypothèses pour interpréter les résultats de la simulation. Il sera pertinent de montrer l’influence d’un ou deux paramètres sur les résultats obtenus afin d’initier une réflexion sur la validité des résultats.
B57: Les objectifs de formation du cycle 4 en technologie s’organisent autour de trois grandes thématiques issues de trois dimensions : le design, l’innovation, la créativité ; les objets techniques, les services et les changements induits dans la société ; la modélisation et la simulation des objets techniques. Un enseignement d’informatique est dispensé à la fois dans le cadre des mathématiques et de la technologie (considéré comme une 4e thématique) | K57: MSOST.1.1.2 | L57: Ergonomie.
I58: MSOST.1.2 | J58: Associer des solutions techniques à des fonctions. | K58: MSOST.1.2.1 | L58: Analyse fonctionnelle systémique.
I59: MSOST.1.3 | J59: Analyser le fonctionnement et la structure d’un objet, identifier les entrées et sorties. | K59: MSOST.1.3.1 | L59: Représentation fonctionnelle des systèmes.
K60: MSOST.1.3.2 | L60: Structure des systèmes.
K61: MSOST.1.3.3 | L61: Chaîne d’énergie.
K62: MSOST.1.3.4 | L62: Chaîne d’information.
B63: Compétences spécifiques au programme de technologie | I63: MSOST.1.4 | J63: Identifier le(s) matériau(x), les flux d’énergie et d’information sur un objet et décrire les transformations qui s’opèrent. | K63: MSOST.1.4.1 | L63: Familles de matériaux avec leurs principales caractéristiques.
B64: 6 | C64: repérées CS1.5 à CS5.7 (colonne B) | K64: MSOST.1.4.2 | L64: Sources d’énergies.
B65: Connaissances associées aux compétences | K65: MSOST.1.4.3 | L65: Chaîne d’énergie.
B66: 53 | C66: repérées DIC.1.1.1… (colonne K) | K66: MSOST.1.4.4 | L66: Chaîne d’information.
I67: MSOST.1.5 | J67: Décrire, en utilisant les outils et langages de descriptions adaptés, le fonctionnement, la structure et le comportement des objets. | K67: MSOST.1.5.1 | L67: Outils de description d’un fonctionnement, d’une structure et d’un comportement.
I68: MSOST.1.6 | J68: Mesurer des grandeurs de manière directe ou indirecte. | K68: MSOST.1.6.1 | L68: Instruments de mesure usuels.
K69: MSOST.1.6.2 | L69: Principe de fonctionnement d’un capteur, d’un codeur, d’un détecteur.
K70: MSOST.1.6.3 | L70: Nature du signal : analogique ou numérique.
K71: MSOST.1.6.4 | L71: Nature d’une information : logique ou analogique.
I72: MSOST.1.7 | J72: Interpréter des résultats expérimentaux, en tirer une conclusion et la communiquer en argumentant. | K72: MSOST.1.7.1 | L72: Notions d’écarts entre les attentes fixées par le cahier des charges et les résultats de l’expérimentation.
I73: MSOST.2 | J73: Utiliser une modélisation et simuler le comportement d’un objet
I74: MSOST.2.1 | J74: Utiliser une modélisation pour comprendre, formaliser, partager, construire, investiguer, prouver. | K74: MSOST.2.1.1 | L74: Outils de description d’un fonctionnement, d’une structure et d’un comportement.
I75: MSOST.2.2 | J75: Simuler numériquement la structure et/ou le comportement d’un objet. Interpréter le comportement de l’objet technique et le communiquer en argumentant. | K75: MSOST.2.2.1 | L75: Notions d’écarts entre les attentes fixées par le cahier des charges et les résultats de la simulation.
J78: L’informatique et la programmation
J79: Attendus de fin de cycle
J80: Comprendre le fonctionnement d’un réseau informatique.
J81: Écrire, mettre au point et exécuter un programme.
J82: Compétences | L82: Connaissances
I83: IP.1 | J83: Comprendre le fonctionnement d’un réseau informatique | M83: → | N83: Repères de progressivité :
I84: IP.1.1 | J84: Comprendre le fonctionnement d'un réseau informatique | K84: IP.1.1.1 | L84: Composants d'un réseau, architecture d'un réseau local, moyens de connexion d’un moyen informatique. | N84: En 5e : traitement, mise au point et exécution de programmes simples avec un nombre limité de variables d’entrée et de sortie, développement de programmes avec des boucles itératives.
K85: IP.1.1.2 | L85: Notion de protocole, d'organisation de protocoles en couche, d'algorithme de routage, Internet.
I86: IP.2 | J86: Écrire, mettre au point et exécuter un programme | N86: En 4e : traitement, mise au point et exécution de programmes avec introduction de plusieurs variables d’entrée et de sortie.
I87: IP.2.1 | J87: Analyser le comportement attendu d’un système réel et décomposer le problème posé en sous-problèmes afin de structurer un programme de commande.
I88: IP.2.2 | J88: Écrire, mettre au point (tester, corriger) et exécuter un programme commandant un système réel et vérifier le comportement attendu. | N88: En 3e : introduction du comptage et de plusieurs boucles conditionnelles imbriquées, décomposition en plusieurs sous-problèmes.
I89: IP.2.3 | J89: Écrire un programme dans lequel des actions sont déclenchées par des événements extérieurs. | K89: IP.2.3.1 | L89: Notions d’algorithme et de programme.
K90: IP.2.3.2 | L90: Notion de variable informatique.
K91: IP.2.3.3 | L91: Déclenchement d'une action par un événement, séquences d'instructions, boucles, instructions conditionnelles.
K92: IP.2.3.4 | L92: Systèmes embarqués.
K93: IP.2.3.5 | L93: Forme et transmission du signal.
K94: IP.2.3.6 | L94: Capteur, actionneur, interface.

Sheet Planning CT
G11: Séquences en attente de placements | H11: Chronologie dans la progression | I11: Nombre de compétences développées | J11: Imaginer, synthétiser, formaliser et respecter une procédure, un protocole. | K11: Mesurer des grandeurs de manière directe ou indirecte. | L11: Rechercher des solutions techniques à un problème posé, expliciter ses choix et les communiquer en argumentant. | M11: Participer à l’organisation et au déroulement de projets. | N11: Identifier un besoin et énoncer un problème technique, identifier les conditions, contraintes et ressources correspondantes. | O11: Identifier le(s) matériau(x), les flux d’énergie et d’information sur un objet et décrire les transformations qui s'opèrent | P11: S’approprier un cahier des charges. | Q11: Associer des solutions techniques à des fonctions. | R11: Imaginer des solutions en réponse au besoin. | S11: Réaliser, de manière collaborative, le prototype de tout ou partie d’un objet pour valider une solution. | T11: Imaginer, concevoir et programmer des applications informatiques pour des appareils nomades. | U11: Exprimer sa pensée à l’aide d’outils de description adaptés : croquis, schémas, graphes, diagrammes, tableaux. | V11: Traduire, à l’aide d’outils de représentation numérique, des choix de solutions sous forme de croquis, dessins ou schémas. | W11: Présenter à l’oral et à l’aide de supports numériques multimédia des solutions techniques au moment des revues de projet. | X11: Décrire, en utilisant les outils et langages de descriptions adaptés, la structure et le comportement des objets. | Y11: Appliquer les principes élémentaires de l’algorithmique et du codage à la résolution d’un problème simple. | Z11: Simuler numériquement la structure et/ou le comportement d’un objet. | AA11: Organiser, structurer et stocker des ressources numériques. | AB11: Lire, utiliser et produire des représentations numériques d’objets. | AC11: Piloter un système connecté localement ou à distance. | AD11: Modifier ou paramétrer le fonctionnement d’un objet communicant. | AE11: Développer les bonnes pratiques de l’usage des objets communicants | AF11: Analyser l’impact environnemental d’un objet et de ses constituants. | AG11: Analyser le cycle de vie d’un objet | AH11: Regrouper des objets en familles et lignées. | AI11: Relier les évolutions technologiques aux inventions et innovations qui marquent des ruptures dans les solutions techniques.
F12: Démarche pédagogique | J12: Pratiquer des démarches scientifiques et technologiques | N12: Concevoir, créer, réaliser | U12: S’approprier des outils et des méthodes | X12: Pratiquer des langages | Z12: Mobiliser des outils numériques | AE12: Adopter un comportement éthique et responsable | AH12: Se situer dans l’espace et dans le temps
D13: Problématiques proposées Cycle 4 | J13: CT1.1 | K13: CT1.2 | L13: CT1.3 | M13: CT1.4 | N13: CT2.1 | O13: CT2.2 | P13: CT2.3 | Q13: CT2.4 | R13: CT2.5 | S13: CT2.6 | T13: CT2.7 | U13: CT3.1 | V13: CT3.2 | W13: CT3.3 | X13: CT4.1 | Y13: CT4.2 | Z13: CT5.1 | AA13: CT5.2 | AB13: CT5.3 | AC13: CT5.4 | AD13: CT5.5 | AE13: CT6.1 | AF13: CT6.2 | AG13: CT6.3 | AH13: CT7.1 | AI13: CT7.2 | AJ13: CS1.5 | AK13: CS1.6 | AL13: CS1.7 | AM13: CS1.8 | AN13: CS5.6 | AO13: CS5.7
A14: 5ème | B14: Projet 1 | C14: Identifier les particularités dans une habitation. Renforcer une structure. | D14: Comment était créée une ouverture dans une habitation ? | E14: 1 | F14: DI | G14: S1 | H14: 1 | I14: =SUM(J14:AO14) -> 4 | N14: 1 | V14: 1 | AH14: 1 | AI14: 1
D15: Quelles sont les propriétes du mortier ? Quelles solutions apportées pour renforcer la structure ? | E15: 2 | F15: DI | G15: S2 | H15: 2 | I15: =SUM(J15:AO15) -> 5 | J15: 1 | S15: 1 | W15: 1 | AJ15: 1 | AL15: 1
D16: Quel est le profil adéquat d’un toit d’une cabane pour résister au vent ? | E16: 3 | F16: DI | G16: S3 | H16: 3 | I16: =SUM(J16:AO16) -> 1 | AM16: 1
D17: Quelles sont les nouvelles structures utilisées ? (CAO simulation) | E17: 4 | F17: DRP | G17: S4 | H17: 4 | I17: =SUM(J17:AO17) -> 2 | AF17: 1 | AI17: 1
B18: Projet 2 | C18: Accueillir des personnes à mobilité réduite dans le collège. | D18: Quelles sont les contraintes liées à la sécurité ? | E18: 5 | F18: DRP | G18: S5 | H18: 5 | I18: =SUM(J18:AO18) -> 3 | L18: 1 | N18: 1 | P18: 1
D19: Comment aménager l'espace dans le collège ? (3D) | E19: 6 | F19: DRP | G19: S6 | H19: 6 | I19: =SUM(J19:AO19) -> 5 | Q19: 1 | R19: 1 | V19: 1 | Z19: 1 | AM19: 1
D20: Comment détecter une personne et allumer les éclairages dans le couloir sans utiliser un interrupteur ? (Arduino) | E20: 7 | F20: DI | G20: S7 | H20: 7 | I20: =SUM(J20:AO20) -> 2 | N20: 1 | Y20: 1
B21: Projet 3 | C21: Assurer le confort dans une habitation | D21: Comment assurer la régulation de température ? | E21: 8 | F21: DRP | G21: S8 | H21: 8 | I21: =SUM(J21:AO21) -> 4 | R21: 1 | W21: 1 | AE21: 1 | AF21: 1
D22: Comment programmer l'ouverture d'une porte avec son smartphone ? (arduino) Non fait | E22: 9 | F22: DRP | G22: S9 | H22: 9 | I22: =SUM(J22:AO22) -> 4 | T22: 1 | Z22: 1 | AC22: 1 | AE22: 1
D23: Comment assurer la protection d'un bien par un système d'alarme ? (Arduino) Non fait | E23: 10 | F23: DRP | G23: S10 | H23: 10 | I23: =SUM(J23:AO23) -> 2 | O23: 1 | Y23: 1
A24: 4ème | B24: Projet 4 | C24: Produire /distribuer une énergie thermique alternative pour se chauffer | D24: Quelles sont les principes physiques et techniques nous permettant de nous chauffer ? | E24: 11 | F24: DI | G24: S11 | H24: 11 | I24: =SUM(J24:AO24) -> 4 | J24: 1 | O24: 1 | Q24: 1 | AI24: 1
D25: Quelles sont les solutions permettant de nous chauffer à partir de source d'energie inépuisable ? | E25: 12 | F25: DRP | G25: S12 | H25: 12 | I25: =SUM(J25:AO25) -> 7 | O25: 1 | P25: 1 | Q25: 1 | R25: 1 | S25: 1 | W25: 1 | Z25: 1
D26: Comment réguler la température ? (Arduino) | E26: 13 | F26: DRP | G26: S13 | H26: 13 | I26: =SUM(J26:AO26) -> 2 | K26: 1 | AK26: 1
B27: Projet 5 | C27: Programmer un objet lumineux | D27: Comment programmer de manière à déclencher l'éclairage dès que la pièce devient sombre ? (anti-intrusion) (arduino) | E27: 14 | F27: DRP | G27: S14 | H27: 14 | I27: =SUM(J27:AO27) -> 3 | K27: 1 | Y27: 1 | AD27: 1
D28: Comment piloter et paramétrer un objet communiquant ? | E28: 15 | F28: DRP/DI | G28: S15 | H28: 15 | I28: =SUM(J28:AO28) -> 5 | T28: 1 | U28: 1 | V28: 1 | AC28: 1 | AD28: 1
B29: Projet 6 | C29: Identfier les propriétés des matériaux dans une perpective de confort pour une habitation | D29: Quels sont les matériaux qui permettent d'emmagasiner la chaleur ? Inertie thermique | E29: 16 | F29: DI | G29: S16 | H29: 16 | I29: =SUM(J29:AO29) -> 5 | J29: 1 | K29: 1 | L29: 1 | M29: 1 | AL29: 1
D30: Quels sont les objets qui restituent la lumière ? (Sources secondaires, objets diffusants) | E30: 17 | F30: DI | G30: S17 | H30: 17 | I30: =SUM(J30:AO30) -> 4 | M30: 1 | S30: 1 | V30: 1 | W30: 1
D31: Comment se propage le son ? (Echo) Reflexion des ondes sonores. | E31: 18 | F31: DI | G31: S18 | H31: 18 | I31: =SUM(J31:AO31) -> 3 | N31: 1 | O31: 1 | AI31: 1
A32: 3ème | B32: Projet 7 | C32: Démarche de projet global | D32: Analyse du besoin | E32: 19 | F32: DRP | G32: S19 | H32: 19 | I32: =SUM(J32:AO32) -> 3 | J32: 1 | AH32: 1 | AI32: 1
D33: Elaboration du cahier des charges fonctionelles | E33: 20 | F33: DRP | G33: S20 | H33: 20 | I33: =SUM(J33:AO33) -> 6 | N33: 1 | P33: 1 | S33: 1 | U33: 1 | V33: 1 | W33: 1
D34: Recherche des solutions électroniques . (Big CI) | E34: 21 | F34: DI | G34: S21 | H34: 22 | I34: =SUM(J34:AO34) -> 8 | J34: 1 | K34: 1 | L34: 1 | P34: 1 | W34: 1 | AA34: 1 | AL34: 1 | AM34: 1
D35: Recherche des solutions mécaniques. (SolidWorks) | E35: 22 | F35: DRP | G35: S22 | H35: 23 | I35: =SUM(J35:AO35) -> 9 | J35: 1 | K35: 1 | L35: 1 | M35: 1 | W35: 1 | Z35: 1 | AA35: 1 | AL35: 1 | AM35: 1
D36: Validation du prototype. Eco conception | E36: 23 | F36: DRP | G36: S23 | H36: 24 | I36: =SUM(J36:AO36) -> 3 | L36: 1 | AF36: 1 | AG36: 1
D37: Production | E37: 24 | F37: DRP | G37: S24 | H37: 25 | I37: =SUM(J37:AO37) -> 5 | M37: 1 | P37: 1 | S37: 1 | W37: 1 | AJ37: 1
D38: Programmation | E38: 25 | F38: DRP | G38: S25 | H38: 26 | I38: =SUM(J38:AO38) -> 3 | T38: 1 | Y38: 1 | AO38: 1
D39: Communication. | E39: 26 | F39: DRP | G39: S26 | H39: 27 | I39: =SUM(J39:AO39) -> 8 | M39: 1 | U39: 1 | V39: 1 | W39: 1 | X39: 1 | AA39: 1 | AB39: 1 | AN39: 1
J40: =SUM(J14:J39) -> 6 | K40: =SUM(K14:K39) -> 5 | L40: =SUM(L14:L39) -> 5 | M40: =SUM(M14:M39) -> 5 | N40: =SUM(N14:N39) -> 5 | O40: =SUM(O14:O39) -> 4 | P40: =SUM(P14:P39) -> 5 | Q40: =SUM(Q14:Q39) -> 3 | ... AO40: =SUM(AO14:AO39) -> 1

Sheet Feuil4
