Workbook

Sheet CT
I1: Progression du cycle
I2: =IF(MATCH([1]Progression_Cycle4!I4,[1]Problématiques_compétences!$D$1:$D$118,0)>107,"P","") | J2: =IF(MATCH([1]Progression_Cycle4!J4,[1]Problématiques_compétences!$D$1:$D$118,0)>107,"P","") | K2: =IF(MATCH([1]Progression_Cycle4!K4,[1]Problématiques_compétences!$D$1:$D$118,0)>107,"P","") | L2: =IF(MATCH([1]Progression_Cycle4!L4,[1]Problématiques_compétences!$D$1:$D$118,0)>107,"P","") | M2: =IF(MATCH([1]Progression_Cycle4!M4,[1]Problématiques_compétences!$D$1:$D$118,0)>107,"P","") -> P | N2: =IF(MATCH([1]Progression_Cycle4!N4,[1]Problématiques_compétences!$D$1:$D$118,0)>107,"P","") -> P | O2: =IF(MATCH([1]Progression_Cycle4!O4,[1]Problématiques_compétences!$D$1:$D$118,0)>107,"P","") | P2: =IF(MATCH([1]Progression_Cycle4!P4,[1]Problématiques_compétences!$D$1:$D$118,0)>107,"P","") | ... AL2: =IF(MATCH([1]Progression_Cycle4!AL4,[1]Problématiques_compétences!$D$1:$D$118,0)>107,"P","")
A3: Progression pédagogique technologie cycle 4 BENMRAD | D3: Design, innovation et créativité | E3: Les objets et systèmes techniques et les changements induits dans la société | F3: La modélisation et la simulation des objets et systèmes techniques | G3: L’informatique et la programmation | H3: Nombre d'itérations de la compétence | I3: Comment était créée une ouverture dans une habitation ? | J3: Quelles sont les propriétes du mortier ? Quelles solutions apportées pour renforcer la structure ? | K3: Quel est le profil adéquat d’un toit d’une cabane pour résister au vent ? | L3: Quelles sont les nouvelles structures utilisées ? (CAO simulation) | M3: Quelles sont les contraintes liées à la sécurité ? | N3: Comment aménager l'espace dans le collège ? (3D) | O3: Comment détecter une personne et allumer les éclairages dans le couloir sans utiliser un interrupteur ? (Arduino) | P3: Comment assurer la régulation de température ? | S3: Quelles sont les principes physiques et techniques nous permettant de nous chauffer ? | T3: Quelles sont les solutions permettant de nous chauffer à partir de source d'energie inépuisable ? | U3: Comment réguler la température ? (Arduino) | V3: Comment programmer de manière à déclencher l'éclairage dès que la pièce devient sombre ? (anti-intrusion) (arduino) | W3: Comment piloter et paramétrer un objet communiquant ? | X3: Quels sont les matériaux qui permettent d'emmagasiner la chaleur ? Inertie thermique | Y3: Quels sont les objets qui restituent la lumière ? (Sources secondaires, objets diffusants) | Z3: Comment se propage le son ? (Echo) Reflexion des ondes sonores. | AA3: Analyse du besoin | AB3: Elaboration du cahier des charges fonctionelles | AC3: Recherche des solutions électroniques . (Big CI) | AD3: Recherche des solutions mécaniques. (SolidWorks) | AE3: Validation du prototype. Eco conception | AF3: Production | AG3: Programmation | AH3: Communication
A4: Repère séquence | I4: S1 | J4: S2 | K4: S3 | L4: S4 | M4: S5 | N4: S6 | O4: S7 | P4: S8 | Q4: S9 | R4: S10 | S4: S11 | T4: S12 | U4: S13 | V4: S14 | W4: S15 | X4: S16 | Y4: S17 | Z4: S18 | AA4: S19 | AB4: S20 | AC4: S21 | AD4: S22 | AE4: S23 | AF4: S24 | AG4: S25 | AH4: S26 | AI4: S27 | AJ4: S28 | AK4: S29 | AL4: S30
A5: Répartition sur le cycle | I5: 5ème | S5: 4ème | AA5: 3ème
A6: Lien avec les enseignements pratiques interdisciplinaires (EPI)
A7: Domaines du socle | B7: Compétences travaillées | D7: Compétences du programme par thématique
A8: 4 - les systèmes naturels et les systèmes techniques | B8: 1 | C8: Pratiquer des démarches scientifiques et technologiques
B9: CT 1.1 | C9: Imaginer, synthétiser, formaliser et respecter une procédure, un protocole. | D9: DIC.1.3 | F9: MSOST.1.1 | H9: =COUNTIF(I9:AL9,"x") -> 6 | I9: =INDEX([1]Problématiques_compétences!$D$3:$BA$118,MATCH([1]Progression_Cycle4!I$4,[1]Problématiques_compétences!$D$3:$D$118,0),3) -> 0 | J9: x | L9: =INDEX([1]Problématiques_compétences!$D$3:$BA$118,MATCH([1]Progression_Cycle4!L$4,[1]Problématiques_compétences!$D$3:$D$118,0),3) -> 0 | M9: =INDEX([1]Problématiques_compétences!$D$3:$BA$118,MATCH([1]Progression_Cycle4!M$4,[1]Problématiques_compétences!$D$3:$D$118,0),3) -> 0 | N9: =INDEX([1]Problématiques_compétences!$D$3:$BA$118,MATCH([1]Progression_Cycle4!N$4,[1]Problématiques_compétences!$D$3:$D$118,0),3) -> 0 | O9: =INDEX([1]Problématiques_compétences!$D$3:$BA$118,MATCH([1]Progression_Cycle4!O$4,[1]Problématiques_compétences!$D$3:$D$118,0),3) -> 0 | P9: =INDEX([1]Problématiques_compétences!$D$3:$BA$118,MATCH([1]Progression_Cycle4!P$4,[1]Problématiques_compétences!$D$3:$D$118,0),3) -> 0 | Q9: =INDEX([1]Problématiques_compétences!$D$3:$BA$118,MATCH([1]Progression_Cycle4!Q$4,[1]Problématiques_compétences!$D$3:$D$118,0),3) -> 0 | R9: =INDEX([1]Problématiques_compétences!$D$3:$BA$118,MATCH([1]Progression_Cycle4!R$4,[1]Problématiques_compétences!$D$3:$D$118,0),3) -> 0 | S9: =INDEX([1]Problématiques_compétences!$D$3:$BA$118,MATCH([1]Progression_Cycle4!S$4,[1]Problématiques_compétences!$D$3:$D$118,0),3) -> x | ... W9: =INDEX([1]Problématiques_compétences!$D$3:$BA$118,MATCH([1]Progression_Cycle4!W$4,[1]Problématiques_compétences!$D$3:$D$118,0),3) -> 0 | X9: x | Y9: =INDEX([1]Problématiques_compétences!$D$3:$BA$118,MATCH([1]Progression_Cycle4!Y$4,[1]Problématiques_compétences!$D$3:$D$118,0),3) -> 0 | Z9: =INDEX([1]Problématiques_compétences!$D$3:$BA$118,MATCH([1]Progression_Cycle4!Z$4,[1]Problématiques_compétences!$D$3:$D$118,0),3) -> 0 | AA9: x | AB9: =INDEX([1]Problématiques_compétences!$D$3:$BA$118,MATCH([1]Progression_Cycle4!AB$4,[1]Problématiques_compétences!$D$3:$D$118,0),3) -> 0 | AC9: x | AD9: x | AE9: =INDEX([1]Problématiques_compétences!$D$3:$BA$118,MATCH([1]Progression_Cycle4!AE$4,[1]Problématiques_compétences!$D$3:$D$118,0),3) -> 0 | AF9: =INDEX([1]Problématiques_compétences!$D$3:$BA$118,MATCH([1]Progression_Cycle4!AF$4,[1]Problématiques_compétences!$D$3:$D$118,0),3) -> 0 | AG9: =INDEX([1]Problématiques_compétences!$D$3:$BA$118,MATCH([1]Progression_Cycle4!AG$4,[1]Problématiques_compétences!$D$3:$D$118,0),3) -> 0 | AH9: =INDEX([1]Problématiques_compétences!$D$3:$BA$118,MATCH([1]Progression_Cycle4!AH$4,[1]Problématiques_compétences!$D$3:$D$118,0),3) -> 0 | AI9: =INDEX([1]Problématiques_compétences!$D$3:$BA$118,MATCH([1]Progression_Cycle4!AI$4,[1]Problématiques_compétences!$D$3:$D$118,0),3) -> 0 | AJ9: =INDEX([1]Problématiques_compétences!$D$3:$BA$118,MATCH([1]Progression_Cycle4!AJ$4,[1]Problématiques_compétences!$D$3:$D$118,0),3) -> 0 | AK9: =INDEX([1]Problématiques_compétences!$D$3:$BA$118,MATCH([1]Progression_Cycle4!AK$4,[1]Problématiques_compétences!$D$3:$D$118,0),3) -> 0 | AL9: =INDEX([1]Problématiques_compétences!$D$3:$BA$118,MATCH([1]Progression_Cycle4!AL$4,[1]Problématiques_compétences!$D$3:$D$118,0),3) -> 0
B10: CT 1.2 | C10: Mesurer des grandeurs de manière directe ou indirecte. | F10: MSOST.1.6 | H10: =COUNTIF(I10:AL10,"x") -> 4 | I10: =INDEX([1]Problématiques_compétences!$D$3:$BA$118,MATCH([1]Progression_Cycle4!I$4,[1]Problématiques_compétences!$D$3:$D$118,0),4) -> 0 | J10: =INDEX([1]Problématiques_compétences!$D$3:$BA$118,MATCH([1]Progression_Cycle4!J$4,[1]Problématiques_compétences!$D$3:$D$118,0),4) -> 0 | K10: =INDEX([1]Problématiques_compétences!$D$3:$BA$118,MATCH([1]Progression_Cycle4!K$4,[1]Problématiques_compétences!$D$3:$D$118,0),4) -> 0 | L10: =INDEX([1]Problématiques_compétences!$D$3:$BA$118,MATCH([1]Progression_Cycle4!L$4,[1]Problématiques_compétences!$D$3:$D$118,0),4) -> 0 | M10: =INDEX([1]Problématiques_compétences!$D$3:$BA$118,MATCH([1]Progression_Cycle4!M$4,[1]Problématiques_compétences!$D$3:$D$118,0),4) -> 0 | N10: =INDEX([1]Problématiques_compétences!$D$3:$BA$118,MATCH([1]Progression_Cycle4!N$4,[1]Problématiques_compétences!$D$3:$D$118,0),4) -> 0 | O10: =INDEX([1]Problématiques_compétences!$D$3:$BA$118,MATCH([1]Progression_Cycle4!O$4,[1]Problématiques_compétences!$D$3:$D$118,0),4) -> 0 | P10: =INDEX([1]Problématiques_compétences!$D$3:$BA$118,MATCH([1]Progression_Cycle4!P$4,[1]Problématiques_compétences!$D$3:$D$118,0),4) -> 0 | ... T10: =INDEX([1]Problématiques_compétences!$D$3:$BA$118,MATCH([1]Progression_Cycle4!T$4,[1]Problématiques_compétences!$D$3:$D$118,0),4) -> 0 | U10: x | V10: x | W10: =INDEX([1]Problématiques_compétences!$D$3:$BA$118,MATCH([1]Progression_Cycle4!W$4,[1]Problématiques_compétences!$D$3:$D$118,0),4) -> 0 | X10: x | Y10: =INDEX([1]Problématiques_compétences!$D$3:$BA$118,MATCH([1]Progression_Cycle4!Y$4,[1]Problématiques_compétences!$D$3:$D$118,0),4) -> 0 | Z10: =INDEX([1]Problématiques_compétences!$D$3:$BA$118,MATCH([1]Progression_Cycle4!Z$4,[1]Problématiques_compétences!$D$3:$D$118,0),4) -> 0 | AA10: =INDEX([1]Problématiques_compétences!$D$3:$BA$118,MATCH([1]Progression_Cycle4!AA$4,[1]Problématiques_compétences!$D$3:$D$118,0),4) -> 0 | AC10: =INDEX([1]Problématiques_compétences!$D$3:$BA$118,MATCH([1]Progression_Cycle4!AC$4,[1]Problématiques_compétences!$D$3:$D$118,0),4) -> 0 | AD10: =INDEX([1]Problématiques_compétences!$D$3:$BA$118,MATCH([1]Progression_Cycle4!AD$4,[1]Problématiques_compétences!$D$3:$D$118,0),4) -> x | AE10: =INDEX([1]Problématiques_compétences!$D$3:$BA$118,MATCH([1]Progression_Cycle4!AE$4,[1]Problématiques_compétences!$D$3:$D$118,0),4) -> 0 | AF10: =INDEX([1]Problématiques_compétences!$D$3:$BA$118,MATCH([1]Progression_Cycle4!AF$4,[1]Problématiques_compétences!$D$3:$D$118,0),4) -> 0 | AG10: =INDEX([1]Problématiques_compétences!$D$3:$BA$118,MATCH([1]Progression_Cycle4!AG$4,[1]Problématiques_compétences!$D$3:$D$118,0),4) -> 0 | AH10: =INDEX([1]Problématiques_compétences!$D$3:$BA$118,MATCH([1]Progression_Cycle4!AH$4,[1]Problématiques_compétences!$D$3:$D$118,0),4) -> 0 | AI10: =INDEX([1]Problématiques_compétences!$D$3:$BA$118,MATCH([1]Progression_Cycle4!AI$4,[1]Problématiques_compétences!$D$3:$D$118,0),4) -> 0 | AK10: =INDEX([1]Problématiques_compétences!$D$3:$BA$118,MATCH([1]Progression_Cycle4!AK$4,[1]Problématiques_compétences!$D$3:$D$118,0),4) -> 0 | AL10: =INDEX([1]Problématiques_compétences!$D$3:$BA$118,MATCH([1]Progression_Cycle4!AL$4,[1]Problématiques_compétences!$D$3:$D$118,0),4) -> 0
B11: CT 1.3 | C11: Rechercher des solutions techniques à un problème posé, expliciter ses choix et les communiquer en argumentant. | D11: DIC.1.5 | H11: =COUNTIF(I11:AL11,"x") -> 4 | I11: =INDEX([1]Problématiques_compétences!$D$3:$BA$118,MATCH([1]Progression_Cycle4!I$4,[1]Problématiques_compétences!$D$3:$D$118,0),5) -> 0 | J11: =INDEX([1]Problématiques_compétences!$D$3:$BA$118,MATCH([1]Progression_Cycle4!J$4,[1]Problématiques_compétences!$D$3:$D$118,0),5) -> 0 | K11: =INDEX([1]Problématiques_compétences!$D$3:$BA$118,MATCH([1]Progression_Cycle4!K$4,[1]Problématiques_compétences!$D$3:$D$118,0),5) -> 0 | L11: =INDEX([1]Problématiques_compétences!$D$3:$BA$118,MATCH([1]Progression_Cycle4!L$4,[1]Problématiques_compétences!$D$3:$D$118,0),5) -> 0 | M11: X | N11: =INDEX([1]Problématiques_compétences!$D$3:$BA$118,MATCH([1]Progression_Cycle4!N$4,[1]Problématiques_compétences!$D$3:$D$118,0),5) -> 0 | O11: =INDEX([1]Problématiques_compétences!$D$3:$BA$118,MATCH([1]Progression_Cycle4!O$4,[1]Problématiques_compétences!$D$3:$D$118,0),5) -> 0 | P11: =INDEX([1]Problématiques_compétences!$D$3:$BA$118,MATCH([1]Progression_Cycle4!P$4,[1]Problématiques_compétences!$D$3:$D$118,0),5) -> 0 | Q11: =INDEX([1]Problématiques_compétences!$D$3:$BA$118,MATCH([1]Progression_Cycle4!Q$4,[1]Problématiques_compétences!$D$3:$D$118,0),5) -> 0 | R11: =INDEX([1]Problématiques_compétences!$D$3:$BA$118,MATCH([1]Progression_Cycle4!R$4,[1]Problématiques_compétences!$D$3:$D$118,0),5) -> 0 | S11: =INDEX([1]Problématiques_compétences!$D$3:$BA$118,MATCH([1]Progression_Cycle4!S$4,[1]Problématiques_compétences!$D$3:$D$118,0),5) -> 0 | T11: =INDEX([1]Problématiques_compétences!$D$3:$BA$118,MATCH([1]Progression_Cycle4!T$4,[1]Problématiques_compétences!$D$3:$D$118,0),5) -> 0 | V11: =INDEX([1]Problématiques_compétences!$D$3:$BA$118,MATCH([1]Progression_Cycle4!V$4,[1]Problématiques_compétences!$D$3:$D$118,0),5) -> 0 | W11: =INDEX([1]Problématiques_compétences!$D$3:$BA$118,MATCH([1]Progression_Cycle4!W$4,[1]Problématiques_compétences!$D$3:$D$118,0),5) -> 0 | X11: x | Y11: =INDEX([1]Problématiques_compétences!$D$3:$BA$118,MATCH([1]Progression_Cycle4!Y$4,[1]Problématiques_compétences!$D$3:$D$118,0),5) -> 0 | AA11: =INDEX([1]Problématiques_compétences!$D$3:$BA$118,MATCH([1]Progression_Cycle4!AA$4,[1]Problématiques_compétences!$D$3:$D$118,0),5) -> 0 | AB11: =INDEX([1]Problématiques_compétences!$D$3:$BA$118,MATCH([1]Progression_Cycle4!AB$4,[1]Problématiques_compétences!$D$3:$D$118,0),5) -> 0 | AC11: x | AD11: x | AE11: =INDEX([1]Problématiques_compétences!$D$3:$BA$118,MATCH([1]Progression_Cycle4!AE$4,[1]Problématiques_compétences!$D$3:$D$118,0),5) -> 0 | AF11: =INDEX([1]Problématiques_compétences!$D$3:$BA$118,MATCH([1]Progression_Cycle4!AF$4,[1]Problématiques_compétences!$D$3:$D$118,0),5) -> 0 | AG11: =INDEX([1]Problématiques_compétences!$D$3:$BA$118,MATCH([1]Progression_Cycle4!AG$4,[1]Problématiques_compétences!$D$3:$D$118,0),5) -> 0 | AI11: =INDEX([1]Problématiques_compétences!$D$3:$BA$118,MATCH([1]Progression_Cycle4!AI$4,[1]Problématiques_compétences!$D$3:$D$118,0),5) -> 0 | AJ11: =INDEX([1]Problématiques_compétences!$D$3:$BA$118,MATCH([1]Progression_Cycle4!AJ$4,[1]Problématiques_compétences!$D$3:$D$118,0),5) -> 0 | AK11: =INDEX([1]Problématiques_compétences!$D$3:$BA$118,MATCH([1]Progression_Cycle4!AK$4,[1]Problématiques_compétences!$D$3:$D$118,0),5) -> 0 | AL11: =INDEX([1]Problématiques_compétences!$D$3:$BA$118,MATCH([1]Progression_Cycle4!AL$4,[1]Problématiques_compétences!$D$3:$D$118,0),5) -> 0
B12: CT 1.4 | C12: Participer à l’organisation et au déroulement de projets. | D12: DIC.1.4 | H12: =COUNTIF(I12:AL12,"x") -> 7 | I12: =INDEX([1]Problématiques_compétences!$D$3:$BA$118,MATCH([1]Progression_Cycle4!I$4,[1]Problématiques_compétences!$D$3:$D$118,0),6) -> 0 | J12: =INDEX([1]Problématiques_compétences!$D$3:$BA$118,MATCH([1]Progression_Cycle4!J$4,[1]Problématiques_compétences!$D$3:$D$118,0),6) -> 0 | K12: =INDEX([1]Problématiques_compétences!$D$3:$BA$118,MATCH([1]Progression_Cycle4!K$4,[1]Problématiques_compétences!$D$3:$D$118,0),6) -> 0 | L12: =INDEX([1]Problématiques_compétences!$D$3:$BA$118,MATCH([1]Progression_Cycle4!L$4,[1]Problématiques_compétences!$D$3:$D$118,0),6) -> 0 | N12: =INDEX([1]Problématiques_compétences!$D$3:$BA$118,MATCH([1]Progression_Cycle4!N$4,[1]Problématiques_compétences!$D$3:$D$118,0),6) -> 0 | O12: =INDEX([1]Problématiques_compétences!$D$3:$BA$118,MATCH([1]Progression_Cycle4!O$4,[1]Problématiques_compétences!$D$3:$D$118,0),6) -> 0 | P12: =INDEX([1]Problématiques_compétences!$D$3:$BA$118,MATCH([1]Progression_Cycle4!P$4,[1]Problématiques_compétences!$D$3:$D$118,0),6) -> 0 | Q12: =INDEX([1]Problématiques_compétences!$D$3:$BA$118,MATCH([1]Progression_Cycle4!Q$4,[1]Problématiques_compétences!$D$3:$D$118,0),6) -> 0 | R12: =INDEX([1]Problématiques_compétences!$D$3:$BA$118,MATCH([1]Progression_Cycle4!R$4,[1]Problématiques_compétences!$D$3:$D$118,0),6) -> 0 | S12: =INDEX([1]Problématiques_compétences!$D$3:$BA$118,MATCH([1]Progression_Cycle4!S$4,[1]Problématiques_compétences!$D$3:$D$118,0),6) -> 0 | T12: =INDEX([1]Problématiques_compétences!$D$3:$BA$118,MATCH([1]Progression_Cycle4!T$4,[1]Problématiques_compétences!$D$3:$D$118,0),6) -> 0 | V12: =INDEX([1]Problématiques_compétences!$D$3:$BA$118,MATCH([1]Progression_Cycle4!V$4,[1]Problématiques_compétences!$D$3:$D$118,0),6) -> 0 | W12: =INDEX([1]Problématiques_compétences!$D$3:$BA$118,MATCH([1]Progression_Cycle4!W$4,[1]Problématiques_compétences!$D$3:$D$118,0),6) -> 0 | X12: x | Y12: x | Z12: =INDEX([1]Problématiques_compétences!$D$3:$BA$118,MATCH([1]Progression_Cycle4!Z$4,[1]Problématiques_compétences!$D$3:$D$118,0),6) -> 0 | AB12: =INDEX([1]Problématiques_compétences!$D$3:$BA$118,MATCH([1]Progression_Cycle4!AB$4,[1]Problématiques_compétences!$D$3:$D$118,0),6) -> 0 | AC12: x | AD12: x | AE12: x | AF12: x | AG12: =INDEX([1]Problématiques_compétences!$D$3:$BA$118,MATCH([1]Progression_Cycle4!AG$4,[1]Problématiques_compétences!$D$3:$D$118,0),6) -> 0 | AH12: x | AJ12: =INDEX([1]Problématiques_compétences!$D$3:$BA$118,MATCH([1]Progression_Cycle4!AJ$4,[1]Problématiques_compétences!$D$3:$D$118,0),6) -> 0 | AK12: =INDEX([1]Problématiques_compétences!$D$3:$BA$118,MATCH([1]Progression_Cycle4!AK$4,[1]Problématiques_compétences!$D$3:$D$118,0),6) -> 0 | AL12: =INDEX([1]Problématiques_compétences!$D$3:$BA$118,MATCH([1]Progression_Cycle4!AL$4,[1]Problématiques_compétences!$D$3:$D$118,0),6) -> 0
A13: 4 - les systèmes naturels et les systèmes techniques | B13: 2 | C13: Concevoir, créer, réaliser
B14: CT 2.1 | C14: Identifier un besoin et énoncer un problème technique, identifier les conditions, contraintes (normes et règlements) et ressources correspondantes. | D14: DIC.1.1 DIC.1.2 | H14: =COUNTIF(I14:AL14,"x") -> 5 | I14: x | K14: =INDEX([1]Problématiques_compétences!$D$3:$BA$118,MATCH([1]Progression_Cycle4!K$4,[1]Problématiques_compétences!$D$3:$D$118,0),11) -> 0 | L14: =INDEX([1]Problématiques_compétences!$D$3:$BA$118,MATCH([1]Progression_Cycle4!L$4,[1]Problématiques_compétences!$D$3:$D$118,0),11) -> 0 | M14: =INDEX([1]Problématiques_compétences!$D$3:$BA$118,MATCH([1]Progression_Cycle4!M$4,[1]Problématiques_compétences!$D$3:$D$118,0),11) -> x | N14: =INDEX([1]Problématiques_compétences!$D$3:$BA$118,MATCH([1]Progression_Cycle4!N$4,[1]Problématiques_compétences!$D$3:$D$118,0),11) -> 0 | O14: x | P14: =INDEX([1]Problématiques_compétences!$D$3:$BA$118,MATCH([1]Progression_Cycle4!P$4,[1]Problématiques_compétences!$D$3:$D$118,0),11) -> 0 | R14: =INDEX([1]Problématiques_compétences!$D$3:$BA$118,MATCH([1]Progression_Cycle4!R$4,[1]Problématiques_compétences!$D$3:$D$118,0),11) -> 0 | S14: =INDEX([1]Problématiques_compétences!$D$3:$BA$118,MATCH([1]Progression_Cycle4!S$4,[1]Problématiques_compétences!$D$3:$D$118,0),11) -> 0 | T14: =INDEX([1]Problématiques_compétences!$D$3:$BA$118,MATCH([1]Progression_Cycle4!T$4,[1]Problématiques_compétences!$D$3:$D$118,0),11) -> 0 | V14: =INDEX([1]Problématiques_compétences!$D$3:$BA$118,MATCH([1]Progression_Cycle4!V$4,[1]Problématiques_compétences!$D$3:$D$118,0),11) -> 0 | W14: =INDEX([1]Problématiques_compétences!$D$3:$BA$118,MATCH([1]Progression_Cycle4!W$4,[1]Problématiques_compétences!$D$3:$D$118,0),11) -> 0 | X14: =INDEX([1]Problématiques_compétences!$D$3:$BA$118,MATCH([1]Progression_Cycle4!X$4,[1]Problématiques_compétences!$D$3:$D$118,0),11) -> 0 | Y14: =INDEX([1]Problématiques_compétences!$D$3:$BA$118,MATCH([1]Progression_Cycle4!Y$4,[1]Problématiques_compétences!$D$3:$D$118,0),11) -> 0 | Z14: x | AA14: =INDEX([1]Problématiques_compétences!$D$3:$BA$118,MATCH([1]Progression_Cycle4!AA$4,[1]Problématiques_compétences!$D$3:$D$118,0),11) -> 0 | AB14: x | AC14: =INDEX([1]Problématiques_compétences!$D$3:$BA$118,MATCH([1]Progression_Cycle4!AC$4,[1]Problématiques_compétences!$D$3:$D$118,0),11) -> 0 | AD14: =INDEX([1]Problématiques_compétences!$D$3:$BA$118,MATCH([1]Progression_Cycle4!AD$4,[1]Problématiques_compétences!$D$3:$D$118,0),11) -> 0 | AE14: =INDEX([1]Problématiques_compétences!$D$3:$BA$118,MATCH([1]Progression_Cycle4!AE$4,[1]Problématiques_compétences!$D$3:$D$118,0),11) -> 0 | AF14: =INDEX([1]Problématiques_compétences!$D$3:$BA$118,MATCH([1]Progression_Cycle4!AF$4,[1]Problématiques_compétences!$D$3:$D$118,0),11) -> 0 | AG14: =INDEX([1]Problématiques_compétences!$D$3:$BA$118,MATCH([1]Progression_Cycle4!AG$4,[1]Problématiques_compétences!$D$3:$D$118,0),11) -> 0 | AI14: =INDEX([1]Problématiques_compétences!$D$3:$BA$118,MATCH([1]Progression_Cycle4!AI$4,[1]Problématiques_compétences!$D$3:$D$118,0),11) -> 0 | AJ14: =INDEX([1]Problématiques_compétences!$D$3:$BA$118,MATCH([1]Progression_Cycle4!AJ$4,[1]Problématiques_compétences!$D$3:$D$118,0),11) -> 0 | AK14: =INDEX([1]Problématiques_compétences!$D$3:$BA$118,MATCH([1]Progression_Cycle4!AK$4,[1]Problématiques_compétences!$D$3:$D$118,0),11) -> 0 | AL14: =INDEX([1]Problématiques_compétences!$D$3:$BA$118,MATCH([1]Progression_Cycle4!AL$4,[1]Problématiques_compétences!$D$3:$D$118,0),11) -> 0
B15: CT 2.2 | C15: Identifier le(s) matériau(x), les flux d’énergie et d’information dans le cadre d’une production technique sur un objet et décrire les transformations qui s’opèrent. | F15: MSOST.1.4 | H15: =COUNTIF(I15:AL15,"x") -> 4 | I15: =INDEX([1]Problématiques_compétences!$D$3:$BA$118,MATCH([1]Progression_Cycle4!I$4,[1]Problématiques_compétences!$D$3:$D$118,0),12) -> 0 | J15: =INDEX([1]Problématiques_compétences!$D$3:$BA$118,MATCH([1]Progression_Cycle4!J$4,[1]Problématiques_compétences!$D$3:$D$118,0),12) -> 0 | K15: =INDEX([1]Problématiques_compétences!$D$3:$BA$118,MATCH([1]Progression_Cycle4!K$4,[1]Problématiques_compétences!$D$3:$D$118,0),12) -> 0 | L15: =INDEX([1]Problématiques_compétences!$D$3:$BA$118,MATCH([1]Progression_Cycle4!L$4,[1]Problématiques_compétences!$D$3:$D$118,0),12) -> 0 | M15: =INDEX([1]Problématiques_compétences!$D$3:$BA$118,MATCH([1]Progression_Cycle4!M$4,[1]Problématiques_compétences!$D$3:$D$118,0),12) -> 0 | N15: =INDEX([1]Problématiques_compétences!$D$3:$BA$118,MATCH([1]Progression_Cycle4!N$4,[1]Problématiques_compétences!$D$3:$D$118,0),12) -> 0 | P15: =INDEX([1]Problématiques_compétences!$D$3:$BA$118,MATCH([1]Progression_Cycle4!P$4,[1]Problématiques_compétences!$D$3:$D$118,0),12) -> 0 | Q15: =INDEX([1]Problématiques_compétences!$D$3:$BA$118,MATCH([1]Progression_Cycle4!Q$4,[1]Problématiques_compétences!$D$3:$D$118,0),12) -> 0 | R15: =INDEX([1]Problématiques_compétences!$D$3:$BA$118,MATCH([1]Progression_Cycle4!R$4,[1]Problématiques_compétences!$D$3:$D$118,0),12) -> 0 | S15: x | T15: =INDEX([1]Problématiques_compétences!$D$3:$BA$118,MATCH([1]Progression_Cycle4!T$4,[1]Problématiques_compétences!$D$3:$D$118,0),12) -> x | U15: =INDEX([1]Problématiques_compétences!$D$3:$BA$118,MATCH([1]Progression_Cycle4!U$4,[1]Problématiques_compétences!$D$3:$D$118,0),12) -> 0 | V15: =INDEX([1]Problématiques_compétences!$D$3:$BA$118,MATCH([1]Progression_Cycle4!V$4,[1]Problématiques_compétences!$D$3:$D$118,0),12) -> 0 | W15: =INDEX([1]Problématiques_compétences!$D$3:$BA$118,MATCH([1]Progression_Cycle4!W$4,[1]Problématiques_compétences!$D$3:$D$118,0),12) -> 0 | X15: =INDEX([1]Problématiques_compétences!$D$3:$BA$118,MATCH([1]Progression_Cycle4!X$4,[1]Problématiques_compétences!$D$3:$D$118,0),12) -> 0 | Y15: =INDEX([1]Problématiques_compétences!$D$3:$BA$118,MATCH([1]Progression_Cycle4!Y$4,[1]Problématiques_compétences!$D$3:$D$118,0),12) -> 0 | Z15: x | AA15: =INDEX([1]Problématiques_compétences!$D$3:$BA$118,MATCH([1]Progression_Cycle4!AA$4,[1]Problématiques_compétences!$D$3:$D$118,0),12) -> 0 | AB15: =INDEX([1]Problématiques_compétences!$D$3:$BA$118,MATCH([1]Progression_Cycle4!AB$4,[1]Problématiques_compétences!$D$3:$D$118,0),12) -> 0 | AC15: x | AD15: =INDEX([1]Problématiques_compétences!$D$3:$BA$118,MATCH([1]Progression_Cycle4!AD$4,[1]Problématiques_compétences!$D$3:$D$118,0),12) -> 0 | AE15: =INDEX([1]Problématiques_compétences!$D$3:$BA$118,MATCH([1]Progression_Cycle4!AE$4,[1]Problématiques_compétences!$D$3:$D$118,0),12) -> 0 | AF15: =INDEX([1]Problématiques_compétences!$D$3:$BA$118,MATCH([1]Progression_Cycle4!AF$4,[1]Problématiques_compétences!$D$3:$D$118,0),12) -> 0 | AG15: =INDEX([1]Problématiques_compétences!$D$3:$BA$118,MATCH([1]Progression_Cycle4!AG$4,[1]Problématiques_compétences!$D$3:$D$118,0),12) -> 0 | AH15: =INDEX([1]Problématiques_compétences!$D$3:$BA$118,MATCH([1]Progression_Cycle4!AH$4,[1]Problématiques_compétences!$D$3:$D$118,0),12) -> 0 | AI15: =INDEX([1]Problématiques_compétences!$D$3:$BA$118,MATCH([1]Progression_Cycle4!AI$4,[1]Problématiques_compétences!$D$3:$D$118,0),12) -> 0 | AJ15: =INDEX([1]Problématiques_compétences!$D$3:$BA$118,MATCH([1]Progression_Cycle4!AJ$4,[1]Problématiques_compétences!$D$3:$D$118,0),12) -> 0 | AK15: =INDEX([1]Problématiques_compétences!$D$3:$BA$118,MATCH([1]Progression_Cycle4!AK$4,[1]Problématiques_compétences!$D$3:$D$118,0),12) -> 0 | AL15: =INDEX([1]Problématiques_compétences!$D$3:$BA$118,MATCH([1]Progression_Cycle4!AL$4,[1]Problématiques_compétences!$D$3:$D$118,0),12) -> 0
B16: CT 2.3 | C16: S’approprier un cahier des charges. | D16: DIC.1.2 | H16: =COUNTIF(I16:AL16,"x") -> 5 | I16: =INDEX([1]Problématiques_compétences!$D$3:$BA$118,MATCH([1]Progression_Cycle4!I$4,[1]Problématiques_compétences!$D$3:$D$118,0),13) -> 0 | K16: =INDEX([1]Problématiques_compétences!$D$3:$BA$118,MATCH([1]Progression_Cycle4!K$4,[1]Problématiques_compétences!$D$3:$D$118,0),13) -> 0 | L16: =INDEX([1]Problématiques_compétences!$D$3:$BA$118,MATCH([1]Progression_Cycle4!L$4,[1]Problématiques_compétences!$D$3:$D$118,0),13) -> 0 | M16: =INDEX([1]Problématiques_compétences!$D$3:$BA$118,MATCH([1]Progression_Cycle4!M$4,[1]Problématiques_compétences!$D$3:$D$118,0),13) -> x | N16: =INDEX([1]Problématiques_compétences!$D$3:$BA$118,MATCH([1]Progression_Cycle4!N$4,[1]Problématiques_compétences!$D$3:$D$118,0),13) -> 0 | O16: =INDEX([1]Problématiques_compétences!$D$3:$BA$118,MATCH([1]Progression_Cycle4!O$4,[1]Problématiques_compétences!$D$3:$D$118,0),13) -> 0 | P16: =INDEX([1]Problématiques_compétences!$D$3:$BA$118,MATCH([1]Progression_Cycle4!P$4,[1]Problématiques_compétences!$D$3:$D$118,0),13) -> 0 | R16: =INDEX([1]Problématiques_compétences!$D$3:$BA$118,MATCH([1]Progression_Cycle4!R$4,[1]Problématiques_compétences!$D$3:$D$118,0),13) -> 0 | S16: =INDEX([1]Problématiques_compétences!$D$3:$BA$118,MATCH([1]Progression_Cycle4!S$4,[1]Problématiques_compétences!$D$3:$D$118,0),13) -> 0 | T16: x | U16: =INDEX([1]Problématiques_compétences!$D$3:$BA$118,MATCH([1]Progression_Cycle4!U$4,[1]Problématiques_compétences!$D$3:$D$118,0),13) -> 0 | V16: =INDEX([1]Problématiques_compétences!$D$3:$BA$118,MATCH([1]Progression_Cycle4!V$4,[1]Problématiques_compétences!$D$3:$D$118,0),13) -> 0 | W16: =INDEX([1]Problématiques_compétences!$D$3:$BA$118,MATCH([1]Progression_Cycle4!W$4,[1]Problématiques_compétences!$D$3:$D$118,0),13) -> 0 | X16: =INDEX([1]Problématiques_compétences!$D$3:$BA$118,MATCH([1]Progression_Cycle4!X$4,[1]Problématiques_compétences!$D$3:$D$118,0),13) -> 0 | Y16: =INDEX([1]Problématiques_compétences!$D$3:$BA$118,MATCH([1]Progression_Cycle4!Y$4,[1]Problématiques_compétences!$D$3:$D$118,0),13) -> 0 | AA16: =INDEX([1]Problématiques_compétences!$D$3:$BA$118,MATCH([1]Progression_Cycle4!AA$4,[1]Problématiques_compétences!$D$3:$D$118,0),13) -> 0 | AB16: x | AC16: x | AD16: =INDEX([1]Problématiques_compétences!$D$3:$BA$118,MATCH([1]Progression_Cycle4!AD$4,[1]Problématiques_compétences!$D$3:$D$118,0),13) -> 0 | AE16: =INDEX([1]Problématiques_compétences!$D$3:$BA$118,MATCH([1]Progression_Cycle4!AE$4,[1]Problématiques_compétences!$D$3:$D$118,0),13) -> 0 | AF16: x | AG16: =INDEX([1]Problématiques_compétences!$D$3:$BA$118,MATCH([1]Progression_Cycle4!AG$4,[1]Problématiques_compétences!$D$3:$D$118,0),13) -> 0 | AI16: =INDEX([1]Problématiques_compétences!$D$3:$BA$118,MATCH([1]Progression_Cycle4!AI$4,[1]Problématiques_compétences!$D$3:$D$118,0),13) -> 0 | AJ16: =INDEX([1]Problématiques_compétences!$D$3:$BA$118,MATCH([1]Progression_Cycle4!AJ$4,[1]Problématiques_compétences!$D$3:$D$118,0),13) -> 0 | AK16: =INDEX([1]Problématiques_compétences!$D$3:$BA$118,MATCH([1]Progression_Cycle4!AK$4,[1]Problématiques_compétences!$D$3:$D$118,0),13) -> 0 | AL16: =INDEX([1]Problématiques_compétences!$D$3:$BA$118,MATCH([1]Progression_Cycle4!AL$4,[1]Problématiques_compétences!$D$3:$D$118,0),13) -> 0
B17: CT 2.4 | C17: Associer des solutions techniques à des fonctions. | F17: MSOST.1.2 | H17: =COUNTIF(I17:AL17,"x") -> 3 | I17: =INDEX([1]Problématiques_compétences!$D$3:$BA$118,MATCH([1]Progression_Cycle4!I$4,[1]Problématiques_compétences!$D$3:$D$118,0),14) -> 0 | J17: =INDEX([1]Problématiques_compétences!$D$3:$BA$118,MATCH([1]Progression_Cycle4!J$4,[1]Problématiques_compétences!$D$3:$D$118,0),14) -> 0 | K17: =INDEX([1]Problématiques_compétences!$D$3:$BA$118,MATCH([1]Progression_Cycle4!K$4,[1]Problématiques_compétences!$D$3:$D$118,0),14) -> 0 | L17: =INDEX([1]Problématiques_compétences!$D$3:$BA$118,MATCH([1]Progression_Cycle4!L$4,[1]Problématiques_compétences!$D$3:$D$118,0),14) -> 0 | M17: =INDEX([1]Problématiques_compétences!$D$3:$BA$118,MATCH([1]Progression_Cycle4!M$4,[1]Problématiques_compétences!$D$3:$D$118,0),14) -> 0 | N17: x | O17: =INDEX([1]Problématiques_compétences!$D$3:$BA$118,MATCH([1]Progression_Cycle4!O$4,[1]Problématiques_compétences!$D$3:$D$118,0),14) -> 0 | P17: =INDEX([1]Problématiques_compétences!$D$3:$BA$118,MATCH([1]Progression_Cycle4!P$4,[1]Problématiques_compétences!$D$3:$D$118,0),14) -> 0 | Q17: =INDEX([1]Problématiques_compétences!$D$3:$BA$118,MATCH([1]Progression_Cycle4!Q$4,[1]Problématiques_compétences!$D$3:$D$118,0),14) -> 0 | R17: =INDEX([1]Problématiques_compétences!$D$3:$BA$118,MATCH([1]Progression_Cycle4!R$4,[1]Problématiques_compétences!$D$3:$D$118,0),14) -> 0 | S17: x | T17: =INDEX([1]Problématiques_compétences!$D$3:$BA$118,MATCH([1]Progression_Cycle4!T$4,[1]Problématiques_compétences!$D$3:$D$118,0),14) -> x | U17: =INDEX([1]Problématiques_compétences!$D$3:$BA$118,MATCH([1]Progression_Cycle4!U$4,[1]Problématiques_compétences!$D$3:$D$118,0),14) -> 0 | W17: =INDEX([1]Problématiques_compétences!$D$3:$BA$118,MATCH([1]Progression_Cycle4!W$4,[1]Problématiques_compétences!$D$3:$D$118,0),14) -> 0 | X17: =INDEX([1]Problématiques_compétences!$D$3:$BA$118,MATCH([1]Progression_Cycle4!X$4,[1]Problématiques_compétences!$D$3:$D$118,0),14) -> 0 | Y17: =INDEX([1]Problématiques_compétences!$D$3:$BA$118,MATCH([1]Progression_Cycle4!Y$4,[1]Problématiques_compétences!$D$3:$D$118,0),14) -> 0 | Z17: =INDEX([1]Problématiques_compétences!$D$3:$BA$118,MATCH([1]Progression_Cycle4!Z$4,[1]Problématiques_compétences!$D$3:$D$118,0),14) -> 0 | AA17: =INDEX([1]Problématiques_compétences!$D$3:$BA$118,MATCH([1]Progression_Cycle4!AA$4,[1]Problématiques_compétences!$D$3:$D$118,0),14) -> 0 | AB17: =INDEX([1]Problématiques_compétences!$D$3:$BA$118,MATCH([1]Progression_Cycle4!AB$4,[1]Problématiques_compétences!$D$3:$D$118,0),14) -> 0 | AC17: =INDEX([1]Problématiques_compétences!$D$3:$BA$118,MATCH([1]Progression_Cycle4!AC$4,[1]Problématiques_compétences!$D$3:$D$118,0),14) -> 0 | AD17: =INDEX([1]Problématiques_compétences!$D$3:$BA$118,MATCH([1]Progression_Cycle4!AD$4,[1]Problématiques_compétences!$D$3:$D$118,0),14) -> 0 | ... AL17: =INDEX([1]Problématiques_compétences!$D$3:$BA$118,MATCH([1]Progression_Cycle4!AL$4,[1]Problématiques_compétences!$D$3:$D$118,0),14) -> 0
B18: CT 2.5 | C18: Imaginer des solutions en réponse au besoin. | D18: DIC.1.5 | H18: =COUNTIF(I18:AL18,"x") -> 3 | I18: =INDEX([1]Problématiques_compétences!$D$3:$BA$118,MATCH([1]Progression_Cycle4!I$4,[1]Problématiques_compétences!$D$3:$D$118,0),15) -> 0 | K18: =INDEX([1]Problématiques_compétences!$D$3:$BA$118,MATCH([1]Progression_Cycle4!K$4,[1]Problématiques_compétences!$D$3:$D$118,0),15) -> 0 | L18: =INDEX([1]Problématiques_compétences!$D$3:$BA$118,MATCH([1]Progression_Cycle4!L$4,[1]Problématiques_compétences!$D$3:$D$118,0),15) -> 0 | N18: x | O18: =INDEX([1]Problématiques_compétences!$D$3:$BA$118,MATCH([1]Progression_Cycle4!O$4,[1]Problématiques_compétences!$D$3:$D$118,0),15) -> 0 | P18: x | Q18: =INDEX([1]Problématiques_compétences!$D$3:$BA$118,MATCH([1]Progression_Cycle4!Q$4,[1]Problématiques_compétences!$D$3:$D$118,0),15) -> 0 | R18: =INDEX([1]Problématiques_compétences!$D$3:$BA$118,MATCH([1]Progression_Cycle4!R$4,[1]Problématiques_compétences!$D$3:$D$118,0),15) -> 0 | S18: =INDEX([1]Problématiques_compétences!$D$3:$BA$118,MATCH([1]Progression_Cycle4!S$4,[1]Problématiques_compétences!$D$3:$D$118,0),15) -> 0 | T18: x | V18: =INDEX([1]Problématiques_compétences!$D$3:$BA$118,MATCH([1]Progression_Cycle4!V$4,[1]Problématiques_compétences!$D$3:$D$118,0),15) -> 0 | W18: =INDEX([1]Problématiques_compétences!$D$3:$BA$118,MATCH([1]Progression_Cycle4!W$4,[1]Problématiques_compétences!$D$3:$D$118,0),15) -> 0 | X18: =INDEX([1]Problématiques_compétences!$D$3:$BA$118,MATCH([1]Progression_Cycle4!X$4,[1]Problématiques_compétences!$D$3:$D$118,0),15) -> 0 | Y18: =INDEX([1]Problématiques_compétences!$D$3:$BA$118,MATCH([1]Progression_Cycle4!Y$4,[1]Problématiques_compétences!$D$3:$D$118,0),15) -> 0 | AA18: =INDEX([1]Problématiques_compétences!$D$3:$BA$118,MATCH([1]Progression_Cycle4!AA$4,[1]Problématiques_compétences!$D$3:$D$118,0),15) -> 0 | AB18: =INDEX([1]Problématiques_compétences!$D$3:$BA$118,MATCH([1]Progression_Cycle4!AB$4,[1]Problématiques_compétences!$D$3:$D$118,0),15) -> 0 | AC18: =INDEX([1]Problématiques_compétences!$D$3:$BA$118,MATCH([1]Progression_Cycle4!AC$4,[1]Problématiques_compétences!$D$3:$D$118,0),15) -> 0 | AD18: =INDEX([1]Problématiques_compétences!$D$3:$BA$118,MATCH([1]Progression_Cycle4!AD$4,[1]Problématiques_compétences!$D$3:$D$118,0),15) -> 0 | AE18: =INDEX([1]Problématiques_compétences!$D$3:$BA$118,MATCH([1]Progression_Cycle4!AE$4,[1]Problématiques_compétences!$D$3:$D$118,0),15) -> 0 | AF18: =INDEX([1]Problématiques_compétences!$D$3:$BA$118,MATCH([1]Progression_Cycle4!AF$4,[1]Problématiques_compétences!$D$3:$D$118,0),15) -> 0 | AG18: =INDEX([1]Problématiques_compétences!$D$3:$BA$118,MATCH([1]Progression_Cycle4!AG$4,[1]Problématiques_compétences!$D$3:$D$118,0),15) -> 0 | AI18: =INDEX([1]Problématiques_compétences!$D$3:$BA$118,MATCH([1]Progression_Cycle4!AI$4,[1]Problématiques_compétences!$D$3:$D$118,0),15) -> 0 | AJ18: =INDEX([1]Problématiques_compétences!$D$3:$BA$118,MATCH([1]Progression_Cycle4!AJ$4,[1]Problématiques_compétences!$D$3:$D$118,0),15) -> 0 | AK18: =INDEX([1]Problématiques_compétences!$D$3:$BA$118,MATCH([1]Progression_Cycle4!AK$4,[1]Problématiques_compétences!$D$3:$D$118,0),15) -> 0 | AL18: =INDEX([1]Problématiques_compétences!$D$3:$BA$118,MATCH([1]Progression_Cycle4!AL$4,[1]Problématiques_compétences!$D$3:$D$118,0),15) -> 0
B19: CT 2.6 | C19: Réaliser, de manière collaborative, le prototype de tout ou partie d’un objet pour valider une solution. | D19: DIC.2.1 | F19: MSOST.1.1 | H19: =COUNTIF(I19:AL19,"x") -> 5 | I19: =INDEX([1]Problématiques_compétences!$D$3:$BA$118,MATCH([1]Progression_Cycle4!I$4,[1]Problématiques_compétences!$D$3:$D$118,0),16) -> 0 | J19: x | K19: =INDEX([1]Problématiques_compétences!$D$3:$BA$118,MATCH([1]Progression_Cycle4!K$4,[1]Problématiques_compétences!$D$3:$D$118,0),16) -> 0 | L19: =INDEX([1]Problématiques_compétences!$D$3:$BA$118,MATCH([1]Progression_Cycle4!L$4,[1]Problématiques_compétences!$D$3:$D$118,0),16) -> 0 | M19: =INDEX([1]Problématiques_compétences!$D$3:$BA$118,MATCH([1]Progression_Cycle4!M$4,[1]Problématiques_compétences!$D$3:$D$118,0),16) -> 0 | O19: =INDEX([1]Problématiques_compétences!$D$3:$BA$118,MATCH([1]Progression_Cycle4!O$4,[1]Problématiques_compétences!$D$3:$D$118,0),16) -> 0 | P19: =INDEX([1]Problématiques_compétences!$D$3:$BA$118,MATCH([1]Progression_Cycle4!P$4,[1]Problématiques_compétences!$D$3:$D$118,0),16) -> 0 | Q19: =INDEX([1]Problématiques_compétences!$D$3:$BA$118,MATCH([1]Progression_Cycle4!Q$4,[1]Problématiques_compétences!$D$3:$D$118,0),16) -> 0 | R19: =INDEX([1]Problématiques_compétences!$D$3:$BA$118,MATCH([1]Progression_Cycle4!R$4,[1]Problématiques_compétences!$D$3:$D$118,0),16) -> 0 | S19: =INDEX([1]Problématiques_compétences!$D$3:$BA$118,MATCH([1]Progression_Cycle4!S$4,[1]Problématiques_compétences!$D$3:$D$118,0),16) -> 0 | T19: x | U19: =INDEX([1]Problématiques_compétences!$D$3:$BA$118,MATCH([1]Progression_Cycle4!U$4,[1]Problématiques_compétences!$D$3:$D$118,0),16) -> 0 | W19: =INDEX([1]Problématiques_compétences!$D$3:$BA$118,MATCH([1]Progression_Cycle4!W$4,[1]Problématiques_compétences!$D$3:$D$118,0),16) -> 0 | X19: =INDEX([1]Problématiques_compétences!$D$3:$BA$118,MATCH([1]Progression_Cycle4!X$4,[1]Problématiques_compétences!$D$3:$D$118,0),16) -> 0 | Y19: x | Z19: =INDEX([1]Problématiques_compétences!$D$3:$BA$118,MATCH([1]Progression_Cycle4!Z$4,[1]Problématiques_compétences!$D$3:$D$118,0),16) -> 0 | AB19: x | AC19: =INDEX([1]Problématiques_compétences!$D$3:$BA$118,MATCH([1]Progression_Cycle4!AC$4,[1]Problématiques_compétences!$D$3:$D$118,0),16) -> 0 | AD19: =INDEX([1]Problématiques_compétences!$D$3:$BA$118,MATCH([1]Progression_Cycle4!AD$4,[1]Problématiques_compétences!$D$3:$D$118,0),16) -> 0 | AE19: =INDEX([1]Problématiques_compétences!$D$3:$BA$118,MATCH([1]Progression_Cycle4!AE$4,[1]Problématiques_compétences!$D$3:$D$118,0),16) -> 0 | AF19: x | AG19: =INDEX([1]Problématiques_compétences!$D$3:$BA$118,MATCH([1]Progression_Cycle4!AG$4,[1]Problématiques_compétences!$D$3:$D$118,0),16) -> 0 | AH19: =INDEX([1]Problématiques_compétences!$D$3:$BA$118,MATCH([1]Progression_Cycle4!AH$4,[1]Problématiques_compétences!$D$3:$D$118,0),16) -> 0 | AJ19: =INDEX([1]Problématiques_compétences!$D$3:$BA$118,MATCH([1]Progression_Cycle4!AJ$4,[1]Problématiques_compétences!$D$3:$D$118,0),16) -> 0 | AK19: =INDEX([1]Problématiques_compétences!$D$3:$BA$118,MATCH([1]Progression_Cycle4!AK$4,[1]Problématiques_compétences!$D$3:$D$118,0),16) -> 0 | AL19: =INDEX([1]Problématiques_compétences!$D$3:$BA$118,MATCH([1]Progression_Cycle4!AL$4,[1]Problématiques_compétences!$D$3:$D$118,0),16) -> 0
B20: CT 2.7 | C20: Imaginer, concevoir et programmer des applications informatiques nomades. | D20: DIC.1.5 | G20: IP.2.2 | H20: =COUNTIF(I20:AL20,"x") -> 2 | I20: =INDEX([1]Problématiques_compétences!$D$3:$BA$118,MATCH([1]Progression_Cycle4!I$4,[1]Problématiques_compétences!$D$3:$D$118,0),17) -> 0 | J20: =INDEX([1]Problématiques_compétences!$D$3:$BA$118,MATCH([1]Progression_Cycle4!J$4,[1]Problématiques_compétences!$D$3:$D$118,0),17) -> 0 | K20: =INDEX([1]Problématiques_compétences!$D$3:$BA$118,MATCH([1]Progression_Cycle4!K$4,[1]Problématiques_compétences!$D$3:$D$118,0),17) -> 0 | L20: =INDEX([1]Problématiques_compétences!$D$3:$BA$118,MATCH([1]Progression_Cycle4!L$4,[1]Problématiques_compétences!$D$3:$D$118,0),17) -> 0 | M20: =INDEX([1]Problématiques_compétences!$D$3:$BA$118,MATCH([1]Progression_Cycle4!M$4,[1]Problématiques_compétences!$D$3:$D$118,0),17) -> 0 | N20: =INDEX([1]Problématiques_compétences!$D$3:$BA$118,MATCH([1]Progression_Cycle4!N$4,[1]Problématiques_compétences!$D$3:$D$118,0),17) -> 0 | O20: =INDEX([1]Problématiques_compétences!$D$3:$BA$118,MATCH([1]Progression_Cycle4!O$4,[1]Problématiques_compétences!$D$3:$D$118,0),17) -> 0 | P20: =INDEX([1]Problématiques_compétences!$D$3:$BA$118,MATCH([1]Progression_Cycle4!P$4,[1]Problématiques_compétences!$D$3:$D$118,0),17) -> 0 | ... V20: =INDEX([1]Problématiques_compétences!$D$3:$BA$118,MATCH([1]Progression_Cycle4!V$4,[1]Problématiques_compétences!$D$3:$D$118,0),17) -> 0 | W20: x | X20: =INDEX([1]Problématiques_compétences!$D$3:$BA$118,MATCH([1]Progression_Cycle4!X$4,[1]Problématiques_compétences!$D$3:$D$118,0),17) -> 0 | Z20: =INDEX([1]Problématiques_compétences!$D$3:$BA$118,MATCH([1]Progression_Cycle4!Z$4,[1]Problématiques_compétences!$D$3:$D$118,0),17) -> 0 | AA20: =INDEX([1]Problématiques_compétences!$D$3:$BA$118,MATCH([1]Progression_Cycle4!AA$4,[1]Problématiques_compétences!$D$3:$D$118,0),17) -> 0 | AB20: =INDEX([1]Problématiques_compétences!$D$3:$BA$118,MATCH([1]Progression_Cycle4!AB$4,[1]Problématiques_compétences!$D$3:$D$118,0),17) -> 0 | AC20: =INDEX([1]Problématiques_compétences!$D$3:$BA$118,MATCH([1]Progression_Cycle4!AC$4,[1]Problématiques_compétences!$D$3:$D$118,0),17) -> 0 | AD20: =INDEX([1]Problématiques_compétences!$D$3:$BA$118,MATCH([1]Progression_Cycle4!AD$4,[1]Problématiques_compétences!$D$3:$D$118,0),17) -> 0 | AE20: =INDEX([1]Problématiques_compétences!$D$3:$BA$118,MATCH([1]Progression_Cycle4!AE$4,[1]Problématiques_compétences!$D$3:$D$118,0),17) -> 0 | AF20: =INDEX([1]Problématiques_compétences!$D$3:$BA$118,MATCH([1]Progression_Cycle4!AF$4,[1]Problématiques_compétences!$D$3:$D$118,0),17) -> 0 | AG20: x | AH20: =INDEX([1]Problématiques_compétences!$D$3:$BA$118,MATCH([1]Progression_Cycle4!AH$4,[1]Problématiques_compétences!$D$3:$D$118,0),17) -> 0 | AI20: =INDEX([1]Problématiques_compétences!$D$3:$BA$118,MATCH([1]Progression_Cycle4!AI$4,[1]Problématiques_compétences!$D$3:$D$118,0),17) -> 0 | AJ20: =INDEX([1]Problématiques_compétences!$D$3:$BA$118,MATCH([1]Progression_Cycle4!AJ$4,[1]Problématiques_compétences!$D$3:$D$118,0),17) -> 0 | AK20: =INDEX([1]Problématiques_compétences!$D$3:$BA$118,MATCH([1]Progression_Cycle4!AK$4,[1]Problématiques_compétences!$D$3:$D$118,0),17) -> 0
A21: 2 - les méthodes et outils pour apprendre | B21: 3 | C21: S’approprier des outils et des méthodes
B22: CT 3.1 | C22: Exprimer sa pensée à l’aide d’outils de description adaptés : croquis, schémas, graphes, diagrammes, tableaux (représentations non normées). | E22: OTSCIS.2.1 | H22: =COUNTIF(I22:AL22,"x") -> 3 | I22: =INDEX([1]Problématiques_compétences!$D$3:$BA$118,MATCH([1]Progression_Cycle4!I$4,[1]Problématiques_compétences!$D$3:$D$118,0),18) -> 0 | K22: =INDEX([1]Problématiques_compétences!$D$3:$BA$118,MATCH([1]Progression_Cycle4!K$4,[1]Problématiques_compétences!$D$3:$D$118,0),18) -> 0 | L22: =INDEX([1]Problématiques_compétences!$D$3:$BA$118,MATCH([1]Progression_Cycle4!L$4,[1]Problématiques_compétences!$D$3:$D$118,0),18) -> 0 | M22: =INDEX([1]Problématiques_compétences!$D$3:$BA$118,MATCH([1]Progression_Cycle4!M$4,[1]Problématiques_compétences!$D$3:$D$118,0),18) -> 0 | N22: =INDEX([1]Problématiques_compétences!$D$3:$BA$118,MATCH([1]Progression_Cycle4!N$4,[1]Problématiques_compétences!$D$3:$D$118,0),18) -> 0 | O22: =INDEX([1]Problématiques_compétences!$D$3:$BA$118,MATCH([1]Progression_Cycle4!O$4,[1]Problématiques_compétences!$D$3:$D$118,0),18) -> 0 | P22: =INDEX([1]Problématiques_compétences!$D$3:$BA$118,MATCH([1]Progression_Cycle4!P$4,[1]Problématiques_compétences!$D$3:$D$118,0),18) -> 0 | Q22: =INDEX([1]Problématiques_compétences!$D$3:$BA$118,MATCH([1]Progression_Cycle4!Q$4,[1]Problématiques_compétences!$D$3:$D$118,0),18) -> 0 | R22: =INDEX([1]Problématiques_compétences!$D$3:$BA$118,MATCH([1]Progression_Cycle4!R$4,[1]Problématiques_compétences!$D$3:$D$118,0),18) -> 0 | ... V22: =INDEX([1]Problématiques_compétences!$D$3:$BA$118,MATCH([1]Progression_Cycle4!V$4,[1]Problématiques_compétences!$D$3:$D$118,0),18) -> 0 | W22: x | Y22: =INDEX([1]Problématiques_compétences!$D$3:$BA$118,MATCH([1]Progression_Cycle4!Y$4,[1]Problématiques_compétences!$D$3:$D$118,0),18) -> 0 | Z22: =INDEX([1]Problématiques_compétences!$D$3:$BA$118,MATCH([1]Progression_Cycle4!Z$4,[1]Problématiques_compétences!$D$3:$D$118,0),18) -> 0 | AA22: =INDEX([1]Problématiques_compétences!$D$3:$BA$118,MATCH([1]Progression_Cycle4!AA$4,[1]Problématiques_compétences!$D$3:$D$118,0),18) -> 0 | AB22: x | AC22: =INDEX([1]Problématiques_compétences!$D$3:$BA$118,MATCH([1]Progression_Cycle4!AC$4,[1]Problématiques_compétences!$D$3:$D$118,0),18) -> 0 | AD22: =INDEX([1]Problématiques_compétences!$D$3:$BA$118,MATCH([1]Progression_Cycle4!AD$4,[1]Problématiques_compétences!$D$3:$D$118,0),18) -> 0 | AE22: =INDEX([1]Problématiques_compétences!$D$3:$BA$118,MATCH([1]Progression_Cycle4!AE$4,[1]Problématiques_compétences!$D$3:$D$118,0),18) -> 0 | AF22: =INDEX([1]Problématiques_compétences!$D$3:$BA$118,MATCH([1]Progression_Cycle4!AF$4,[1]Problématiques_compétences!$D$3:$D$118,0),18) -> 0 | AG22: =INDEX([1]Problématiques_compétences!$D$3:$BA$118,MATCH([1]Progression_Cycle4!AG$4,[1]Problématiques_compétences!$D$3:$D$118,0),18) -> 0 | AH22: x | AI22: =INDEX([1]Problématiques_compétences!$D$3:$BA$118,MATCH([1]Progression_Cycle4!AI$4,[1]Problématiques_compétences!$D$3:$D$118,0),18) -> 0 | AJ22: =INDEX([1]Problématiques_compétences!$D$3:$BA$118,MATCH([1]Progression_Cycle4!AJ$4,[1]Problématiques_compétences!$D$3:$D$118,0),18) -> 0 | AK22: =INDEX([1]Problématiques_compétences!$D$3:$BA$118,MATCH([1]Progression_Cycle4!AK$4,[1]Problématiques_compétences!$D$3:$D$118,0),18) -> 0 | AL22: =INDEX([1]Problématiques_compétences!$D$3:$BA$118,MATCH([1]Progression_Cycle4!AL$4,[1]Problématiques_compétences!$D$3:$D$118,0),18) -> 0
B23: CT 3.2 | C23: Traduire, à l’aide d’outils de représentation numérique, des choix de solutions sous forme de croquis, de dessins ou de schémas. | D23: DIC.1.5 | E23: OTSCIS.2.2 | H23: =COUNTIF(I23:AL23,"x") -> 6 | I23: x | J23: =INDEX([1]Problématiques_compétences!$D$3:$BA$118,MATCH([1]Progression_Cycle4!J$4,[1]Problématiques_compétences!$D$3:$D$118,0),19) -> 0 | K23: =INDEX([1]Problématiques_compétences!$D$3:$BA$118,MATCH([1]Progression_Cycle4!K$4,[1]Problématiques_compétences!$D$3:$D$118,0),19) -> 0 | L23: =INDEX([1]Problématiques_compétences!$D$3:$BA$118,MATCH([1]Progression_Cycle4!L$4,[1]Problématiques_compétences!$D$3:$D$118,0),19) -> 0 | M23: =INDEX([1]Problématiques_compétences!$D$3:$BA$118,MATCH([1]Progression_Cycle4!M$4,[1]Problématiques_compétences!$D$3:$D$118,0),19) -> 0 | N23: x | O23: =INDEX([1]Problématiques_compétences!$D$3:$BA$118,MATCH([1]Progression_Cycle4!O$4,[1]Problématiques_compétences!$D$3:$D$118,0),19) -> 0 | P23: =INDEX([1]Problématiques_compétences!$D$3:$BA$118,MATCH([1]Progression_Cycle4!P$4,[1]Problématiques_compétences!$D$3:$D$118,0),19) -> 0 | S23: =INDEX([1]Problématiques_compétences!$D$3:$BA$118,MATCH([1]Progression_Cycle4!S$4,[1]Problématiques_compétences!$D$3:$D$118,0),19) -> 0 | T23: =INDEX([1]Problématiques_compétences!$D$3:$BA$118,MATCH([1]Progression_Cycle4!T$4,[1]Problématiques_compétences!$D$3:$D$118,0),19) -> 0 | U23: =INDEX([1]Problématiques_compétences!$D$3:$BA$118,MATCH([1]Progression_Cycle4!U$4,[1]Problématiques_compétences!$D$3:$D$118,0),19) -> 0 | V23: =INDEX([1]Problématiques_compétences!$D$3:$BA$118,MATCH([1]Progression_Cycle4!V$4,[1]Problématiques_compétences!$D$3:$D$118,0),19) -> 0 | W23: x | Y23: x | Z23: =INDEX([1]Problématiques_compétences!$D$3:$BA$118,MATCH([1]Progression_Cycle4!Z$4,[1]Problématiques_compétences!$D$3:$D$118,0),19) -> 0 | AA23: =INDEX([1]Problématiques_compétences!$D$3:$BA$118,MATCH([1]Progression_Cycle4!AA$4,[1]Problématiques_compétences!$D$3:$D$118,0),19) -> 0 | AB23: x | AC23: =INDEX([1]Problématiques_compétences!$D$3:$BA$118,MATCH([1]Progression_Cycle4!AC$4,[1]Problématiques_compétences!$D$3:$D$118,0),19) -> 0 | AD23: =INDEX([1]Problématiques_compétences!$D$3:$BA$118,MATCH([1]Progression_Cycle4!AD$4,[1]Problématiques_compétences!$D$3:$D$118,0),19) -> 0 | AE23: =INDEX([1]Problématiques_compétences!$D$3:$BA$118,MATCH([1]Progression_Cycle4!AE$4,[1]Problématiques_compétences!$D$3:$D$118,0),19) -> 0 | AF23: =INDEX([1]Problématiques_compétences!$D$3:$BA$118,MATCH([1]Progression_Cycle4!AF$4,[1]Problématiques_compétences!$D$3:$D$118,0),19) -> 0 | AG23: =INDEX([1]Problématiques_compétences!$D$3:$BA$118,MATCH([1]Progression_Cycle4!AG$4,[1]Problématiques_compétences!$D$3:$D$118,0),19) -> 0 | AH23: x | AI23: =INDEX([1]Problématiques_compétences!$D$3:$BA$118,MATCH([1]Progression_Cycle4!AI$4,[1]Problématiques_compétences!$D$3:$D$118,0),19) -> 0 | AJ23: =INDEX([1]Problématiques_compétences!$D$3:$BA$118,MATCH([1]Progression_Cycle4!AJ$4,[1]Problématiques_compétences!$D$3:$D$118,0),19) -> 0 | AK23: =INDEX([1]Problématiques_compétences!$D$3:$BA$118,MATCH([1]Progression_Cycle4!AK$4,[1]Problématiques_compétences!$D$3:$D$118,0),19) -> 0 | AL23: =INDEX([1]Problématiques_compétences!$D$3:$BA$118,MATCH([1]Progression_Cycle4!AL$4,[1]Problématiques_compétences!$D$3:$D$118,0),19) -> 0
B24: CT 3.3 | C24: Présenter à l’oral et à l’aide de supports numériques multimédia des solutions techniques au moment des revues de projet. | D24: DIC.1.7 | H24: =COUNTIF(I24:AL24,"x") -> 9 | I24: =INDEX([1]Problématiques_compétences!$D$3:$BA$118,MATCH([1]Progression_Cycle4!I$4,[1]Problématiques_compétences!$D$3:$D$118,0),20) -> 0 | J24: x | K24: =INDEX([1]Problématiques_compétences!$D$3:$BA$118,MATCH([1]Progression_Cycle4!K$4,[1]Problématiques_compétences!$D$3:$D$118,0),20) -> 0 | L24: =INDEX([1]Problématiques_compétences!$D$3:$BA$118,MATCH([1]Progression_Cycle4!L$4,[1]Problématiques_compétences!$D$3:$D$118,0),20) -> 0 | M24: =INDEX([1]Problématiques_compétences!$D$3:$BA$118,MATCH([1]Progression_Cycle4!M$4,[1]Problématiques_compétences!$D$3:$D$118,0),20) -> 0 | N24: =INDEX([1]Problématiques_compétences!$D$3:$BA$118,MATCH([1]Progression_Cycle4!N$4,[1]Problématiques_compétences!$D$3:$D$118,0),20) -> 0 | O24: =INDEX([1]Problématiques_compétences!$D$3:$BA$118,MATCH([1]Progression_Cycle4!O$4,[1]Problématiques_compétences!$D$3:$D$118,0),20) -> 0 | P24: x | R24: =INDEX([1]Problématiques_compétences!$D$3:$BA$118,MATCH([1]Progression_Cycle4!R$4,[1]Problématiques_compétences!$D$3:$D$118,0),20) -> 0 | S24: =INDEX([1]Problématiques_compétences!$D$3:$BA$118,MATCH([1]Progression_Cycle4!S$4,[1]Problématiques_compétences!$D$3:$D$118,0),20) -> 0 | T24: =INDEX([1]Problématiques_compétences!$D$3:$BA$118,MATCH([1]Progression_Cycle4!T$4,[1]Problématiques_compétences!$D$3:$D$118,0),20) -> x | U24: =INDEX([1]Problématiques_compétences!$D$3:$BA$118,MATCH([1]Progression_Cycle4!U$4,[1]Problématiques_compétences!$D$3:$D$118,0),20) -> 0 | V24: =INDEX([1]Problématiques_compétences!$D$3:$BA$118,MATCH([1]Progression_Cycle4!V$4,[1]Problématiques_compétences!$D$3:$D$118,0),20) -> 0 | W24: =INDEX([1]Problématiques_compétences!$D$3:$BA$118,MATCH([1]Progression_Cycle4!W$4,[1]Problématiques_compétences!$D$3:$D$118,0),20) -> 0 | X24: =INDEX([1]Problématiques_compétences!$D$3:$BA$118,MATCH([1]Progression_Cycle4!X$4,[1]Problématiques_compétences!$D$3:$D$118,0),20) -> 0 | Y24: x | Z24: =INDEX([1]Problématiques_compétences!$D$3:$BA$118,MATCH([1]Progression_Cycle4!Z$4,[1]Problématiques_compétences!$D$3:$D$118,0),20) -> 0 | AA24: =INDEX([1]Problématiques_compétences!$D$3:$BA$118,MATCH([1]Progression_Cycle4!AA$4,[1]Problématiques_compétences!$D$3:$D$118,0),20) -> 0 | AB24: x | AC24: x | AD24: x | AE24: =INDEX([1]Problématiques_compétences!$D$3:$BA$118,MATCH([1]Progression_Cycle4!AE$4,[1]Problématiques_compétences!$D$3:$D$118,0),20) -> 0 | AF24: x | AG24: =INDEX([1]Problématiques_compétences!$D$3:$BA$118,MATCH([1]Progression_Cycle4!AG$4,[1]Problématiques_compétences!$D$3:$D$118,0),20) -> 0 | AH24: x | AI24: =INDEX([1]Problématiques_compétences!$D$3:$BA$118,MATCH([1]Progression_Cycle4!AI$4,[1]Problématiques_compétences!$D$3:$D$118,0),20) -> 0 | AJ24: =INDEX([1]Problématiques_compétences!$D$3:$BA$118,MATCH([1]Progression_Cycle4!AJ$4,[1]Problématiques_compétences!$D$3:$D$118,0),20) -> 0 | AK24: =INDEX([1]Problématiques_compétences!$D$3:$BA$118,MATCH([1]Progression_Cycle4!AK$4,[1]Problématiques_compétences!$D$3:$D$118,0),20) -> 0 | AL24: =INDEX([1]Problématiques_compétences!$D$3:$BA$118,MATCH([1]Progression_Cycle4!AL$4,[1]Problématiques_compétences!$D$3:$D$118,0),20) -> 0
A25: 1 - les langages pour penser et communiquer | B25: 4 | C25: Pratiquer des langages
B26: CT 4.1 | C26: Décrire, en utilisant les outils et langages de descriptions adaptés, la structure et le comportement des objets. | E26: OTSCIS.1.4 | F26: MSOST.1.5 | H26: =COUNTIF(I26:AL26,"x") -> 2 | I26: =INDEX([1]Problématiques_compétences!$D$3:$BA$118,MATCH([1]Progression_Cycle4!I$4,[1]Problématiques_compétences!$D$3:$D$118,0),21) -> 0 | J26: =INDEX([1]Problématiques_compétences!$D$3:$BA$118,MATCH([1]Progression_Cycle4!J$4,[1]Problématiques_compétences!$D$3:$D$118,0),21) -> 0 | K26: =INDEX([1]Problématiques_compétences!$D$3:$BA$118,MATCH([1]Progression_Cycle4!K$4,[1]Problématiques_compétences!$D$3:$D$118,0),21) -> 0 | L26: =INDEX([1]Problématiques_compétences!$D$3:$BA$118,MATCH([1]Progression_Cycle4!L$4,[1]Problématiques_compétences!$D$3:$D$118,0),21) -> 0 | M26: =INDEX([1]Problématiques_compétences!$D$3:$BA$118,MATCH([1]Progression_Cycle4!M$4,[1]Problématiques_compétences!$D$3:$D$118,0),21) -> 0 | N26: =INDEX([1]Problématiques_compétences!$D$3:$BA$118,MATCH([1]Progression_Cycle4!N$4,[1]Problématiques_compétences!$D$3:$D$118,0),21) -> 0 | O26: =INDEX([1]Problématiques_compétences!$D$3:$BA$118,MATCH([1]Progression_Cycle4!O$4,[1]Problématiques_compétences!$D$3:$D$118,0),21) -> 0 | Q26: =INDEX([1]Problématiques_compétences!$D$3:$BA$118,MATCH([1]Progression_Cycle4!Q$4,[1]Problématiques_compétences!$D$3:$D$118,0),21) -> 0 | R26: =INDEX([1]Problématiques_compétences!$D$3:$BA$118,MATCH([1]Progression_Cycle4!R$4,[1]Problématiques_compétences!$D$3:$D$118,0),21) -> 0 | U26: =INDEX([1]Problématiques_compétences!$D$3:$BA$118,MATCH([1]Progression_Cycle4!U$4,[1]Problématiques_compétences!$D$3:$D$118,0),21) -> 0 | V26: =INDEX([1]Problématiques_compétences!$D$3:$BA$118,MATCH([1]Progression_Cycle4!V$4,[1]Problématiques_compétences!$D$3:$D$118,0),21) -> 0 | X26: =INDEX([1]Problématiques_compétences!$D$3:$BA$118,MATCH([1]Progression_Cycle4!X$4,[1]Problématiques_compétences!$D$3:$D$118,0),21) -> 0 | Y26: =INDEX([1]Problématiques_compétences!$D$3:$BA$118,MATCH([1]Progression_Cycle4!Y$4,[1]Problématiques_compétences!$D$3:$D$118,0),21) -> 0 | Z26: =INDEX([1]Problématiques_compétences!$D$3:$BA$118,MATCH([1]Progression_Cycle4!Z$4,[1]Problématiques_compétences!$D$3:$D$118,0),21) -> 0 | AA26: x | AB26: =INDEX([1]Problématiques_compétences!$D$3:$BA$118,MATCH([1]Progression_Cycle4!AB$4,[1]Problématiques_compétences!$D$3:$D$118,0),21) -> 0 | AD26: =INDEX([1]Problématiques_compétences!$D$3:$BA$118,MATCH([1]Progression_Cycle4!AD$4,[1]Problématiques_compétences!$D$3:$D$118,0),21) -> 0 | AE26: =INDEX([1]Problématiques_compétences!$D$3:$BA$118,MATCH([1]Progression_Cycle4!AE$4,[1]Problématiques_compétences!$D$3:$D$118,0),21) -> 0 | AF26: =INDEX([1]Problématiques_compétences!$D$3:$BA$118,MATCH([1]Progression_Cycle4!AF$4,[1]Problématiques_compétences!$D$3:$D$118,0),21) -> 0 | AH26: x | AI26: =INDEX([1]Problématiques_compétences!$D$3:$BA$118,MATCH([1]Progression_Cycle4!AI$4,[1]Problématiques_compétences!$D$3:$D$118,0),21) -> 0 | AJ26: =INDEX([1]Problématiques_compétences!$D$3:$BA$118,MATCH([1]Progression_Cycle4!AJ$4,[1]Problématiques_compétences!$D$3:$D$118,0),21) -> 0 | AK26: =INDEX([1]Problématiques_compétences!$D$3:$BA$118,MATCH([1]Progression_Cycle4!AK$4,[1]Problématiques_compétences!$D$3:$D$118,0),21) -> 0 | AL26: =INDEX([1]Problématiques_compétences!$D$3:$BA$118,MATCH([1]Progression_Cycle4!AL$4,[1]Problématiques_compétences!$D$3:$D$118,0),21) -> 0
B27: CT 4.2 | C27: Appliquer les principes élémentaires de l’algorithmique et du codage à la résolution d’un problème simple. | G27: IP.2.3 | H27: =COUNTIF(I27:AL27,"x") -> 2 | I27: =INDEX([1]Problématiques_compétences!$D$3:$BA$118,MATCH([1]Progression_Cycle4!I$4,[1]Problématiques_compétences!$D$3:$D$118,0),22) -> 0 | J27: =INDEX([1]Problématiques_compétences!$D$3:$BA$118,MATCH([1]Progression_Cycle4!J$4,[1]Problématiques_compétences!$D$3:$D$118,0),22) -> 0 | L27: =INDEX([1]Problématiques_compétences!$D$3:$BA$118,MATCH([1]Progression_Cycle4!L$4,[1]Problématiques_compétences!$D$3:$D$118,0),22) -> 0 | M27: =INDEX([1]Problématiques_compétences!$D$3:$BA$118,MATCH([1]Progression_Cycle4!M$4,[1]Problématiques_compétences!$D$3:$D$118,0),22) -> 0 | N27: =INDEX([1]Problématiques_compétences!$D$3:$BA$118,MATCH([1]Progression_Cycle4!N$4,[1]Problématiques_compétences!$D$3:$D$118,0),22) -> 0 | O27: =INDEX([1]Problématiques_compétences!$D$3:$BA$118,MATCH([1]Progression_Cycle4!O$4,[1]Problématiques_compétences!$D$3:$D$118,0),22) -> 0 | Q27: =INDEX([1]Problématiques_compétences!$D$3:$BA$118,MATCH([1]Progression_Cycle4!Q$4,[1]Problématiques_compétences!$D$3:$D$118,0),22) -> 0 | R27: =INDEX([1]Problématiques_compétences!$D$3:$BA$118,MATCH([1]Progression_Cycle4!R$4,[1]Problématiques_compétences!$D$3:$D$118,0),22) -> 0 | T27: =INDEX([1]Problématiques_compétences!$D$3:$BA$118,MATCH([1]Progression_Cycle4!T$4,[1]Problématiques_compétences!$D$3:$D$118,0),22) -> 0 | U27: =INDEX([1]Problématiques_compétences!$D$3:$BA$118,MATCH([1]Progression_Cycle4!U$4,[1]Problématiques_compétences!$D$3:$D$118,0),22) -> 0 | V27: x | W27: =INDEX([1]Problématiques_compétences!$D$3:$BA$118,MATCH([1]Progression_Cycle4!W$4,[1]Problématiques_compétences!$D$3:$D$118,0),22) -> 0 | X27: =INDEX([1]Problématiques_compétences!$D$3:$BA$118,MATCH([1]Progression_Cycle4!X$4,[1]Problématiques_compétences!$D$3:$D$118,0),22) -> 0 | Y27: =INDEX([1]Problématiques_compétences!$D$3:$BA$118,MATCH([1]Progression_Cycle4!Y$4,[1]Problématiques_compétences!$D$3:$D$118,0),22) -> 0 | Z27: =INDEX([1]Problématiques_compétences!$D$3:$BA$118,MATCH([1]Progression_Cycle4!Z$4,[1]Problématiques_compétences!$D$3:$D$118,0),22) -> 0 | AA27: =INDEX([1]Problématiques_compétences!$D$3:$BA$118,MATCH([1]Progression_Cycle4!AA$4,[1]Problématiques_compétences!$D$3:$D$118,0),22) -> 0 | AB27: =INDEX([1]Problématiques_compétences!$D$3:$BA$118,MATCH([1]Progression_Cycle4!AB$4,[1]Problématiques_compétences!$D$3:$D$118,0),22) -> 0 | AC27: =INDEX([1]Problématiques_compétences!$D$3:$BA$118,MATCH([1]Progression_Cycle4!AC$4,[1]Problématiques_compétences!$D$3:$D$118,0),22) -> 0 | AD27: =INDEX([1]Problématiques_compétences!$D$3:$BA$118,MATCH([1]Progression_Cycle4!AD$4,[1]Problématiques_compétences!$D$3:$D$118,0),22) -> 0 | ... AJ27: =INDEX([1]Problématiques_compétences!$D$3:$BA$118,MATCH([1]Progression_Cycle4!AJ$4,[1]Problématiques_compétences!$D$3:$D$118,0),22) -> 0 | AL27: =INDEX([1]Problématiques_compétences!$D$3:$BA$118,MATCH([1]Progression_Cycle4!AL$4,[1]Problématiques_compétences!$D$3:$D$118,0),22) -> 0
A28: 2 - les méthodes et outils pour apprendre | B28: 5 | C28: Mobiliser des outils numériques
