Workbook

Sheet Programme 6ème CT
B4: CT1 | C4: Pratiquer des démarches scientifiques et technologiques
A5: Pratiquer des démarches scientifiques et technologiques | B5: CT1.1 | C5: formuler une question ou une problématique scientifique ou technologique simple
B6: CT1.2 | C6: proposer une ou des hypothèses pour répondre à une question ou un problème
B7: CT1.3 | C7: proposer des expériences simples pour tester une hypothèse
B8: CT1.4 | C8: interpréter un résultat, en tirer une conclusion
B9: CT1.5 | C9: formaliser une partie de sa recherche sous une forme écrite ou orale.
B10: CT2 | C10: Concevoir, créer, réaliser
A11: Concevoir, créer, réaliser | B11: CT2.1 | C11: Identifier les évolutions des besoins et des objets techniques dans leur contexte.
B12: CT2.2 | C12: Identifier les principales familles de matériaux.
B13: CT2.3 | C13: Décrire le fonctionnement d’objets techniques, leurs fonctions et leurs composants.
B14: CT2.4 | C14: Réaliser en équipe tout ou une partie d’un objet technique répondant à un besoin.
B15: CT2.5 | C15: Repérer et comprendre la communication et la gestion de l’information.
B16: CT3 | C16: S'approprier des outils et des méthodes
A17: S’approprier des outils et des méthodes | B17: CT3.1 | C17: Choisir ou utiliser le matériel adapté pour mener une observation, effectuer une mesure, réaliser une expérience ou une production.
B18: CT3.2 | C18: Faire le lien entre la mesure réalisée, les unités et l’outil utilisés.
B19: CT3.3 | C19: Garder une trace écrite ou numérique des recherches, des observations et des expériences réalisées.
B20: CT3.4 | C20: Organiser seul ou en groupe un espace de réalisation expérimentale.
B21: CT3.5 | C21: Effectuer des recherches bibliographiques simples et ciblées. Extraire les informations pertinentes d’un document et les mettre en relation pour répondre à une question.
B22: CT3.6 | C22: Utiliser les outils mathématiques adaptés.
B23: CT4 | C23: Pratiquer des langages
A24: Pratiquer des langages | B24: CT4.1 | C24: Rendre compte des observations, expériences, hypothèses, conclusions en utilisant un vocabulaire précis.
B25: CT4.2 | C25: Exploiter un document constitué de divers supports (texte, schéma, graphique, tableau, algorithme simple).
B26: CT4.3 | C26: Utiliser différents modes de représentation formalisés (schéma, dessin, croquis, tableau, graphique, texte).
B27: CT4.4 | C27: Expliquer un phénomène à l’oral et à l’écrit.
B28: CT5 | C28: Mobiliser des outils numériques
B29: CT5.1 | C29: Communiquer des résultats ;
B30: CT5.2 | C30: Traiter des données ;
B31: CT5.3 | C31: Simuler des phénomènes
A32: Mobiliser des outils numériques | B32: CT5.4 | C32: Représenter des objets techniques.
B33: CT5.5 | C33: Identifier des sources d’informations fiables.
B34: CT6 | C34: Adopter un comportement éthique et responsable
A35: Adopter un comportement éthique et responsable | B35: CT6.1 | C35: Relier des connaissances acquises en sciences et technologie à des questions de santé, de sécurité et d’environnement.
B36: CT6.2 | C36: Mettre en oeuvre une action responsable et citoyenne, individuellement ou collectivement, en et hors milieu scolaire, et en témoigner.
B37: CT7 | C37: Se situer dans l'espace et dans le temps
A38: Se situer dans l’espace et dans le temps | B38: CT7.1 | C38: Replacer des évolutions scientifiques et technologiques dans un contexte historique, géographique, économique et culturel.
B39: CT7.2 | C39: Se situer dans l’environnement et maitriser les notions d’échelle.
A42: Décrire les états et la constitution de la matière à l’échelle macroscopique | B42: MMEI.1.1 | C42: Mettre en œuvre des observations et des expériences pour caractériser un échantillon de matière.
B43: MMEI.1.2 | C43: Identifier à partir de ressources documentaires les différents constituants d'un mélange.
B44: MMEI.1.3 | C44: Mettre en œuvre un protocole de séparation de constituants d'un mélange.
A45: Observer et décrire différents types de mouvements | B45: MMEI.2.1 | C45: Décrire un mouvement et identifier les différences entre mouvements circulaire et rectiligne
A46: Identifier différentes sources d'énergie et connaître quelques conversions d'énergie. | B46: MMEI.3.1 | C46: Identifier les sources d'énergie et des formes
B47: MMEI.3.2 | C47: Reconnaitre les situations où l'énergie est stockée, transformée, utilisée
A48: Identifier un signal et une information. | B48: MMEI.4.1 | C48: Identifier différentes formes de signaux (sonores, lumineux, radio…).
A49: Situer la Terre dans le système solaire et caractériser les conditions de la vie terrestre | B49: PTAHE.1.1.1 | C49: Le soleil, les planètes, les exoplanètes.
B50: PTAHE.1.1.2 | C50: Position de la Terre dans le système solaire

Sheet CT
H1: Progression du cycle
H2: =IF(MATCH([1]Progression_Cycle4!I4,[1]Problématiques_compétences!$D$1:$D$118,0)>107,"P","") | I2: =IF(MATCH([1]Progression_Cycle4!J4,[1]Problématiques_compétences!$D$1:$D$118,0)>107,"P","") | J2: =IF(MATCH([1]Progression_Cycle4!K4,[1]Problématiques_compétences!$D$1:$D$118,0)>107,"P","") | K2: =IF(MATCH([1]Progression_Cycle4!L4,[1]Problématiques_compétences!$D$1:$D$118,0)>107,"P","") | L2: =IF(MATCH([1]Progression_Cycle4!M4,[1]Problématiques_compétences!$D$1:$D$118,0)>107,"P","") -> P | M2: =IF(MATCH([1]Progression_Cycle4!N4,[1]Problématiques_compétences!$D$1:$D$118,0)>107,"P","") -> P | N2: =IF(MATCH([1]Progression_Cycle4!O4,[1]Problématiques_compétences!$D$1:$D$118,0)>107,"P","")
A3: Progression pédagogique technologie cycle 3 BENMRAD | D3: Matière, mouvement, énergie, information | E3: Matériaux et objets techniques | F3: La planète Terre, l'action humaine sur son environnement | G3: Nombre d'itérations de la compétence | H3: Le système solaire | I3: Les différents constituants | J3: Découverte des moyens de transports et principe de fonctionnement de la navette Challenger | K3: Gestion des besoins en énergie | L3: Choix des matériaux | M3: Colonisation sur Mars | N3: Fabrication du Tractor solaire
A4: Repère séquence | H4: S1 | I4: S2 | J4: S3 | K4: S4 | L4: S5 | M4: S6 | N4: S7
A5: Répartition sur le cycle
A6: Lien avec les enseignements pratiques interdisciplinaires (EPI)
A7: Domaines du socle | B7: Compétences travaillées | D7: Compétences du programme par thématique
A8: 4 - les systèmes naturels et les systèmes techniques | B8: 1 | C8: Pratiquer des démarches scientifiques et technologiques
B9: CT 1.1 | C9: formuler une question ou une problématique scientifique ou technologique simple | G9: =COUNTIF(H9:N9,"x") -> 2 | J9: x | L9: x
B10: CT 1.2 | C10: proposer une ou des hypothèses pour répondre à une question ou un problème | G10: =COUNTIF(H10:N10,"x") -> 2 | J10: x | L10: x
B11: CT 1.3 | C11: proposer des expériences simples pour tester une hypothèse | G11: =COUNTIF(H11:N11,"x") -> 2 | J11: x | L11: x
B12: CT 1.4 | C12: interpréter un résultat, en tirer une conclusion | G12: =COUNTIF(H12:N12,"x") -> 2 | J12: x | L12: x
B13: CT 1.5 | C13: formaliser une partie de sa recherche sous une forme écrite ou orale. | G13: =COUNTIF(H13:N13,"x") -> 2 | J13: x | L13: x
A14: 4 - les systèmes naturels et les systèmes techniques. 5 - les représentations du monde et l'activité humaine | B14: 2 | C14: Concevoir, créer, réaliser
B15: CT 2.1 | C15: Identifier les évolutions des besoins et des objets techniques dans leur contexte. | E15: MOT1.1 | G15: =COUNTIF(H15:N15,"x") -> 1 | J15: x
B16: CT 2.2 | C16: Identifier les principales familles de matériaux. | E16: MOT3.1 | G16: =COUNTIF(H16:N16,"x") -> 2 | J16: x | L16: x
B17: CT 2.3 | C17: Décrire le fonctionnement d’objets techniques, leurs fonctions et leurs composants. | E17: MOT2.1 | G17: =COUNTIF(H17:N17,"x") -> 1 | J17: x
B18: CT 2.4 | C18: Réaliser en équipe tout ou une partie d’un objet technique répondant à un besoin. | E18: MOT4.1 | G18: =COUNTIF(H18:N18,"x") -> 2 | H18: x | M18: x
B19: CT 2.5 | C19: Repérer et comprendre la communication et la gestion de l’information. | E19: MOT5.1 | G19: =COUNTIF(H19:N19,"x") -> 2 | J19: x | M19: x
A20: 2 - les méthodes et outils pour apprendre | B20: 3 | C20: S’approprier des outils et des méthodes
B21: CT 3.1 | C21: Choisir ou utiliser le matériel adapté pour mener une observation, effectuer une mesure, réaliser une expérience ou une production. | E21: MOT.4.1.1.7 | G21: =COUNTIF(H21:N21,"x") -> 1 | H21: x
B22: CT 3.2 | C22: Faire le lien entre la mesure réalisée, les unités et l’outil utilisés. | G22: =COUNTIF(H22:N22,"x") -> 1 | H22: x
B23: CT 3.3 | C23: Garder une trace écrite ou numérique des recherches, des observations et des expériences réalisées. | G23: =COUNTIF(H23:N23,"x") -> 1 | L23: x
B24: CT 3.4 | C24: Organiser seul ou en groupe un espace de réalisation expérimentale. | G24: =COUNTIF(H24:N24,"x") -> 1 | M24: x
B25: CT 3.5 | C25: Effectuer des recherches bibliographiques simples et ciblées. Extraire les informations pertinentes d’un document et les mettre en relation pour répondre à une question. | G25: =COUNTIF(H25:N25,"x") -> 1 | L25: x
B26: CT 3.6 | C26: Utiliser les outils mathématiques adaptés. | G26: =COUNTIF(H26:N26,"x") -> 1 | H26: x
A27: 1 - les langages pour penser et communiquer | B27: 4 | C27: Pratiquer des langages
B28: CT 4.1 | C28: Rendre compte des observations, expériences, hypothèses, conclusions en utilisant un vocabulaire précis. | G28: =COUNTIF(H28:N28,"x") -> 1 | J28: x
B29: CT 4.2 | C29: Exploiter un document constitué de divers supports (texte, schéma, graphique, tableau, algorithme simple). | G29: =COUNTIF(H29:N29,"x") -> 1 | J29: x
B30: CT 4.3 | C30: Utiliser différents modes de représentation formalisés (schéma, dessin, croquis, tableau, graphique, texte). | G30: =COUNTIF(H30:N30,"x") -> 1 | J30: x
B31: CT 4.4 | C31: Expliquer un phénomène à l’oral et à l’écrit. | G31: =COUNTIF(H31:N31,"x") -> 1 | J31: x
A32: 5 - les représentations du monde et l'activité humaine | B32: 5 | C32: Mobiliser des outils numériques
B33: CT 5.1 | C33: Communiquer des résultats ; | G33: =COUNTIF(H33:N33,"x") -> 2 | J33: x | K33: x
B34: CT 5.2 | C34: Traiter des données ; | G34: =COUNTIF(H34:N34,"x") -> 1 | K34: x
B35: CT 5.3 | C35: Simuler des phénomènes | G35: =COUNTIF(H35:N35,"x") -> 1 | K35: x
B36: CT 5.4 | C36: Représenter des objets techniques. | G36: =COUNTIF(H36:N36,"x") -> 1 | K36: x
B37: CT 5.5 | C37: Identifier des sources d’informations fiables. | G37: =COUNTIF(H37:N37,"x") -> 1 | I37: x
A38: 3 - la formation de la personne et du citoyen | B38: 6 | C38: Adopter un comportement éthique et responsable
A39: 5 - les représentations du monde et l'activité humaine | B39: CT 6.1 | C39: Relier des connaissances acquises en sciences et technologie à des questions de santé, de sécurité et d’environnement. | G39: =COUNTIF(H39:N39,"x") -> 1 | M39: x
B40: CT 6.2 | C40: Mettre en oeuvre une action responsable et citoyenne, individuellement ou collectivement, en et hors milieu scolaire, et en témoigner. | G40: =COUNTIF(H40:N40,"x") -> 1 | M40: x
A41: 5 - les représentations du monde et l'activité humaine | B41: 7 | C41: Se situer dans l’espace et dans le temps
B42: CT 7.1 | C42: Replacer des évolutions scientifiques et technologiques dans un contexte historique, géographique, économique et culturel. | G42: =COUNTIF(H42:N42,"x") -> 1 | J42: x
B43: CT 7.2 | C43: Se situer dans l’environnement et maitriser les notions d’échelle. | G43: =COUNTIF(H43:N43,"x") -> 1 | H43: x
B45: MMEI.1.1 | C45: Mettre en œuvre des observations et des expériences pour caractériser un échantillon de matière. | G45: =COUNTIF(H45:N45,"x") -> 2 | I45: x | M45: x
B46: MMEI.1.2 | C46: Identifier à partir de ressources documentaires les différents constituants d'un mélange. | G46: =COUNTIF(H46:N46,"x") -> 1 | M46: x
B47: MMEI.1.3 | C47: Mettre en œuvre un protocole de séparation de constituants d'un mélange. | G47: =COUNTIF(H47:N47,"x") -> 1 | M47: x
B48: MMEI.2.1 | C48: Décrire un mouvement et identifier les différences entre mouvements circulaire et rectiligne | G48: =COUNTIF(H48:N48,"x") -> 1 | H48: x
B49: MMEI.3.1 | C49: Identifier les sources d'énergie et des formes | G49: =COUNTIF(H49:N49,"x") -> 1 | J49: x
B50: MMEI.3.2 | C50: Reconnaitre les situations où l'énergie est stockée, transformée, utilisée | G50: =COUNTIF(H50:N50,"x") -> 1 | J50: x
B51: MMEI.4.1 | C51: Identifier différentes formes de signaux (sonores, lumineux, radio…). | G51: =COUNTIF(H51:N51,"x") -> 2 | M51: x | N51: x
B52: PTAHE.1.1 | C52: Situer la Terre dans le système solaire | G52: =COUNTIF(H52:N52,"x") -> 1 | H52: x
B53: PTAHE1.2 | C53: Caractériser les conditions de la vie terrestre (T°, présence d'eau liquide) | G53: =COUNTIF(H53:N53,"x") -> 0

Sheet Thématiques
C2: Thématiques | D2: →
C3: Matière, mouvement, énergie, information
C4: Attendus de fin de cycle
C5: Décrire les états et la constitution de la matière à l'échelle macroscopique.
C6: Observer et décrire différents types de mouvements
C7: Identifier différentes sources d'énergie et connaître quelques conversions d'énergie.
C8: Identifier un signal et une information
C9: Compétences | E9: Connaissances
B10: MMEI.1 | C10: Décrire les états et la constitution de la matière à l'échelle macroscopique.
B11: MMEI.1.1 | C11: Mettre en œuvre des observations et des expériences pour caractériser un échantillon de matière. | D11: MMEI.1.1.1 | E11: Diversité de la matière, état physique, propriétés… | F11: →
B12: MMEI.1.2 | C12: Identifier à partir de ressources documentaires les différents constituants d'un mélange.
B13: MMEI.1.3 | C13: Mettre en œuvre un protocole de séparation de constituants d'un mélange. | D13: MMEI.1.3.1 | E13: Changements d'états, mélanges, dissolution.
D14: MMEI.1.3.2 | E14: Constituants de différents mélanges.
B15: MMEI.2 | C15: Observer et décrire différents types de mouvements
B16: MMEI.2.1 | C16: Décrire un mouvement et identifier les différences entre mouvements circulaire et rectiligne | D16: MMEI.2.1.1 | E16: Vitesse, ordres de grandeurs
D17: MMEI.2.1.2 | E17: Rectiligne, circulaire
D18: MMEI.2.1.3 | E18: Accélération, décélération
B19: MMEI.3 | C19: Identifier différentes sources d'énergie et connaître quelques conversions d'énergie.
B20: MMEI.3.1 | C20: Identifier les sources d'énergie et des formes | D20: MMEI.3.1.1 | E20: conservation de l'énergie
D21: MMEI.3.1.2 | E21: Mouvement associé
B22: MMEI.3.2 | C22: Reconnaitre les situations où l'énergie est stockée, transformée, utilisée | D22: MMEI.3.2.1 | E22: Sources d'énergie
D23: MMEI.3.2.2 | E23: Energie renouvelable
D24: MMEI.3.2.3 | E24: Chaînes d'énergie
D25: MMEI.3.2.4 | E25: Economie d'énergie
B26: MMEI.4 | C26: Identifier un signal et une information.
B27: MMEI.4.1 | C27: Identifier différentes formes de signaux (sonores, lumineux, radio…). | D27: MMEI.4.1.1 | E27: Nature du signal et d'une information
C29: Matériaux et objets techniques
C30: Attendus de fin de cycle
C32: Identifier les principales évolutions du besoin et des objets.
C33: Décrire le fonctionnement d'objets techniques, leurs fonctions et leurs constitutions
C34: Identifier les principales familles de matériaux.
C35: Rechercher et réaliser tout ou partie d'un objet technique en équipe pour traduire une solution technologique répondant à un besoin.
C36: Repérer et comprendre la communication et la gestion de l'information.
C38: Compétences | E38: Connaissances
B39: MOT.1 | C39: Identifier les principales évolutions du besoin et des objets. | F39: →
B40: MOT.1.1 | C40: Repérer les évolutions d'un objets dans différents contextes(historique, économique, culturel). | D40: MOT.1.1.1 | E40: Evolution technologique (innovation, invention, principe technique)
D41: MOT.1.1.2 | E41: Evolution des besoins
B42: MOT.2 | C42: Décrire le fonctionnement d'objets techniques, leurs fonctions et leurs constitutions
B43: MOT.2.1 | D43: MOT2.1.1 | E43: Besoin, FU,FE
D44: MOT2.1.2 | E44: FT,ST
D45: MOT2.1.3 | E45: Croquis, shémas
D46: MOT2.1.4 | E46: Comparaison des ST
B47: MOT.3.1 | C47: Identifier les principales familles de matériaux.
D48: MOT.3.1.1 | E48: Familles des matériaux
D49: MOT.3.1.2 | E49: Caractéristiques et propriétés(aptitude au façonnage..)
D50: MOT.3.1.3 | E50: Impact environnemental
B51: MOT.4.1 | C51: Rechercher et réaliser tout ou partie d'un objet technique en équipe pour traduire une solution technologique répondant à un besoin.
D52: MOT.4.1.1.1 | E52: Notion de contrainte
D53: MOT.4.1.1.2 | E53: Recherche d'dées (schémas, croquis, choix des matérieux et moyens de réalisation
D54: MOT.4.1.1.3 | E54: Modélisation
D55: MOT.4.1.1.4 | E55: Processus, planning, procédés de réalisation (outils, machines)
D56: MOT.4.1.1.5 | E56: Choix des matériaux
D57: MOT.4.1.1.6 | E57: Maquette, prototype.
D58: MOT.4.1.1.7 | E58: Vérifications et contrôles(dimensions, fonctionnement)
B59: MOT.5.1 | C59: Repérer et comprendre la communication et la gestion de l'information.
D60: MOT.5.1.1.1 | E60: ENT
D61: MOT.5.1.1.2 | E61: Stockage des données, notions d'algoritmes, objets programmables
D62: MOT.5.1.1.3 | E62: Réseau
D63: MOT.5.1.1.4 | E63: Usage de logiciels usuels
C64: La planète Terre, l'action humaine sur son environnement
C65: Attendus de fin de cycle
C66: Situer la Terre dans le système solaire et caractériser les conditions de la vie terrestre
C67: Identifier des enjeux liés à,l'environnement.
C68: Compétences | E68: Connaissances
B69: PTAHE.1 | C69: Situer la Terre dans le système solaire et caractériser les conditions de la vie terrestre | F69: →
B70: PTAHE.1.1 | C70: Situer la Terre dans le système solaire
B71: PTAHE1.2 | C71: Caractériser les conditions de la vie terrestre (T°, présence d'eau liquide) | D71: PTAHE.1.1.1 | E71: Le soleil, les planètes, les exoplanètes.
D72: PTAHE.1.1.2 | E72: Position de la Terre dans le système solaire
